BEGIN:VCALENDAR
VERSION:2.0
PRODID:-//What To Do - ECPv6.15.20//NONSGML v1.0//EN
CALSCALE:GREGORIAN
METHOD:PUBLISH
X-ORIGINAL-URL:https://www.whattododigital.com
X-WR-CALDESC:Events for What To Do
REFRESH-INTERVAL;VALUE=DURATION:PT1H
X-Robots-Tag:noindex
X-PUBLISHED-TTL:PT1H
BEGIN:VTIMEZONE
TZID:America/New_York
BEGIN:DAYLIGHT
TZOFFSETFROM:-0500
TZOFFSETTO:-0400
TZNAME:EDT
DTSTART:20250309T070000
END:DAYLIGHT
BEGIN:STANDARD
TZOFFSETFROM:-0400
TZOFFSETTO:-0500
TZNAME:EST
DTSTART:20251102T060000
END:STANDARD
BEGIN:DAYLIGHT
TZOFFSETFROM:-0500
TZOFFSETTO:-0400
TZNAME:EDT
DTSTART:20260308T070000
END:DAYLIGHT
BEGIN:STANDARD
TZOFFSETFROM:-0400
TZOFFSETTO:-0500
TZNAME:EST
DTSTART:20261101T060000
END:STANDARD
BEGIN:DAYLIGHT
TZOFFSETFROM:-0500
TZOFFSETTO:-0400
TZNAME:EDT
DTSTART:20270314T070000
END:DAYLIGHT
BEGIN:STANDARD
TZOFFSETFROM:-0400
TZOFFSETTO:-0500
TZNAME:EST
DTSTART:20271107T060000
END:STANDARD
END:VTIMEZONE
BEGIN:VEVENT
DTSTART;VALUE=DATE:20260109
DTEND;VALUE=DATE:20260110
DTSTAMP:20260423T215045
CREATED:20260106T160856Z
LAST-MODIFIED:20260106T214216Z
UID:93277-1767916800-1768003199@www.whattododigital.com
SUMMARY:Jacob Burns Film Center: The Choral Opens
DESCRIPTION:Jacob Burns Film Center: The Choral Opens \n1916. As war rages on the Western Front\, the Choral Society in Ramsden\, Yorkshire has lost most of its men to the army. The Choral’s ambitious committee\, determined to press ahead\, decides to recruit local young males to swell their ranks. They must also engage a new chorus master\, and despite their suspicions that he has something to hide\, their best bet seems to be Dr. Henry Guthrie (Ralph Fiennes) – driven\, uncompromising\, and recently returned from a career in Germany. As conscription papers start to arrive\, the whole community discovers that the best response to the chaos that is laying waste to their lives is to make music together. \nCheck for further dates and times. \nJacob Burns Film Center
URL:https://www.whattododigital.com/event/jacob-burns-film-center-the-choral-opens/
LOCATION:Jacob Burns Film Center
CATEGORIES:Movies
ATTACH;FMTTYPE=image/jpeg:https://www.whattododigital.com/wp-content/uploads/2026/01/BPH_The-Choral.jpeg
END:VEVENT
END:VCALENDAR