BEGIN:VCALENDAR
VERSION:2.0
PRODID:-//What To Do - ECPv6.15.20//NONSGML v1.0//EN
CALSCALE:GREGORIAN
METHOD:PUBLISH
X-WR-CALNAME:What To Do
X-ORIGINAL-URL:https://www.whattododigital.com
X-WR-CALDESC:Events for What To Do
REFRESH-INTERVAL;VALUE=DURATION:PT1H
X-Robots-Tag:noindex
X-PUBLISHED-TTL:PT1H
BEGIN:VTIMEZONE
TZID:America/New_York
BEGIN:DAYLIGHT
TZOFFSETFROM:-0500
TZOFFSETTO:-0400
TZNAME:EDT
DTSTART:20240310T070000
END:DAYLIGHT
BEGIN:STANDARD
TZOFFSETFROM:-0400
TZOFFSETTO:-0500
TZNAME:EST
DTSTART:20241103T060000
END:STANDARD
BEGIN:DAYLIGHT
TZOFFSETFROM:-0500
TZOFFSETTO:-0400
TZNAME:EDT
DTSTART:20250309T070000
END:DAYLIGHT
BEGIN:STANDARD
TZOFFSETFROM:-0400
TZOFFSETTO:-0500
TZNAME:EST
DTSTART:20251102T060000
END:STANDARD
BEGIN:DAYLIGHT
TZOFFSETFROM:-0500
TZOFFSETTO:-0400
TZNAME:EDT
DTSTART:20260308T070000
END:DAYLIGHT
BEGIN:STANDARD
TZOFFSETFROM:-0400
TZOFFSETTO:-0500
TZNAME:EST
DTSTART:20261101T060000
END:STANDARD
END:VTIMEZONE
BEGIN:VEVENT
DTSTART;TZID=America/New_York:20251205T203000
DTEND;TZID=America/New_York:20251205T203000
DTSTAMP:20260423T132818
CREATED:20251121T223537Z
LAST-MODIFIED:20251121T223537Z
UID:92534-1764966600-1764966600@www.whattododigital.com
SUMMARY:Candlelight Concerts: Coldplay & Imagine Dragons
DESCRIPTION:Candlelight Concerts: Coldplay & Imagine Dragons \nThe Highline String Quartet performs the works of Coldplay and Imagine Dragons on strings. Featuring “Viva La Vida\,” “Radioactive\,” and more. \nCandlelight Concerts
URL:https://www.whattododigital.com/event/candlelight-concerts-coldplay-imagine-dragons-2/
LOCATION:St. Marks Episcopal Church\, 85 E Main St.\, Mount Kisco\, NY\, 10549\, United States
CATEGORIES:Music,Music Classical
ATTACH;FMTTYPE=image/jpeg:https://www.whattododigital.com/wp-content/uploads/2025/10/Candlelight_Fleetwod.jpeg
END:VEVENT
BEGIN:VEVENT
DTSTART;TZID=America/New_York:20251205T203000
DTEND;TZID=America/New_York:20251205T203000
DTSTAMP:20260423T132818
CREATED:20251121T221154Z
LAST-MODIFIED:20251121T221154Z
UID:92505-1764966600-1764966600@www.whattododigital.com
SUMMARY:Candlelight Concerts: Tribute to The Beatles
DESCRIPTION:Candlelight Concerts: Tribute to The Beatles \nCandlelight Concerts present the works of The Beatles on strings including “Here Comes the Sun\,” “Eleanor Rigby\,” Hey\, Jude\,” and “Here\, There\, and Everywhere.” \nCandlelight Concerts
URL:https://www.whattododigital.com/event/candlelight-concerts-tribute-to-the-beatles/
LOCATION:St. Marks Episcopal Church\, 85 E Main St.\, Mount Kisco\, NY\, 10549\, United States
CATEGORIES:Music Classical
ATTACH;FMTTYPE=image/jpeg:https://www.whattododigital.com/wp-content/uploads/2025/10/Candlelight_Beatles-copy.jpg
END:VEVENT
BEGIN:VEVENT
DTSTART;TZID=America/New_York:20251123T150000
DTEND;TZID=America/New_York:20251123T150000
DTSTAMP:20260423T132818
CREATED:20250912T190121Z
LAST-MODIFIED:20250912T190121Z
UID:89207-1763910000-1763910000@www.whattododigital.com
SUMMARY:Pleasantville Chamber Music Society: Pleasantville Flute Quartet
DESCRIPTION:Pleasantville Chamber Music Society: Pleasantville Flute Quartet \nThe Pleasantville Flute Quartet received its name from the fact that three of its members – Chelsea\, Nancy\, and Eric – live in Pleasantville! \nChelsea Knox is the principal flutist of the Metropolitan Opera Orchestra. \nNancy Wu has served as Associate Concertmaster of the Metropolitan Opera Orchestra since 1989. \nZoë Martin-Doike has been a member of the Metropolitan Opera Orchestra since 2018 and frequently joins the Philadelphia Orchestra for international touring. \nEric Stephenson is an exceptionally versatile cellist ranging in style from classical to jazz to rock and folk. He spends most of his time performing with PROJECT Trio\, an ensemble he founded \nPleasantville Chamber Music Society
URL:https://www.whattododigital.com/event/pleasantville-chamber-music-society-pleasantville-flute-quartet/
LOCATION:Pleasantville Presbyterian Church\, 400 Bedford Road\, Pleasantville\, NY\, 10570\, United States
CATEGORIES:Music Classical
ATTACH;FMTTYPE=image/jpeg:https://www.whattododigital.com/wp-content/uploads/2025/09/Pleasantville-Chamber_SQUARE_FluteGroup-copy.jpg
END:VEVENT
BEGIN:VEVENT
DTSTART;TZID=America/New_York:20251122T203000
DTEND;TZID=America/New_York:20251122T203000
DTSTAMP:20260423T132818
CREATED:20251121T223118Z
LAST-MODIFIED:20251121T223118Z
UID:92528-1763843400-1763843400@www.whattododigital.com
SUMMARY:Candlelight Concerts: A Tribute to Adele
DESCRIPTION:Candlelight Concerts: A Tribute to Adele \nThe Highline String Quartet performs the works of Adele on strings. Featuring “Rolling in the Deep\,” “Someone Like You\,” “Rumour Has It\,” and “Chasing Pavements.” \nCandlelight Concerts
URL:https://www.whattododigital.com/event/candlelight-concerts-a-tribute-to-adele/
LOCATION:NY
CATEGORIES:Music,Music Classical
ATTACH;FMTTYPE=image/jpeg:https://www.whattododigital.com/wp-content/uploads/2025/10/Candlelight_Adele.jpeg
END:VEVENT
BEGIN:VEVENT
DTSTART;TZID=America/New_York:20251122T180000
DTEND;TZID=America/New_York:20251122T180000
DTSTAMP:20260423T132818
CREATED:20251121T221927Z
LAST-MODIFIED:20251121T221927Z
UID:92508-1763834400-1763834400@www.whattododigital.com
SUMMARY:Candlelight Concerts Tribute to Queen
DESCRIPTION:Candlelight Concerts Tribute to Queen \nThe High Line Quartet performs the works o Queen on strings. The Program features “Somebody to Love\,” “Under Pressure\,” “Bohemian Rhapsody\,” “Crazy Little Thing Called Love\,” Fat Bottomed Girls\,” and more. \nCandlelight Concerts
URL:https://www.whattododigital.com/event/candlelight-concerts-tribute-to-queen/
LOCATION:St. Marks Episcopal Church\, 85 E Main St.\, Mount Kisco\, NY\, 10549\, United States
CATEGORIES:Music,Music Classical
ATTACH;FMTTYPE=image/jpeg:https://www.whattododigital.com/wp-content/uploads/2025/10/Candlelight_Queen.jpeg
END:VEVENT
BEGIN:VEVENT
DTSTART;TZID=America/New_York:20251121T203000
DTEND;TZID=America/New_York:20251121T203000
DTSTAMP:20260423T132818
CREATED:20251121T223430Z
LAST-MODIFIED:20251121T223430Z
UID:92531-1763757000-1763757000@www.whattododigital.com
SUMMARY:Candlelight Concerts: Coldplay & Imagine Dragons
DESCRIPTION:Candlelight Concerts: Coldplay & Imagine Dragons \nThe Highline String Quartet performs the works of Coldplay and Imagine Dragons on strings. Featuring “Viva La Vida\,” “Radioactive\,” and more. \nCandlelight Concerts
URL:https://www.whattododigital.com/event/candlelight-concerts-coldplay-imagine-dragons/
LOCATION:St. Marks Episcopal Church\, 85 E Main St.\, Mount Kisco\, NY\, 10549\, United States
CATEGORIES:Music,Music Classical
ATTACH;FMTTYPE=image/jpeg:https://www.whattododigital.com/wp-content/uploads/2025/10/Candlelight_Fleetwod.jpeg
END:VEVENT
BEGIN:VEVENT
DTSTART;TZID=America/New_York:20251121T193000
DTEND;TZID=America/New_York:20251121T193000
DTSTAMP:20260423T132818
CREATED:20251021T170646Z
LAST-MODIFIED:20251021T170646Z
UID:91671-1763753400-1763753400@www.whattododigital.com
SUMMARY:Westchester Oratorio Society: Sure on this Shining Night
DESCRIPTION:Westchester Oratorio Society: Sure on this Shining Night \nWestchester Oratorio Society under the direction of David Stech presents a program ranging from mystical songs to ancient prayers and radiant choruses. Featured are works by Felix Mendelssohn and Ralph Vaughan Williams and a medley of choruses and songs from traditional to Barber\, Thompson\, Stanford and Bach. \nWestchester Oratorio Society
URL:https://www.whattododigital.com/event/westchester-oratorio-society-sure-on-this-shining-night/
LOCATION:Presbyterian Church of Mount Kisco\, 605 Millwood Road\, Mount Kisco\, NY\, 10549\, United States
CATEGORIES:Music Classical
ATTACH;FMTTYPE=image/jpeg:https://www.whattododigital.com/wp-content/uploads/2025/10/Westchester-Oratorio-Fall-Concert.jpeg
END:VEVENT
BEGIN:VEVENT
DTSTART;TZID=America/New_York:20251115T193000
DTEND;TZID=America/New_York:20251115T193000
DTSTAMP:20260423T132818
CREATED:20251027T205608Z
LAST-MODIFIED:20251027T205608Z
UID:91833-1763235000-1763235000@www.whattododigital.com
SUMMARY:Palace Stamford: Rhapsody
DESCRIPTION:Palace Stamford: Rhapsody \nOrchestra Lumos performs not one but two piano concertos\, both with the amazing young South Korean pianist Joyce Yang. The ever-popular Rhapsody on a Theme of Paganini by Sergei Rachmaninoff\, will be prefaced by the world premier of Jonathan Leshnoff’s piano concerto. \nPalace Stamford
URL:https://www.whattododigital.com/event/palace-stamford-rhapsody/
LOCATION:The Palace Stamford\, 61 Atlantic St.\, Stamford\, CT\, 06901\, United States
CATEGORIES:Music Classical
ATTACH;FMTTYPE=image/jpeg:https://www.whattododigital.com/wp-content/uploads/2025/10/Palace_Rhapsody-copy.jpg
END:VEVENT
BEGIN:VEVENT
DTSTART;TZID=America/New_York:20251116T150000
DTEND;TZID=America/New_York:20251116T150000
DTSTAMP:20260423T132818
CREATED:20250804T001313Z
LAST-MODIFIED:20250804T001313Z
UID:87997-1763305200-1763305200@www.whattododigital.com
SUMMARY:Rosen House Concert Series: Poiesis Quartet
DESCRIPTION:Rosen House Concert Series: Poiesis Quartet \nExperience the bold\, expressive sound of the Poesis Quartet\, Grand Prize winner at the 2023 Fischoff National Chamber Music Competition. Formed in 2022 at Oberlin\, the Quartet has swiftly risen to prominence\, joining the Concert Artists Guild roster in 2024. Renowned for their cohesive artistry and adventurous programming\, the group lives up to its name—poesis\, from the Greek “to make”—with performances that forge new paths in chamber music. Dedicated to championing the voices of emerging and historically underrepresented composers\, the Poesis Quartet brings this vibrant mission to life in their Caramoor residency. \nCaramoor
URL:https://www.whattododigital.com/event/rosen-house-concert-series-poiesis-quartet/
LOCATION:Caramoor
CATEGORIES:Music Classical
ATTACH;FMTTYPE=image/jpeg:https://www.whattododigital.com/wp-content/uploads/2025/08/caramoor_pq-copy.jpg
END:VEVENT
BEGIN:VEVENT
DTSTART;TZID=America/New_York:20251115T193000
DTEND;TZID=America/New_York:20251115T193000
DTSTAMP:20260423T132818
CREATED:20251027T205608Z
LAST-MODIFIED:20251027T205608Z
UID:91833-1763235000-1763235000@www.whattododigital.com
SUMMARY:Palace Stamford: Rhapsody
DESCRIPTION:Palace Stamford: Rhapsody \nOrchestra Lumos performs not one but two piano concertos\, both with the amazing young South Korean pianist Joyce Yang. The ever-popular Rhapsody on a Theme of Paganini by Sergei Rachmaninoff\, will be prefaced by the world premier of Jonathan Leshnoff’s piano concerto. \nPalace Stamford
URL:https://www.whattododigital.com/event/palace-stamford-rhapsody/
LOCATION:The Palace Stamford\, 61 Atlantic St.\, Stamford\, CT\, 06901\, United States
CATEGORIES:Music Classical
ATTACH;FMTTYPE=image/jpeg:https://www.whattododigital.com/wp-content/uploads/2025/10/Palace_Rhapsody-copy.jpg
END:VEVENT
BEGIN:VEVENT
DTSTART;TZID=America/New_York:20251109T150000
DTEND;TZID=America/New_York:20251109T150000
DTSTAMP:20260423T132818
CREATED:20251027T192915Z
LAST-MODIFIED:20251027T192915Z
UID:91781-1762700400-1762700400@www.whattododigital.com
SUMMARY:Tarrytown Music Hall: Westchester Symphonic Winds
DESCRIPTION:Tarrytown Music Hall: Westchester Symphonic Winds: Sonic Journeys \nWestchester’s Symphonic Winds new season of music for wind ensemble kicks off with a grand tour of Italy in their concert\, “Sonic Journeys.” \nThe program will begin with the captivating Intrada by Steve Cohen and will also feature the majestic tone poem The Pines of Rome by Ottorino Respighi. \nThis concert will feature Schilke Trumpet Performing Artist\, Morris Northcutt. \nTarrytown Music Hall
URL:https://www.whattododigital.com/event/tarrytown-music-hall-westchester-symphonic-winds/
LOCATION:Tarrytown Music Hall
CATEGORIES:Music Classical
ATTACH;FMTTYPE=image/jpeg:https://www.whattododigital.com/wp-content/uploads/2025/10/WSWSonicJourneys_960x400.jpeg
END:VEVENT
BEGIN:VEVENT
DTSTART;TZID=America/New_York:20251109T150000
DTEND;TZID=America/New_York:20251109T150000
DTSTAMP:20260423T132818
CREATED:20250803T202040Z
LAST-MODIFIED:20250803T202040Z
UID:87986-1762700400-1762700400@www.whattododigital.com
SUMMARY:Rosen House Concert Series: The English Concert
DESCRIPTION:Rosen House Concert Series: The English Concert \nAfter captivating audiences with all-Vivaldi programs in 2021 and 2023\, this renowned British ensemble returns under Harry Bicket’s masterful direction from the harpsichord. Playing on authentic 17th-century instruments\, they achieve something truly special—passionate\, fiery performances that never sacrifice precision or delicate beauty. Here they perform pieces from Purcell\, Geminiani\, Handel\, JH Bach and more. \nCaramoor
URL:https://www.whattododigital.com/event/rosen-house-concert-series-the-english-concert/
LOCATION:careamoor
CATEGORIES:Music Classical
ATTACH;FMTTYPE=image/jpeg:https://www.whattododigital.com/wp-content/uploads/2025/08/Caramoor_The-English-Concert.jpg
END:VEVENT
BEGIN:VEVENT
DTSTART;TZID=America/New_York:20251108T140000
DTEND;TZID=America/New_York:20251108T140000
DTSTAMP:20260423T132818
CREATED:20250827T173755Z
LAST-MODIFIED:20250827T173755Z
UID:88893-1762610400-1762610400@www.whattododigital.com
SUMMARY:Mount Kisco Concert Association: Musicians of the New York Philharmonic
DESCRIPTION:Mount Kisco Concert Association: Musicians of the New York Philharmonic \nMindy Kaufman (flute soloist)\, Matthew Christakos (principal cello)\, & Eric Huebner (featured piano) of the New York Philharmonic perform at the beautiful and atmospheric Presbyterian Church of Mount Kisco. \nMount Kisco Concert Association
URL:https://www.whattododigital.com/event/mount-kisco-concert-association-musicians-of-the-new-york-philharmonic/
LOCATION:Presbyterian Church of Mount Kisco\, 605 Millwood Road\, Mount Kisco\, NY\, 10549\, United States
CATEGORIES:Music Classical
ATTACH;FMTTYPE=image/jpeg:https://www.whattododigital.com/wp-content/uploads/2025/08/MKCA_KaufmanMindy-copy.jpg
END:VEVENT
BEGIN:VEVENT
DTSTART;TZID=America/New_York:20251102T150000
DTEND;TZID=America/New_York:20251102T150000
DTSTAMP:20260423T132818
CREATED:20250912T184838Z
LAST-MODIFIED:20250912T184838Z
UID:89201-1762095600-1762095600@www.whattododigital.com
SUMMARY:Pleasantville Chamber Music Society: Hui-Mei Lin & Friends
DESCRIPTION:Pleasantville Chamber Music Society: Hui-Mei Lin & Friends \nHui-Mei Lin – Piano\, made her New York solo debut at Weill Recital Hall as the winner of the Artists Inetnational Competition. Concert tours have taken her to Italy\, France\, Canada\, Taiwan\, and throughout the US.\nMuneko Otani – Violin\, first violinist of the Cassatt String Quartet\, has appeared in the US\, Canada and Mexico as well as in Europe and Asia.\nEric Seidenberg – Cello\, made his solo debut with the Chicago Symphony and has since appeared as soloist with many orchestras. \nPleasantville Chamber Music Society
URL:https://www.whattododigital.com/event/pleasantville-chamber-music-society-hui-mei-lin-friends/
LOCATION:Pleasantville Presbyterian Church\, 400 Bedford Road\, Pleasantville\, NY\, 10570\, United States
CATEGORIES:Music Classical
ATTACH;FMTTYPE=image/jpeg:https://www.whattododigital.com/wp-content/uploads/2025/09/Pleasantville-Chamber-Music_SQUARE_LinGroup.png-copy.jpg
END:VEVENT
BEGIN:VEVENT
DTSTART;TZID=America/New_York:20251026T150000
DTEND;TZID=America/New_York:20251026T150000
DTSTAMP:20260423T132818
CREATED:20250803T195355Z
LAST-MODIFIED:20250803T195355Z
UID:87971-1761490800-1761490800@www.whattododigital.com
SUMMARY:Rosen House Concert Series: Raphaël Feuillâtre (guitar)
DESCRIPTION:Rosen House Concert Series: Raphaël Feuillâtre (guitar) \nince winning the prestigious Guitar Foundation of America competition in 2018\, this Djibouti-born French virtuoso has dazzled audiences from Carnegie Hall to Amsterdam’s Concertgebouw\, and through his prolific recording career on Deutsche Grammophon. His most recent album\, Spanish Serenades\, showcases the many Latin faces of the guitar\, and forms the core of his Caramoor program combining popular rhythms\, choreographic bounce and sophisticated counterpoint. \nCaramoor
URL:https://www.whattododigital.com/event/rosen-house-concert-series-raphael-feuillatre-guitar/
LOCATION:Caramoor
CATEGORIES:Music Classical
ATTACH;FMTTYPE=image/jpeg:https://www.whattododigital.com/wp-content/uploads/2025/08/Caramoor_Raphael-copy.jpg
END:VEVENT
BEGIN:VEVENT
DTSTART;TZID=America/New_York:20251025T160000
DTEND;TZID=America/New_York:20251025T160000
DTSTAMP:20260423T132818
CREATED:20250630T193133Z
LAST-MODIFIED:20250630T193133Z
UID:87505-1761408000-1761408000@www.whattododigital.com
SUMMARY:The Purchase PAC: CMS: Brahms & Dvořák
DESCRIPTION:The Purchase PAC: CMS: Brahms & Dvořák  \nChamber Music Society of Lincoln Center begins their 3-concert series at The Purchase PAC with this program pairing works by Antonín Dvořák\, the Bohemian wearing his heart on his sleeve\, and his mentor\, Johannes Brahms\, the undisputed master of the German tradition. Lose yourself in the music! \nDvořák  | Slavonic Fantasie for Violin and Piano (arr. Kreisler) (1914)\nDvořák  | Humoresque for Violin and Piano\, Op. 101\, No. 7 (arr. Elman) (1894)\nBrahms | Quintet in F major for Two Violins\, Two Violas\, and Cello\, Op. 88 (1882)\nBrahms | Selected Hungarian Dances for Violin and Piano (arr. Joseph Joachim) (1868\, 1880)\nDvořák | Quintet in E-flat major for Two Violins\, Two Violas\, and Cello\, Op. 97\, “American” (1893) \nThe Purchase PAC
URL:https://www.whattododigital.com/event/the-purchase-pac-cms-brahms-dvorak/
LOCATION:The Performing Arts Center Purchase College\, 735 Anderson Hill Rd.\, Purchase\, Purchase\, NY\, 10577\, United States
CATEGORIES:Music Classical
ATTACH;FMTTYPE=image/jpeg:https://www.whattododigital.com/wp-content/uploads/2025/06/PAC_CMS1_.jpeg
END:VEVENT
BEGIN:VEVENT
DTSTART;TZID=America/New_York:20250927T150000
DTEND;TZID=America/New_York:20250927T150000
DTSTAMP:20260423T132818
CREATED:20250827T163326Z
LAST-MODIFIED:20250827T163326Z
UID:88883-1758985200-1758985200@www.whattododigital.com
SUMMARY:Mount Kisco Concert Association: Hermitage Piano Trio
DESCRIPTION:Mount Kisco Concert Association: Hermitage Piano Trio \nNow entering their second decade\, the United States-based Hermitage Piano Trio has solidified its place as one of the world’s leading piano trios\, garnering multiple GRAMMY® Award nominations and receiving both audience and press accolades for their performances that The Washington Post singled out for “such power and sweeping passion that it left you nearly out of breath.” \nMount Kisco Concert Association
URL:https://www.whattododigital.com/event/mount-kisco-concert-association-hermitage-piano-trio/
LOCATION:Presbyterian Church of Mount Kisco\, 605 Millwood Road\, Mount Kisco\, NY\, 10549\, United States
CATEGORIES:Music Classical
ATTACH;FMTTYPE=image/jpeg:https://www.whattododigital.com/wp-content/uploads/2025/08/MKCA_Hermitage.jpg
END:VEVENT
END:VCALENDAR