BEGIN:VCALENDAR
VERSION:2.0
PRODID:-//What To Do - ECPv6.15.20//NONSGML v1.0//EN
CALSCALE:GREGORIAN
METHOD:PUBLISH
X-ORIGINAL-URL:https://www.whattododigital.com
X-WR-CALDESC:Events for What To Do
REFRESH-INTERVAL;VALUE=DURATION:PT1H
X-Robots-Tag:noindex
X-PUBLISHED-TTL:PT1H
BEGIN:VTIMEZONE
TZID:America/New_York
BEGIN:DAYLIGHT
TZOFFSETFROM:-0500
TZOFFSETTO:-0400
TZNAME:EDT
DTSTART:20240310T070000
END:DAYLIGHT
BEGIN:STANDARD
TZOFFSETFROM:-0400
TZOFFSETTO:-0500
TZNAME:EST
DTSTART:20241103T060000
END:STANDARD
BEGIN:DAYLIGHT
TZOFFSETFROM:-0500
TZOFFSETTO:-0400
TZNAME:EDT
DTSTART:20250309T070000
END:DAYLIGHT
BEGIN:STANDARD
TZOFFSETFROM:-0400
TZOFFSETTO:-0500
TZNAME:EST
DTSTART:20251102T060000
END:STANDARD
BEGIN:DAYLIGHT
TZOFFSETFROM:-0500
TZOFFSETTO:-0400
TZNAME:EDT
DTSTART:20260308T070000
END:DAYLIGHT
BEGIN:STANDARD
TZOFFSETFROM:-0400
TZOFFSETTO:-0500
TZNAME:EST
DTSTART:20261101T060000
END:STANDARD
END:VTIMEZONE
BEGIN:VEVENT
DTSTART;TZID=America/New_York:20251108T140000
DTEND;TZID=America/New_York:20251108T140000
DTSTAMP:20260423T172707
CREATED:20250827T173755Z
LAST-MODIFIED:20250827T173755Z
UID:88893-1762610400-1762610400@www.whattododigital.com
SUMMARY:Mount Kisco Concert Association: Musicians of the New York Philharmonic
DESCRIPTION:Mount Kisco Concert Association: Musicians of the New York Philharmonic \nMindy Kaufman (flute soloist)\, Matthew Christakos (principal cello)\, & Eric Huebner (featured piano) of the New York Philharmonic perform at the beautiful and atmospheric Presbyterian Church of Mount Kisco. \nMount Kisco Concert Association
URL:https://www.whattododigital.com/event/mount-kisco-concert-association-musicians-of-the-new-york-philharmonic/
LOCATION:Presbyterian Church of Mount Kisco\, 605 Millwood Road\, Mount Kisco\, NY\, 10549\, United States
CATEGORIES:Music Classical
ATTACH;FMTTYPE=image/jpeg:https://www.whattododigital.com/wp-content/uploads/2025/08/MKCA_KaufmanMindy-copy.jpg
END:VEVENT
BEGIN:VEVENT
DTSTART;TZID=America/New_York:20251102T150000
DTEND;TZID=America/New_York:20251102T150000
DTSTAMP:20260423T172707
CREATED:20250912T184838Z
LAST-MODIFIED:20250912T184838Z
UID:89201-1762095600-1762095600@www.whattododigital.com
SUMMARY:Pleasantville Chamber Music Society: Hui-Mei Lin & Friends
DESCRIPTION:Pleasantville Chamber Music Society: Hui-Mei Lin & Friends \nHui-Mei Lin – Piano\, made her New York solo debut at Weill Recital Hall as the winner of the Artists Inetnational Competition. Concert tours have taken her to Italy\, France\, Canada\, Taiwan\, and throughout the US.\nMuneko Otani – Violin\, first violinist of the Cassatt String Quartet\, has appeared in the US\, Canada and Mexico as well as in Europe and Asia.\nEric Seidenberg – Cello\, made his solo debut with the Chicago Symphony and has since appeared as soloist with many orchestras. \nPleasantville Chamber Music Society
URL:https://www.whattododigital.com/event/pleasantville-chamber-music-society-hui-mei-lin-friends/
LOCATION:Pleasantville Presbyterian Church\, 400 Bedford Road\, Pleasantville\, NY\, 10570\, United States
CATEGORIES:Music Classical
ATTACH;FMTTYPE=image/jpeg:https://www.whattododigital.com/wp-content/uploads/2025/09/Pleasantville-Chamber-Music_SQUARE_LinGroup.png-copy.jpg
END:VEVENT
BEGIN:VEVENT
DTSTART;TZID=America/New_York:20251026T150000
DTEND;TZID=America/New_York:20251026T150000
DTSTAMP:20260423T172707
CREATED:20250803T195355Z
LAST-MODIFIED:20250803T195355Z
UID:87971-1761490800-1761490800@www.whattododigital.com
SUMMARY:Rosen House Concert Series: Raphaël Feuillâtre (guitar)
DESCRIPTION:Rosen House Concert Series: Raphaël Feuillâtre (guitar) \nince winning the prestigious Guitar Foundation of America competition in 2018\, this Djibouti-born French virtuoso has dazzled audiences from Carnegie Hall to Amsterdam’s Concertgebouw\, and through his prolific recording career on Deutsche Grammophon. His most recent album\, Spanish Serenades\, showcases the many Latin faces of the guitar\, and forms the core of his Caramoor program combining popular rhythms\, choreographic bounce and sophisticated counterpoint. \nCaramoor
URL:https://www.whattododigital.com/event/rosen-house-concert-series-raphael-feuillatre-guitar/
LOCATION:Caramoor
CATEGORIES:Music Classical
ATTACH;FMTTYPE=image/jpeg:https://www.whattododigital.com/wp-content/uploads/2025/08/Caramoor_Raphael-copy.jpg
END:VEVENT
BEGIN:VEVENT
DTSTART;TZID=America/New_York:20251025T160000
DTEND;TZID=America/New_York:20251025T160000
DTSTAMP:20260423T172707
CREATED:20250630T193133Z
LAST-MODIFIED:20250630T193133Z
UID:87505-1761408000-1761408000@www.whattododigital.com
SUMMARY:The Purchase PAC: CMS: Brahms & Dvořák
DESCRIPTION:The Purchase PAC: CMS: Brahms & Dvořák  \nChamber Music Society of Lincoln Center begins their 3-concert series at The Purchase PAC with this program pairing works by Antonín Dvořák\, the Bohemian wearing his heart on his sleeve\, and his mentor\, Johannes Brahms\, the undisputed master of the German tradition. Lose yourself in the music! \nDvořák  | Slavonic Fantasie for Violin and Piano (arr. Kreisler) (1914)\nDvořák  | Humoresque for Violin and Piano\, Op. 101\, No. 7 (arr. Elman) (1894)\nBrahms | Quintet in F major for Two Violins\, Two Violas\, and Cello\, Op. 88 (1882)\nBrahms | Selected Hungarian Dances for Violin and Piano (arr. Joseph Joachim) (1868\, 1880)\nDvořák | Quintet in E-flat major for Two Violins\, Two Violas\, and Cello\, Op. 97\, “American” (1893) \nThe Purchase PAC
URL:https://www.whattododigital.com/event/the-purchase-pac-cms-brahms-dvorak/
LOCATION:The Performing Arts Center Purchase College\, 735 Anderson Hill Rd.\, Purchase\, Purchase\, NY\, 10577\, United States
CATEGORIES:Music Classical
ATTACH;FMTTYPE=image/jpeg:https://www.whattododigital.com/wp-content/uploads/2025/06/PAC_CMS1_.jpeg
END:VEVENT
BEGIN:VEVENT
DTSTART;TZID=America/New_York:20250927T150000
DTEND;TZID=America/New_York:20250927T150000
DTSTAMP:20260423T172707
CREATED:20250827T163326Z
LAST-MODIFIED:20250827T163326Z
UID:88883-1758985200-1758985200@www.whattododigital.com
SUMMARY:Mount Kisco Concert Association: Hermitage Piano Trio
DESCRIPTION:Mount Kisco Concert Association: Hermitage Piano Trio \nNow entering their second decade\, the United States-based Hermitage Piano Trio has solidified its place as one of the world’s leading piano trios\, garnering multiple GRAMMY® Award nominations and receiving both audience and press accolades for their performances that The Washington Post singled out for “such power and sweeping passion that it left you nearly out of breath.” \nMount Kisco Concert Association
URL:https://www.whattododigital.com/event/mount-kisco-concert-association-hermitage-piano-trio/
LOCATION:Presbyterian Church of Mount Kisco\, 605 Millwood Road\, Mount Kisco\, NY\, 10549\, United States
CATEGORIES:Music Classical
ATTACH;FMTTYPE=image/jpeg:https://www.whattododigital.com/wp-content/uploads/2025/08/MKCA_Hermitage.jpg
END:VEVENT
END:VCALENDAR