BEGIN:VCALENDAR
VERSION:2.0
PRODID:-//What To Do - ECPv6.15.20//NONSGML v1.0//EN
CALSCALE:GREGORIAN
METHOD:PUBLISH
X-WR-CALNAME:What To Do
X-ORIGINAL-URL:https://www.whattododigital.com
X-WR-CALDESC:Events for What To Do
REFRESH-INTERVAL;VALUE=DURATION:PT1H
X-Robots-Tag:noindex
X-PUBLISHED-TTL:PT1H
BEGIN:VTIMEZONE
TZID:America/New_York
BEGIN:DAYLIGHT
TZOFFSETFROM:-0500
TZOFFSETTO:-0400
TZNAME:EDT
DTSTART:20250309T070000
END:DAYLIGHT
BEGIN:STANDARD
TZOFFSETFROM:-0400
TZOFFSETTO:-0500
TZNAME:EST
DTSTART:20251102T060000
END:STANDARD
BEGIN:DAYLIGHT
TZOFFSETFROM:-0500
TZOFFSETTO:-0400
TZNAME:EDT
DTSTART:20260308T070000
END:DAYLIGHT
BEGIN:STANDARD
TZOFFSETFROM:-0400
TZOFFSETTO:-0500
TZNAME:EST
DTSTART:20261101T060000
END:STANDARD
BEGIN:DAYLIGHT
TZOFFSETFROM:-0500
TZOFFSETTO:-0400
TZNAME:EDT
DTSTART:20270314T070000
END:DAYLIGHT
BEGIN:STANDARD
TZOFFSETFROM:-0400
TZOFFSETTO:-0500
TZNAME:EST
DTSTART:20271107T060000
END:STANDARD
END:VTIMEZONE
BEGIN:VEVENT
DTSTART;VALUE=DATE:20260102
DTEND;VALUE=DATE:20260103
DTSTAMP:20260425T121923
CREATED:20251222T153957Z
LAST-MODIFIED:20251222T153957Z
UID:92911-1767312000-1767398399@www.whattododigital.com
SUMMARY:Jazz Forum: Tito Puente
DESCRIPTION:Jazz Forum: Tito Puente \nThe son and musical heir of “El Rey” Tito Puente\, the legendary salsa and Latin jazz maestro\, Tito Puente Jr. honors his father’s legacy by playing with the same infectious joy\, passion and energy. \nTwo Shows: 7pm & 9:30pm \nJazz Forum
URL:https://www.whattododigital.com/event/jazz-forum-tito-puente/
LOCATION:Jazz Forum\, 1 Dixon Lane\, Tarrytown\, NY\, 10591\, United States
CATEGORIES:Grown Ups,Music
ATTACH;FMTTYPE=image/jpeg:https://www.whattododigital.com/wp-content/uploads/2025/12/Jazz-Forum_Tito-Puente.jpeg
END:VEVENT
BEGIN:VEVENT
DTSTART;TZID=America/New_York:20260102T200000
DTEND;TZID=America/New_York:20260102T200000
DTSTAMP:20260425T121923
CREATED:20251124T191947Z
LAST-MODIFIED:20251124T191947Z
UID:92558-1767384000-1767384000@www.whattododigital.com
SUMMARY:Capitol Theatre: Dark Star Orchestra
DESCRIPTION:Capitol Theatre: Dark Star Orchestra \nDSO’s remarkable journey continues. Imagine a tribute band booked for three nights including New Years Even at the largest theatre in Westchester. Something original bands can do. With over 3100 shows in 25 years—closing in on over 1000 more shows than The Dead themselves. \nWhat more do you need to know. If you’re a Dead fan—this is the hottest ticket in town. \nCapitol Theatre
URL:https://www.whattododigital.com/event/capitol-theatre-dark-star-orchestra-2/
LOCATION:The Capitol Theatre\, 149 Westchester Avenue\, Port Chester\, NY\, 10573\, United States
CATEGORIES:Music
ATTACH;FMTTYPE=image/jpeg:https://www.whattododigital.com/wp-content/uploads/2025/10/cap_dso-copy.jpg
END:VEVENT
BEGIN:VEVENT
DTSTART;TZID=America/New_York:20260102T200000
DTEND;TZID=America/New_York:20260102T200000
DTSTAMP:20260425T121923
CREATED:20251124T192137Z
LAST-MODIFIED:20251124T192137Z
UID:92561-1767384000-1767384000@www.whattododigital.com
SUMMARY:Capitol Theatre: Dark Star Orchestra
DESCRIPTION:Capitol Theatre: Dark Star Orchestra \nDSO’s remarkable journey continues. Imagine a tribute band booked for three nights including New Years Even at the largest theatre in Westchester. Something original bands can do. With over 3100 shows in 25 years—closing in on over 1000 more shows than The Dead themselves. \nWhat more do you need to know. If you’re a Dead fan—this is the hottest ticket in town. \nCapitol Theatre
URL:https://www.whattododigital.com/event/capitol-theatre-dark-star-orchestra-3/
LOCATION:The Capitol Theatre\, 149 Westchester Avenue\, Port Chester\, NY\, 10573\, United States
CATEGORIES:Music
ATTACH;FMTTYPE=image/jpeg:https://www.whattododigital.com/wp-content/uploads/2025/10/cap_dso-copy.jpg
END:VEVENT
BEGIN:VEVENT
DTSTART;VALUE=DATE:20260103
DTEND;VALUE=DATE:20260104
DTSTAMP:20260425T121923
CREATED:20251222T154118Z
LAST-MODIFIED:20251222T154118Z
UID:92916-1767398400-1767484799@www.whattododigital.com
SUMMARY:Jazz Forum: Tito Puente
DESCRIPTION:Jazz Forum: Tito Puente \nThe son and musical heir of “El Rey” Tito Puente\, the legendary salsa and Latin jazz maestro\, Tito Puente Jr. honors his father’s legacy by playing with the same infectious joy\, passion and energy. \nTwo Shows: 7pm & 9:30pm \nJazz Forum
URL:https://www.whattododigital.com/event/jazz-forum-tito-puente-2/
LOCATION:Jazz Forum\, 1 Dixon Lane\, Tarrytown\, NY\, 10591\, United States
CATEGORIES:Grown Ups,Music
ATTACH;FMTTYPE=image/jpeg:https://www.whattododigital.com/wp-content/uploads/2025/12/Jazz-Forum_Tito-Puente.jpeg
END:VEVENT
BEGIN:VEVENT
DTSTART;TZID=America/New_York:20260110T200000
DTEND;TZID=America/New_York:20260110T200000
DTSTAMP:20260425T121923
CREATED:20260102T204735Z
LAST-MODIFIED:20260102T204735Z
UID:93015-1768075200-1768075200@www.whattododigital.com
SUMMARY:Tha Palace Stamford: The Band Perry
DESCRIPTION:Tha Palace Stamford: The Band Perry \nThe Band Perry is a GRAMMY®\, CMA\, and ACM Award-winning trio known for their genredefying sound and bold artistic reinvention. \nTha Palace Stamford
URL:https://www.whattododigital.com/event/tha-palace-stamford-the-band-perry/
LOCATION:The Palace Stamford\, 61 Atlantic St.\, Stamford\, CT\, 06901\, United States
CATEGORIES:Music
ATTACH;FMTTYPE=image/jpeg:https://www.whattododigital.com/wp-content/uploads/2026/01/Palace_Band-Perry.jpeg
END:VEVENT
BEGIN:VEVENT
DTSTART;TZID=America/New_York:20260116T200000
DTEND;TZID=America/New_York:20260116T200000
DTSTAMP:20260425T121923
CREATED:20260102T205650Z
LAST-MODIFIED:20260102T205806Z
UID:93020-1768593600-1768593600@www.whattododigital.com
SUMMARY:The Palace Stamford: Who's Bad
DESCRIPTION:The Palace Stamford: Who’s Bad \nAs the longest-running Michael Jackson tribute band\, and the only one to predate his untimely passing\, Who’s Bad has awed even the skeptics\, selling out nearly 50 venues in the United Kingdom and beyond. \nThe Palace Stamford
URL:https://www.whattododigital.com/event/the-palace-stamford-whos-bad/
LOCATION:The Palace Stamford\, 61 Atlantic St.\, Stamford\, CT\, 06901\, United States
CATEGORIES:Arts,Music
ATTACH;FMTTYPE=image/jpeg:https://www.whattododigital.com/wp-content/uploads/2026/01/Palace_WhosBad.jpeg
END:VEVENT
BEGIN:VEVENT
DTSTART;TZID=America/New_York:20260116T200000
DTEND;TZID=America/New_York:20260116T200000
DTSTAMP:20260425T121923
CREATED:20260102T213426Z
LAST-MODIFIED:20260102T213503Z
UID:93035-1768593600-1768593600@www.whattododigital.com
SUMMARY:The Capitol Theatre: Joe Russo's Almost Dead
DESCRIPTION:The Capitol Theatre: Joe Russo’s Almost Dead \n“Joe Russo’s Almost Dead is Marco Benevento\, Dave Dreiwitz\, Tom Hamilton\, Scott Metzger and Joe Russo. We’re a Grateful Dead cover band” \nNot just any Grateful Dead cover band but one that can book three nights in January at the 2\,000 seat Capitol Theatre— Westchester’s largest indoor musical  venue. \nThe Capitol Theatre
URL:https://www.whattododigital.com/event/the-capitol-theatre-joe-russos-almost-dead/
LOCATION:The Capitol Theatre\, 149 Westchester Avenue\, Port Chester\, NY\, 10573\, United States
CATEGORIES:Music
ATTACH;FMTTYPE=image/jpeg:https://www.whattododigital.com/wp-content/uploads/2026/01/Cap_jrad-copy.jpg
END:VEVENT
BEGIN:VEVENT
DTSTART;TZID=America/New_York:20260117T200000
DTEND;TZID=America/New_York:20260117T200000
DTSTAMP:20260425T121923
CREATED:20260102T213715Z
LAST-MODIFIED:20260102T213715Z
UID:93042-1768680000-1768680000@www.whattododigital.com
SUMMARY:The Capitol Theatre: Joe Russo’s Almost Dead
DESCRIPTION:The Capitol Theatre: Joe Russo’s Almost Dead \n“Joe Russo’s Almost Dead is Marco Benevento\, Dave Dreiwitz\, Tom Hamilton\, Scott Metzger and Joe Russo. We’re a Grateful Dead cover band” \nNot just any Grateful Dead cover band but one that can book three nights in January at the 2\,000 seat Capitol Theatre— Westchester’s largest indoor musical  venue. \nThe Capitol Theatre
URL:https://www.whattododigital.com/event/the-capitol-theatre-joe-russos-almost-dead-2/
LOCATION:The Capitol Theatre\, 149 Westchester Avenue\, Port Chester\, NY\, 10573\, United States
CATEGORIES:Music
ATTACH;FMTTYPE=image/jpeg:https://www.whattododigital.com/wp-content/uploads/2026/01/Cap_jrad-copy.jpg
END:VEVENT
BEGIN:VEVENT
DTSTART;TZID=America/New_York:20260118T200000
DTEND;TZID=America/New_York:20260118T200000
DTSTAMP:20260425T121923
CREATED:20260102T213840Z
LAST-MODIFIED:20260102T213840Z
UID:93045-1768766400-1768766400@www.whattododigital.com
SUMMARY:The Capitol Theatre: Joe Russo’s Almost Dead
DESCRIPTION:The Capitol Theatre: Joe Russo’s Almost Dead \n“Joe Russo’s Almost Dead is Marco Benevento\, Dave Dreiwitz\, Tom Hamilton\, Scott Metzger and Joe Russo. We’re a Grateful Dead cover band” \nNot just any Grateful Dead cover band but one that can book three nights in January at the 2\,000 seat Capitol Theatre— Westchester’s largest indoor musical  venue. \nThe Capitol Theatre
URL:https://www.whattododigital.com/event/the-capitol-theatre-joe-russos-almost-dead-3/
LOCATION:The Capitol Theatre\, 149 Westchester Avenue\, Port Chester\, NY\, 10573\, United States
CATEGORIES:Music
ATTACH;FMTTYPE=image/jpeg:https://www.whattododigital.com/wp-content/uploads/2026/01/Cap_jrad-copy.jpg
END:VEVENT
BEGIN:VEVENT
DTSTART;TZID=America/New_York:20260123T183000
DTEND;TZID=America/New_York:20260123T203000
DTSTAMP:20260425T121923
CREATED:20260106T155830Z
LAST-MODIFIED:20260106T155830Z
UID:93268-1769193000-1769200200@www.whattododigital.com
SUMMARY:Bedford Playhouse: Gotham New York Songwriter's Festival
DESCRIPTION:Bedford Playhouse: Gotham New York Songwriter’s Festival \nA benefit performance by renowned singers and songwriters to support the BMI Foundation and other arts organizations perform at the Bedford Playhouse. \nFeatured guests include members of The Spin Doctors\, Panic at the Disco\, Better than Ezra among others. Collectively they have penned major hits for artists from Pink\, and Avril Lavigne to Christine Aguilera and Josh Groban. \nBedford Playhouse
URL:https://www.whattododigital.com/event/bedford-playhouse-gotham-new-york-songwriters-festival/
CATEGORIES:Music
ATTACH;FMTTYPE=image/jpeg:https://www.whattododigital.com/wp-content/uploads/2026/01/BPH_Gotham-Songwriters.jpg
END:VEVENT
BEGIN:VEVENT
DTSTART;TZID=America/New_York:20260123T200000
DTEND;TZID=America/New_York:20260123T200000
DTSTAMP:20260425T121923
CREATED:20260105T202221Z
LAST-MODIFIED:20260105T202221Z
UID:93136-1769198400-1769198400@www.whattododigital.com
SUMMARY:Paramount Hudson Valley: Hank Azaria and the EZ Street Band
DESCRIPTION:Paramount Hudson Valley: Hank Azaria and the EZ Street Band \nAzaria is an acclaimed actor and voice artist\, perhaps best known for his decades of work on The Simpsons. Now he’s using his voice in a new and different way\, and having a blast entertaining people in a live\, concert setting. Azaria spent months creating an impression of Bruce’s distinctive speaking cadence and singing ‘voice’ to conceive the tribute show. As Azaria told Rolling Stone\, “I think of it as a theatrical performance\,” he says. “I’m staying in character as Bruce even though I’m telling stories about myself. It’s a performance piece\, but I’m not a Bruce impersonator.” \nParamount Hudson Valley
URL:https://www.whattododigital.com/event/paramount-hudson-valley-hank-azaria-and-the-ez-street-band/
LOCATION:Paramount Hudson Valley
CATEGORIES:Music
ATTACH;FMTTYPE=image/jpeg:https://www.whattododigital.com/wp-content/uploads/2026/01/Paramount_Hank-Azaria-and-the-EZ-Street-Band.jpeg
END:VEVENT
BEGIN:VEVENT
DTSTART;TZID=America/New_York:20260125T190000
DTEND;TZID=America/New_York:20260125T190000
DTSTAMP:20260425T121923
CREATED:20260108T162324Z
LAST-MODIFIED:20260108T162324Z
UID:93426-1769367600-1769367600@www.whattododigital.com
SUMMARY:Tarrytown Music Hall: Direct From Sweden The Music of ABBA
DESCRIPTION:Tarrytown Music Hall: Direct From Sweden The Music of ABBA \nDance\, sing along and enjoy the hits such as Dancing Queen\, Chiquitita\, Waterloo\, Mamma Mia\, The Winner Takes it All\, Fernando\, SOS\, Take a Chance\, Money Money Money\, Knowing Me Knowing You\, Super Trouper\, Gimme Gimme Gimme\, Voulez-Vous and many more. \nTarrytown Music Hall
URL:https://www.whattododigital.com/event/tarrytown-music-hall-direct-from-sweden-the-music-of-abba/
LOCATION:Tarrytown Music Hall
CATEGORIES:Music
ATTACH;FMTTYPE=image/jpeg:https://www.whattododigital.com/wp-content/uploads/2026/01/TMH_MusicOfAbba.jpeg
END:VEVENT
BEGIN:VEVENT
DTSTART;TZID=America/New_York:20260130T193000
DTEND;TZID=America/New_York:20260130T193000
DTSTAMP:20260425T121923
CREATED:20260102T214802Z
LAST-MODIFIED:20260102T214802Z
UID:93048-1769801400-1769801400@www.whattododigital.com
SUMMARY:The Capitol Theatre: Let's Sing Taylor
DESCRIPTION:The Capitol Theatre: Let’s Sing Taylor \nLet’s Sing Taylor – A Live Band Experience – delivers faithful and lively covers of Queen Taylor’s expansive and sacred catalog. Taking the country by storm\, they’re bringing the  communal experience of celebrating Taylor’s music in a live setting to Swifties near and far. \nThe Capitol Theatre
URL:https://www.whattododigital.com/event/the-capitol-theatre-lets-sing-taylor/
LOCATION:The Capitol Theatre\, 149 Westchester Avenue\, Port Chester\, NY\, 10573\, United States
CATEGORIES:Music
ATTACH;FMTTYPE=image/jpeg:https://www.whattododigital.com/wp-content/uploads/2026/01/Cap_letsSingTaylor_-copy.jpg
END:VEVENT
BEGIN:VEVENT
DTSTART;TZID=America/New_York:20260131T193000
DTEND;TZID=America/New_York:20260131T193000
DTSTAMP:20260425T121923
CREATED:20260112T171737Z
LAST-MODIFIED:20260112T171737Z
UID:93482-1769887800-1769887800@www.whattododigital.com
SUMMARY:White Plains Performing Arts Center: John Lloyd Young: Broadway's Jersey Boy
DESCRIPTION:White Plains Performing Arts Center: John Lloyd Young: Broadway’s Jersey Boy \nTony and Grammy Award winner John Lloyd Young originated the role of Frankie Valli in Broadway’s Tony Award-winning Best Musical and international hit\, JERSEY BOYS. For his performance as Valli\, Mr. Young won the Lead Actor Tony\, Drama Desk\, Outer Critics Circle\, and Theatre World Awards\, becoming the only American actor in history to win all four leading actor awards for a Broadway debut. \nHere he performs a full repertoire of nostalgic pop and R&B to jazz\, Broadway\, and beyond. \nWhite Plains Performing Arts Center
URL:https://www.whattododigital.com/event/white-plains-performing-arts-center-john-lloyd-young-broadways-jersey-boy/
LOCATION:White Plains Performing Arts Center
CATEGORIES:Arts,Music
ATTACH;FMTTYPE=image/jpeg:https://www.whattododigital.com/wp-content/uploads/2026/01/WPPAC_Jersey-Boy-.jpeg
END:VEVENT
BEGIN:VEVENT
DTSTART;TZID=America/New_York:20260131T200000
DTEND;TZID=America/New_York:20260131T200000
DTSTAMP:20260425T121923
CREATED:20260105T192202Z
LAST-MODIFIED:20260105T192202Z
UID:93091-1769889600-1769889600@www.whattododigital.com
SUMMARY:Emelin Theatre: Kerry Butler: Breaking Broadway
DESCRIPTION:Emelin Theatre: Kerry Butler: Breaking Broadway \nKnown for her show-stopping performances in Hairspray\, Xanadu\, Mean Girls\, and Beetlejuice\, Tony-nominated Broadway star Kerry Butler brings her acclaimed solo show Breaking Broadway to the stage for an evening of stories and songs from her extraordinary career on and off the Great White Way. \nEmelin Theatre
URL:https://www.whattododigital.com/event/emelin-theatre-kerry-butler-breaking-broadway/
LOCATION:Emelin Theatre
CATEGORIES:Arts,Music
ATTACH;FMTTYPE=image/jpeg:https://www.whattododigital.com/wp-content/uploads/2026/01/Emelin_Kerry-Butler-Breaking-Broadway-Banner-1.jpeg
END:VEVENT
END:VCALENDAR