BEGIN:VCALENDAR
VERSION:2.0
PRODID:-//What To Do - ECPv6.15.20//NONSGML v1.0//EN
CALSCALE:GREGORIAN
METHOD:PUBLISH
X-ORIGINAL-URL:https://www.whattododigital.com
X-WR-CALDESC:Events for What To Do
REFRESH-INTERVAL;VALUE=DURATION:PT1H
X-Robots-Tag:noindex
X-PUBLISHED-TTL:PT1H
BEGIN:VTIMEZONE
TZID:America/New_York
BEGIN:DAYLIGHT
TZOFFSETFROM:-0500
TZOFFSETTO:-0400
TZNAME:EDT
DTSTART:20240310T070000
END:DAYLIGHT
BEGIN:STANDARD
TZOFFSETFROM:-0400
TZOFFSETTO:-0500
TZNAME:EST
DTSTART:20241103T060000
END:STANDARD
BEGIN:DAYLIGHT
TZOFFSETFROM:-0500
TZOFFSETTO:-0400
TZNAME:EDT
DTSTART:20250309T070000
END:DAYLIGHT
BEGIN:STANDARD
TZOFFSETFROM:-0400
TZOFFSETTO:-0500
TZNAME:EST
DTSTART:20251102T060000
END:STANDARD
BEGIN:DAYLIGHT
TZOFFSETFROM:-0500
TZOFFSETTO:-0400
TZNAME:EDT
DTSTART:20260308T070000
END:DAYLIGHT
BEGIN:STANDARD
TZOFFSETFROM:-0400
TZOFFSETTO:-0500
TZNAME:EST
DTSTART:20261101T060000
END:STANDARD
END:VTIMEZONE
BEGIN:VEVENT
DTSTART;TZID=America/New_York:20250930T193000
DTEND;TZID=America/New_York:20250930T193000
DTSTAMP:20260425T221402
CREATED:20250814T150332Z
LAST-MODIFIED:20250814T150332Z
UID:88281-1759260600-1759260600@www.whattododigital.com
SUMMARY:Ridgefield Playhouse: Buena Vista Social Orchestra
DESCRIPTION:Ridgefield Playhouse: Buena Vista Social Orchestra \nThe Buena Vista Social Orchestra\, under the direction of Jesus “Aguaje” Ramos – original orchestra leader\, composer\, and trombonist of The Buena Vista Social Club – continues the legacy of the legendary group of keeping the arts\, music\, and culture of Cuba alive. The exciting\, new stage production features a repertoire pulled from their greatest hits\, many of which were composed by Ramos\, and deep-dive cuts. \nRamos is joined by an all-star ensemble including original Buena Vista Social Club members “Betun” Luis Mariano Valiente Marin (Congas\, Bongo) and Fabían Garcia (Bass). \nRidgefield Playhouse
URL:https://www.whattododigital.com/event/ridgefield-playhouse-buena-vista-social-orchestra/
LOCATION:The Ridgefield Playhouse\, 80 East Ridge\, Ridfgefield\, CT\, 06877\, United States
CATEGORIES:Music
ATTACH;FMTTYPE=image/jpeg:https://www.whattododigital.com/wp-content/uploads/2025/08/RPH-BVSO-550x800-1.jpg
END:VEVENT
END:VCALENDAR