BEGIN:VCALENDAR
VERSION:2.0
PRODID:-//What To Do - ECPv6.15.20//NONSGML v1.0//EN
CALSCALE:GREGORIAN
METHOD:PUBLISH
X-WR-CALNAME:What To Do
X-ORIGINAL-URL:https://www.whattododigital.com
X-WR-CALDESC:Events for What To Do
REFRESH-INTERVAL;VALUE=DURATION:PT1H
X-Robots-Tag:noindex
X-PUBLISHED-TTL:PT1H
BEGIN:VTIMEZONE
TZID:America/New_York
BEGIN:DAYLIGHT
TZOFFSETFROM:-0500
TZOFFSETTO:-0400
TZNAME:EDT
DTSTART:20240310T070000
END:DAYLIGHT
BEGIN:STANDARD
TZOFFSETFROM:-0400
TZOFFSETTO:-0500
TZNAME:EST
DTSTART:20241103T060000
END:STANDARD
BEGIN:DAYLIGHT
TZOFFSETFROM:-0500
TZOFFSETTO:-0400
TZNAME:EDT
DTSTART:20250309T070000
END:DAYLIGHT
BEGIN:STANDARD
TZOFFSETFROM:-0400
TZOFFSETTO:-0500
TZNAME:EST
DTSTART:20251102T060000
END:STANDARD
BEGIN:DAYLIGHT
TZOFFSETFROM:-0500
TZOFFSETTO:-0400
TZNAME:EDT
DTSTART:20260308T070000
END:DAYLIGHT
BEGIN:STANDARD
TZOFFSETFROM:-0400
TZOFFSETTO:-0500
TZNAME:EST
DTSTART:20261101T060000
END:STANDARD
END:VTIMEZONE
BEGIN:VEVENT
DTSTART;TZID=America/New_York:20251003T154500
DTEND;TZID=America/New_York:20251003T154500
DTSTAMP:20260425T220934
CREATED:20250929T211011Z
LAST-MODIFIED:20250929T211011Z
UID:91321-1759506300-1759506300@www.whattododigital.com
SUMMARY:JBFC: Taylor Swift The Official Release Party of a Showgirl
DESCRIPTION:JBFC: Taylor Swift The Official Release Party of a Showgirl \nSee the exclusive world premiere of the music video\, “The Fate of Ophelia”\, along with behind-the-scenes footage from the music video shoot\, brand new lyric videos\, and Taylor’s never-before-seen personal reflections on songs from her 12th studio album\, The Life of a Showgirl.b \nJacob Burns Film Center
URL:https://www.whattododigital.com/event/jbfc-taylor-swift-the-official-release-party-of-a-showgirl/
LOCATION:Jacob Burns Film Center
CATEGORIES:Arts,Kids,Music
ATTACH;FMTTYPE=image/jpeg:https://www.whattododigital.com/wp-content/uploads/2025/09/JBFC_Taylor-Swift.jpeg
END:VEVENT
BEGIN:VEVENT
DTSTART;TZID=America/New_York:20251005T150000
DTEND;TZID=America/New_York:20251005T150000
DTSTAMP:20260425T220934
CREATED:20250801T140105Z
LAST-MODIFIED:20250801T140105Z
UID:87957-1759676400-1759676400@www.whattododigital.com
SUMMARY:Rosen House Music Series: Abel Selaocoe (cello)
DESCRIPTION:Rosen House Music Series: Abel Selaocoe (cello) \nSouth African cellist\, Abel Selaocoe moves effortlessly between musical worlds\, weaving together Western classical traditions with the rich musical heritage of Africa. He released his second album\, Hymns of Bantu\, this past spring\, and at Caramoor Selaocoe will perform a program that includes New York premieres of new Caramoor co-commissions byMichel van der Aa\, Ben Nobuto\, and Selaocoe himself\, as well as works by Colin Alexander and Kit Downes and excerpts from Bach cello suites. \nCaramoor
URL:https://www.whattododigital.com/event/rosen-house-music-series-abel-selaocoe-cello/
LOCATION:Caramoor
CATEGORIES:Music
ATTACH;FMTTYPE=image/jpeg:https://www.whattododigital.com/wp-content/uploads/2025/08/Caramoor_Abel-Selaocoe-copy.jpg
END:VEVENT
BEGIN:VEVENT
DTSTART;TZID=America/New_York:20251005T170000
DTEND;TZID=America/New_York:20251005T170000
DTSTAMP:20260425T220934
CREATED:20250806T141021Z
LAST-MODIFIED:20250806T155641Z
UID:88050-1759683600-1759683600@www.whattododigital.com
SUMMARY:Capitol Theatre: Yes
DESCRIPTION:Capitol Theatre: Yes \nWith sales of over 50 million records\, the Grammy-award winning Prog Rock band Yes were inducted into The Rock And Roll Hall Of Fame in 2017. Here\, their incredible lead guitarist Steve Howe heads up a band of next-genYes members to perform their seminal album Fragile (“Roundabout\,” “Long Distance Runaround”) plus classic cuts. \nCapitol Theater
URL:https://www.whattododigital.com/event/capitol-theatre-yes/
LOCATION:The Capitol Theatre\, 149 Westchester Avenue\, Port Chester\, NY\, 10573\, United States
CATEGORIES:Music
ATTACH;FMTTYPE=image/jpeg:https://www.whattododigital.com/wp-content/uploads/2025/08/Cap_Yes.jpg
END:VEVENT
BEGIN:VEVENT
DTSTART;TZID=America/New_York:20251005T190000
DTEND;TZID=America/New_York:20251005T190000
DTSTAMP:20260425T220934
CREATED:20250630T163000Z
LAST-MODIFIED:20250630T163000Z
UID:87491-1759690800-1759690800@www.whattododigital.com
SUMMARY:The Purchase PAC: The Music of Taylor Swift\, Bridgerton & Beyond
DESCRIPTION:The Purchase PAC: The Music of Taylor Swift\, Bridgerton & Beyond \nNew York Observer wrote\, “VSQ’s atmospheric hits have made classical versions of pop music cool.” \nFresh off high-profile placements in Seasons 1 and 2 of Bridgerton\, VSQ has “reached a mainstream\, global audience” (Variety) and “charmed the world with their classical covers” (Nylon). New York Observer wrote\, “VSQ’s atmospheric hits have made classical versions of pop music cool.” \nHere they perform Taylor Swift\, music from the Netflix hit Bridgerton and more classically infused pop. \nTHE PURCHASE PAC
URL:https://www.whattododigital.com/event/the-purchase-pac-the-music-of-taylor-swift-bridgerton-beyond/
LOCATION:The Performing Arts Center Purchase College\, 735 Anderson Hill Rd.\, Purchase\, Purchase\, NY\, 10577\, United States
CATEGORIES:Music
ATTACH;FMTTYPE=image/jpeg:https://www.whattododigital.com/wp-content/uploads/2025/06/PAC_VitaminStringQuartet.jpg
END:VEVENT
BEGIN:VEVENT
DTSTART;TZID=America/New_York:20251003T154500
DTEND;TZID=America/New_York:20251003T154500
DTSTAMP:20260425T220934
CREATED:20250929T211011Z
LAST-MODIFIED:20250929T211011Z
UID:91321-1759506300-1759506300@www.whattododigital.com
SUMMARY:JBFC: Taylor Swift The Official Release Party of a Showgirl
DESCRIPTION:JBFC: Taylor Swift The Official Release Party of a Showgirl \nSee the exclusive world premiere of the music video\, “The Fate of Ophelia”\, along with behind-the-scenes footage from the music video shoot\, brand new lyric videos\, and Taylor’s never-before-seen personal reflections on songs from her 12th studio album\, The Life of a Showgirl.b \nJacob Burns Film Center
URL:https://www.whattododigital.com/event/jbfc-taylor-swift-the-official-release-party-of-a-showgirl/
LOCATION:Jacob Burns Film Center
CATEGORIES:Arts,Kids,Music
ATTACH;FMTTYPE=image/jpeg:https://www.whattododigital.com/wp-content/uploads/2025/09/JBFC_Taylor-Swift.jpeg
END:VEVENT
END:VCALENDAR