BEGIN:VCALENDAR
VERSION:2.0
PRODID:-//What To Do - ECPv6.15.20//NONSGML v1.0//EN
CALSCALE:GREGORIAN
METHOD:PUBLISH
X-WR-CALNAME:What To Do
X-ORIGINAL-URL:https://www.whattododigital.com
X-WR-CALDESC:Events for What To Do
REFRESH-INTERVAL;VALUE=DURATION:PT1H
X-Robots-Tag:noindex
X-PUBLISHED-TTL:PT1H
BEGIN:VTIMEZONE
TZID:America/New_York
BEGIN:DAYLIGHT
TZOFFSETFROM:-0500
TZOFFSETTO:-0400
TZNAME:EDT
DTSTART:20240310T070000
END:DAYLIGHT
BEGIN:STANDARD
TZOFFSETFROM:-0400
TZOFFSETTO:-0500
TZNAME:EST
DTSTART:20241103T060000
END:STANDARD
BEGIN:DAYLIGHT
TZOFFSETFROM:-0500
TZOFFSETTO:-0400
TZNAME:EDT
DTSTART:20250309T070000
END:DAYLIGHT
BEGIN:STANDARD
TZOFFSETFROM:-0400
TZOFFSETTO:-0500
TZNAME:EST
DTSTART:20251102T060000
END:STANDARD
BEGIN:DAYLIGHT
TZOFFSETFROM:-0500
TZOFFSETTO:-0400
TZNAME:EDT
DTSTART:20260308T070000
END:DAYLIGHT
BEGIN:STANDARD
TZOFFSETFROM:-0400
TZOFFSETTO:-0500
TZNAME:EST
DTSTART:20261101T060000
END:STANDARD
END:VTIMEZONE
BEGIN:VEVENT
DTSTART;TZID=America/New_York:20251102T190000
DTEND;TZID=America/New_York:20251102T190000
DTSTAMP:20260425T185809
CREATED:20250807T152310Z
LAST-MODIFIED:20250807T152310Z
UID:88125-1762110000-1762110000@www.whattododigital.com
SUMMARY:Tarrytown Music Hall: Natalie Merchant with Erik Della Pena
DESCRIPTION:Tarrytown Music Hall: Natalie Merchant with Erik Della Pena \nNatalie began her musical career as the lead vocalist and lyricist of the pop music band 10\,000 Maniacs in 1981 and released two platinum and four gold records with the group. She left the band in 1993 and has subsequently released nine albums as a solo artist with combined sales of seven million copies. \nTarrytown Music Hall
URL:https://www.whattododigital.com/event/tarrytown-music-hall-natalie-merchant-with-erik-della-pena/
LOCATION:Tarrytown Music Hall
CATEGORIES:Music
ATTACH;FMTTYPE=image/jpeg:https://www.whattododigital.com/wp-content/uploads/2025/08/TMH_NatalieMerchant.jpeg
END:VEVENT
BEGIN:VEVENT
DTSTART;TZID=America/New_York:20251102T200000
DTEND;TZID=America/New_York:20251102T200000
DTSTAMP:20260425T185809
CREATED:20251015T214351Z
LAST-MODIFIED:20251015T214351Z
UID:91468-1762113600-1762113600@www.whattododigital.com
SUMMARY:Capitol Theatre: Jason Bonham's Led Zeppelin Evening
DESCRIPTION:Capitol Theatre: Jason Bonham’s Led Zeppelin Evening \nJason Bonham\, son of Led Zeppelin drummer John Bonham\, celebrates the 50th anniversary of Led Zepp’s Physical Graffiti double “Kashmir\,” “Ten Years Gone\,” “In My Time of Dying”.) \nIn his own storied career\, he took his father’s spot in Led Zeppelin’s Atlantic Records 40th Anniversary concert\, won a gold record for the original song “Wait for You” in 1989\, played with Slash on a Tribute to Muddy Waters album\, has performed with U2\, Foreigner and recorded with Joe Bonnamasa. \nCapitol Theatre
URL:https://www.whattododigital.com/event/capitol-theatre-jason-bonhams-led-zeppelin-evening/
LOCATION:The Capitol Theatre\, 149 Westchester Avenue\, Port Chester\, NY\, 10573\, United States
CATEGORIES:Music
ATTACH;FMTTYPE=image/jpeg:https://www.whattododigital.com/wp-content/uploads/2025/10/cap_jasonBonham-copy.jpg
END:VEVENT
END:VCALENDAR