BEGIN:VCALENDAR
VERSION:2.0
PRODID:-//What To Do - ECPv6.15.20//NONSGML v1.0//EN
CALSCALE:GREGORIAN
METHOD:PUBLISH
X-ORIGINAL-URL:https://www.whattododigital.com
X-WR-CALDESC:Events for What To Do
REFRESH-INTERVAL;VALUE=DURATION:PT1H
X-Robots-Tag:noindex
X-PUBLISHED-TTL:PT1H
BEGIN:VTIMEZONE
TZID:America/New_York
BEGIN:DAYLIGHT
TZOFFSETFROM:-0500
TZOFFSETTO:-0400
TZNAME:EDT
DTSTART:20240310T070000
END:DAYLIGHT
BEGIN:STANDARD
TZOFFSETFROM:-0400
TZOFFSETTO:-0500
TZNAME:EST
DTSTART:20241103T060000
END:STANDARD
BEGIN:DAYLIGHT
TZOFFSETFROM:-0500
TZOFFSETTO:-0400
TZNAME:EDT
DTSTART:20250309T070000
END:DAYLIGHT
BEGIN:STANDARD
TZOFFSETFROM:-0400
TZOFFSETTO:-0500
TZNAME:EST
DTSTART:20251102T060000
END:STANDARD
BEGIN:DAYLIGHT
TZOFFSETFROM:-0500
TZOFFSETTO:-0400
TZNAME:EDT
DTSTART:20260308T070000
END:DAYLIGHT
BEGIN:STANDARD
TZOFFSETFROM:-0400
TZOFFSETTO:-0500
TZNAME:EST
DTSTART:20261101T060000
END:STANDARD
END:VTIMEZONE
BEGIN:VEVENT
DTSTART;TZID=America/New_York:20251204T200000
DTEND;TZID=America/New_York:20251204T200000
DTSTAMP:20260425T190137
CREATED:20251121T213852Z
LAST-MODIFIED:20251121T213852Z
UID:92450-1764878400-1764878400@www.whattododigital.com
SUMMARY:Capitol Theatre: Foreigner 4 The Deluxe Tour with Lou Gramm
DESCRIPTION:Capitol Theatre: Foreigner 4 The Deluxe Tour with Lou Gramm \nOriginal Foreigner frontman\, Lou Gramm\, joins Luis Maldonado (from The Voice) and Foreigner’s next-gen band for a two night run where they will perform their No. 1 smash album 4 and classic cuts from their long string of mega hits such as: “Feels Like the First Time\,” “Cold As Ice\,” “Hot Blooded\,” “Urgent\,” “Waiting for a Girl Like You\,” and “Juke Box Hero\,” \nCapitol Theatre
URL:https://www.whattododigital.com/event/capitol-theatre-foreigner-4-the-deluxe-tour-with-lou-gramm-2/
LOCATION:Capitol Theater
CATEGORIES:Music
ATTACH;FMTTYPE=image/jpeg:https://www.whattododigital.com/wp-content/uploads/2025/08/Cap_foreigner-copy.jpg
END:VEVENT
END:VCALENDAR