BEGIN:VCALENDAR
VERSION:2.0
PRODID:-//What To Do - ECPv6.15.20//NONSGML v1.0//EN
CALSCALE:GREGORIAN
METHOD:PUBLISH
X-ORIGINAL-URL:https://www.whattododigital.com
X-WR-CALDESC:Events for What To Do
REFRESH-INTERVAL;VALUE=DURATION:PT1H
X-Robots-Tag:noindex
X-PUBLISHED-TTL:PT1H
BEGIN:VTIMEZONE
TZID:America/New_York
BEGIN:DAYLIGHT
TZOFFSETFROM:-0500
TZOFFSETTO:-0400
TZNAME:EDT
DTSTART:20240310T070000
END:DAYLIGHT
BEGIN:STANDARD
TZOFFSETFROM:-0400
TZOFFSETTO:-0500
TZNAME:EST
DTSTART:20241103T060000
END:STANDARD
BEGIN:DAYLIGHT
TZOFFSETFROM:-0500
TZOFFSETTO:-0400
TZNAME:EDT
DTSTART:20250309T070000
END:DAYLIGHT
BEGIN:STANDARD
TZOFFSETFROM:-0400
TZOFFSETTO:-0500
TZNAME:EST
DTSTART:20251102T060000
END:STANDARD
BEGIN:DAYLIGHT
TZOFFSETFROM:-0500
TZOFFSETTO:-0400
TZNAME:EDT
DTSTART:20260308T070000
END:DAYLIGHT
BEGIN:STANDARD
TZOFFSETFROM:-0400
TZOFFSETTO:-0500
TZNAME:EST
DTSTART:20261101T060000
END:STANDARD
END:VTIMEZONE
BEGIN:VEVENT
DTSTART;TZID=America/New_York:20251205T190000
DTEND;TZID=America/New_York:20251205T190000
DTSTAMP:20260425T185604
CREATED:20251118T220928Z
LAST-MODIFIED:20251118T220928Z
UID:92013-1764961200-1764961200@www.whattododigital.com
SUMMARY:Paramount Hudson Valley: The Ultimate Elvis Experience
DESCRIPTION:Paramount Hudson Valley: The Ultimate Elvis Experience \nCrowned Graceland’s Ultimate Elvis Tribute Artist in 2022—the only Elvis tribute competition officially endorsed by Elvis Presley Enterprises—Victor has earned worldwide acclaim for his uncanny ability to capture the look\, sound\, and spirit of Elvis Presley. \nParamount Hudson Valley
URL:https://www.whattododigital.com/event/paramount-hudson-valley-the-ultimate-elvis-experience/
LOCATION:Paramount Hudson Valley
CATEGORIES:Music
ATTACH;FMTTYPE=image/jpeg:https://www.whattododigital.com/wp-content/uploads/2025/11/Elvis-Experience.jpeg
END:VEVENT
BEGIN:VEVENT
DTSTART;TZID=America/New_York:20251205T200000
DTEND;TZID=America/New_York:20251205T200000
DTSTAMP:20260425T185604
CREATED:20250806T153300Z
LAST-MODIFIED:20250806T153300Z
UID:88071-1764964800-1764964800@www.whattododigital.com
SUMMARY:Capitol Theatre: Allman Betts Family Revival
DESCRIPTION:Capitol Theatre: Allman Betts Family Revival \nDevon Allman and Duane Betts\, the sons of Allman Brothers Band legends Gregg Allman and Dickey Betts host the 9th annual Allman Betts Family Reunion featuring special guests Robert Randolph\, Amanda Shires\, Jimmy Hall\, G. Love\, Cody & Luther Dickinson\, Sierra Green\, Alex “Orbi ” Orbison & more to be announced! \nCapitol Theatre
URL:https://www.whattododigital.com/event/capitol-theatre-allman-betts-family-revival/
LOCATION:The Capitol Theatre\, 149 Westchester Avenue\, Port Chester\, NY\, 10573\, United States
CATEGORIES:Music
ATTACH;FMTTYPE=image/jpeg:https://www.whattododigital.com/wp-content/uploads/2025/08/Cap_Allman-Betts-A-copy.jpg
END:VEVENT
BEGIN:VEVENT
DTSTART;TZID=America/New_York:20251205T200000
DTEND;TZID=America/New_York:20251205T200000
DTSTAMP:20260425T185604
CREATED:20250811T152743Z
LAST-MODIFIED:20250811T152743Z
UID:88167-1764964800-1764964800@www.whattododigital.com
SUMMARY:Emelin Theatre: Storm Large: Holiday Ordeal
DESCRIPTION:Emelin Theatre: Storm Large: Holiday Ordeal \nExpect a cocktail of holiday classics\, rock-n-roll ballads\, and tongue-in-cheek torch songs delivered with powerhouse vocals and a wink. A long-time member of Pink Martini and a fan favorite from America’s Got Talent\, Storm is beloved for her magnetic stage presence and fearless honesty. Whether she’s crooning “I’ll Be Home for Christmas” or belting out an edgy original\, her holiday show is anything but ordinary. \nEmelin Theatre
URL:https://www.whattododigital.com/event/emelin-theatre-storm-large-holiday-ordeal/
LOCATION:Emelin Theatre
CATEGORIES:Music
ATTACH;FMTTYPE=image/jpeg:https://www.whattododigital.com/wp-content/uploads/2025/08/Emelin_storm-large.jpeg
END:VEVENT
BEGIN:VEVENT
DTSTART;TZID=America/New_York:20251205T200000
DTEND;TZID=America/New_York:20251205T200000
DTSTAMP:20260425T185604
CREATED:20251120T160859Z
LAST-MODIFIED:20251120T160859Z
UID:92070-1764964800-1764964800@www.whattododigital.com
SUMMARY:The Ridgefield Playhouse: Don McLean A Starry Starry Christmas
DESCRIPTION:The Ridgefield Playhouse: Don McLean A Starry Starry Christmas \nDon McLean ‘s debut album\, “Tapestry\,” marked his emergence as an underground sensation\, earning praise and commercial success. His magnum opus\, “American Pie\,” catapulted McLean to international stardom making history as the longest song to top the charts. \nRidgefield Playhouse
URL:https://www.whattododigital.com/event/the-ridgefield-playhouse-don-mclean-a-starry-starry-christmas/
LOCATION:The Ridgefield Playhouse\, 80 East Ridge\, Ridfgefield\, CT\, 06877\, United States
CATEGORIES:Music
ATTACH;FMTTYPE=image/jpeg:https://www.whattododigital.com/wp-content/uploads/2025/11/RPH-DON-MCLEAN-550x800-1-scaled-copy.jpg
END:VEVENT
BEGIN:VEVENT
DTSTART;TZID=America/New_York:20251205T203000
DTEND;TZID=America/New_York:20251205T203000
DTSTAMP:20260425T185604
CREATED:20251121T223537Z
LAST-MODIFIED:20251121T223537Z
UID:92534-1764966600-1764966600@www.whattododigital.com
SUMMARY:Candlelight Concerts: Coldplay & Imagine Dragons
DESCRIPTION:Candlelight Concerts: Coldplay & Imagine Dragons \nThe Highline String Quartet performs the works of Coldplay and Imagine Dragons on strings. Featuring “Viva La Vida\,” “Radioactive\,” and more. \nCandlelight Concerts
URL:https://www.whattododigital.com/event/candlelight-concerts-coldplay-imagine-dragons-2/
LOCATION:St. Marks Episcopal Church\, 85 E Main St.\, Mount Kisco\, NY\, 10549\, United States
CATEGORIES:Music,Music Classical
ATTACH;FMTTYPE=image/jpeg:https://www.whattododigital.com/wp-content/uploads/2025/10/Candlelight_Fleetwod.jpeg
END:VEVENT
END:VCALENDAR