BEGIN:VCALENDAR
VERSION:2.0
PRODID:-//What To Do - ECPv6.15.20//NONSGML v1.0//EN
CALSCALE:GREGORIAN
METHOD:PUBLISH
X-WR-CALNAME:What To Do
X-ORIGINAL-URL:https://www.whattododigital.com
X-WR-CALDESC:Events for What To Do
REFRESH-INTERVAL;VALUE=DURATION:PT1H
X-Robots-Tag:noindex
X-PUBLISHED-TTL:PT1H
BEGIN:VTIMEZONE
TZID:America/New_York
BEGIN:DAYLIGHT
TZOFFSETFROM:-0500
TZOFFSETTO:-0400
TZNAME:EDT
DTSTART:20240310T070000
END:DAYLIGHT
BEGIN:STANDARD
TZOFFSETFROM:-0400
TZOFFSETTO:-0500
TZNAME:EST
DTSTART:20241103T060000
END:STANDARD
BEGIN:DAYLIGHT
TZOFFSETFROM:-0500
TZOFFSETTO:-0400
TZNAME:EDT
DTSTART:20250309T070000
END:DAYLIGHT
BEGIN:STANDARD
TZOFFSETFROM:-0400
TZOFFSETTO:-0500
TZNAME:EST
DTSTART:20251102T060000
END:STANDARD
BEGIN:DAYLIGHT
TZOFFSETFROM:-0500
TZOFFSETTO:-0400
TZNAME:EDT
DTSTART:20260308T070000
END:DAYLIGHT
BEGIN:STANDARD
TZOFFSETFROM:-0400
TZOFFSETTO:-0500
TZNAME:EST
DTSTART:20261101T060000
END:STANDARD
END:VTIMEZONE
BEGIN:VEVENT
DTSTART;TZID=America/New_York:20251206T200000
DTEND;TZID=America/New_York:20251206T200000
DTSTAMP:20260425T190029
CREATED:20250803T200535Z
LAST-MODIFIED:20250803T200535Z
UID:87976-1765051200-1765051200@www.whattododigital.com
SUMMARY:Rosen House Concert Series: Roseanne Cash
DESCRIPTION:Rosen House Concert Series: Roseanne Cash \nThis four-time Grammy winner brings her blend of Americana\, folk\, and country to the Rosen House’s intimate stage\, alongside her husband and musical partner John Leventhal. With 21 Top 40 hits and 11 chart-toppers to her name\, Cash’s storytelling and musical heritage shine through in every song. \nCaramoor
URL:https://www.whattododigital.com/event/rosen-house-concert-series-roseanne-cash/
LOCATION:Caramoor
CATEGORIES:Music
ATTACH;FMTTYPE=image/jpeg:https://www.whattododigital.com/wp-content/uploads/2025/08/Caramoor_Roseanne-Cash-copy.jpg
END:VEVENT
BEGIN:VEVENT
DTSTART;TZID=America/New_York:20251206T200000
DTEND;TZID=America/New_York:20251206T200000
DTSTAMP:20260425T190029
CREATED:20250811T154042Z
LAST-MODIFIED:20250811T154042Z
UID:88176-1765051200-1765051200@www.whattododigital.com
SUMMARY:Emelin Theatre: The Martin Sexton Abbey Road Show
DESCRIPTION:Emelin Theatre: The Martin Sexton Abbey Road Show \nAcclaimed singer-songwriter Martin Sexton returns and puts his own soulful\, blues-infused spin on The Beatles’ legendary Abbey Road album in this one-of-a-kind tribute concert. Known for his remarkable vocal range and powerful live performances\, Sexton reimagines these timeless songs with heartfelt storytelling and masterful musicianship. \nEmelin Theatre
URL:https://www.whattododigital.com/event/emelin-theatre-the-martin-sexton-abbey-road-show/
LOCATION:Emelin Theatre
CATEGORIES:Music
ATTACH;FMTTYPE=image/jpeg:https://www.whattododigital.com/wp-content/uploads/2025/08/Emelin_Martin_Sexton.jpeg
END:VEVENT
BEGIN:VEVENT
DTSTART;TZID=America/New_York:20251206T200000
DTEND;TZID=America/New_York:20251206T200000
DTSTAMP:20260425T190029
CREATED:20251103T215643Z
LAST-MODIFIED:20251103T215643Z
UID:91892-1765051200-1765051200@www.whattododigital.com
SUMMARY:Palace Stamford: Julia Cole
DESCRIPTION:Palace Stamford: Julia Cole \nJulia Cole has performed at the Grand Olde Opry\, has been named a CMT Next Woman of Country\, and haa toured globally in over 10 countries opening for acts like Dierks Bentley\, Dan + Shay\, Jon Pardi\, Carrie Underwood\, Kenny Chesney\, Kane Brown\, The Chainsmokers\, Lee Brice and more. \nPalace Stamford
URL:https://www.whattododigital.com/event/palace-stamford-julia-cole/
LOCATION:The Palace Stamford\, 61 Atlantic St.\, Stamford\, CT\, 06901\, United States
CATEGORIES:Music
ATTACH;FMTTYPE=image/jpeg:https://www.whattododigital.com/wp-content/uploads/2025/11/Palace_Julia-Cole.jpeg
END:VEVENT
BEGIN:VEVENT
DTSTART;TZID=America/New_York:20251206T203000
DTEND;TZID=America/New_York:20251206T203000
DTSTAMP:20260425T190029
CREATED:20251121T222134Z
LAST-MODIFIED:20251121T222253Z
UID:92511-1765053000-1765053000@www.whattododigital.com
SUMMARY:Candlelight Concerts Tribute to Queen
DESCRIPTION:Candlelight Concerts Tribute to Queen \nThe High Line Quartet performs the works o Queen on strings. The Program features “Somebody to Love\,” “Under Pressure\,” “Bohemian Rhapsody\,” “Crazy Little Thing Called Love\,” Fat Bottomed Girls\,” and more. \nCandlelight Concerts
URL:https://www.whattododigital.com/event/candlelight-concerts-tribute-to-queen-2/
LOCATION:St. Marks Episcopal Church\, 85 E Main St.\, Mount Kisco\, NY\, 10549\, United States
CATEGORIES:Music,Music Classical
ATTACH;FMTTYPE=image/jpeg:https://www.whattododigital.com/wp-content/uploads/2025/10/Candlelight_Queen.jpeg
END:VEVENT
END:VCALENDAR