BEGIN:VCALENDAR
VERSION:2.0
PRODID:-//What To Do - ECPv6.15.20//NONSGML v1.0//EN
CALSCALE:GREGORIAN
METHOD:PUBLISH
X-WR-CALNAME:What To Do
X-ORIGINAL-URL:https://www.whattododigital.com
X-WR-CALDESC:Events for What To Do
REFRESH-INTERVAL;VALUE=DURATION:PT1H
X-Robots-Tag:noindex
X-PUBLISHED-TTL:PT1H
BEGIN:VTIMEZONE
TZID:America/New_York
BEGIN:DAYLIGHT
TZOFFSETFROM:-0500
TZOFFSETTO:-0400
TZNAME:EDT
DTSTART:20250309T070000
END:DAYLIGHT
BEGIN:STANDARD
TZOFFSETFROM:-0400
TZOFFSETTO:-0500
TZNAME:EST
DTSTART:20251102T060000
END:STANDARD
BEGIN:DAYLIGHT
TZOFFSETFROM:-0500
TZOFFSETTO:-0400
TZNAME:EDT
DTSTART:20260308T070000
END:DAYLIGHT
BEGIN:STANDARD
TZOFFSETFROM:-0400
TZOFFSETTO:-0500
TZNAME:EST
DTSTART:20261101T060000
END:STANDARD
BEGIN:DAYLIGHT
TZOFFSETFROM:-0500
TZOFFSETTO:-0400
TZNAME:EDT
DTSTART:20270314T070000
END:DAYLIGHT
BEGIN:STANDARD
TZOFFSETFROM:-0400
TZOFFSETTO:-0500
TZNAME:EST
DTSTART:20271107T060000
END:STANDARD
END:VTIMEZONE
BEGIN:VEVENT
DTSTART;TZID=America/New_York:20260314T150000
DTEND;TZID=America/New_York:20260314T150000
DTSTAMP:20260423T211803
CREATED:20260302T202505Z
LAST-MODIFIED:20260302T202505Z
UID:93816-1773500400-1773500400@www.whattododigital.com
SUMMARY:Palace Stamford: Dream Like Taylor
DESCRIPTION:Palace Stamford: Dream Like Taylor \nThis tribute\, created by Cassie B and developed at UC San Diego features all of Taylor’s top hits including; ‘Shake It Off’\, ‘Blank Space’\, ‘Love Story’\, and many more. Join Cassie B in her wildest dream\, celebrating the music of Taylor Swift. \nPalace Stamford
URL:https://www.whattododigital.com/event/palace-stamford-dream-like-taylor/
LOCATION:The Palace Stamford\, 61 Atlantic St.\, Stamford\, CT\, 06901\, United States
CATEGORIES:Music
ATTACH;FMTTYPE=image/jpeg:https://www.whattododigital.com/wp-content/uploads/2026/03/Palace_dreamliketaylor.jpeg
END:VEVENT
BEGIN:VEVENT
DTSTART;TZID=America/New_York:20260314T200000
DTEND;TZID=America/New_York:20260314T200000
DTSTAMP:20260423T211803
CREATED:20260102T221509Z
LAST-MODIFIED:20260102T221509Z
UID:93070-1773518400-1773518400@www.whattododigital.com
SUMMARY:The Capitol Theatre: Unbroken Chain: A Celebration of the Life and Music of Phil Lesh
DESCRIPTION:The Capitol Theatre: Unbroken Chain: A Celebration of the Life and Music of Phil Lesh \nHosted by Grahma Lesh & Friends and featuring… \nDaniel Donato\, Luther Dickinson\, Trevor Weekz\, Aron Magner\, Cory Henry\, John Molo\, Alex Koford\, Mikaela Davis\, and Amy Helm. \nCapitol Theatre
URL:https://www.whattododigital.com/event/the-capitol-theatre-unbroken-chain-a-celebration-of-the-life-and-music-of-phil-lesh-3/
LOCATION:The Capitol Theatre\, 149 Westchester Avenue\, Port Chester\, NY\, 10573\, United States
CATEGORIES:Music
ATTACH;FMTTYPE=image/jpeg:https://www.whattododigital.com/wp-content/uploads/2026/01/Cap_Graham-Lesh-copy.jpg
END:VEVENT
END:VCALENDAR