BEGIN:VCALENDAR
VERSION:2.0
PRODID:-//What To Do - ECPv6.15.20//NONSGML v1.0//EN
CALSCALE:GREGORIAN
METHOD:PUBLISH
X-ORIGINAL-URL:https://www.whattododigital.com
X-WR-CALDESC:Events for What To Do
REFRESH-INTERVAL;VALUE=DURATION:PT1H
X-Robots-Tag:noindex
X-PUBLISHED-TTL:PT1H
BEGIN:VTIMEZONE
TZID:America/New_York
BEGIN:DAYLIGHT
TZOFFSETFROM:-0500
TZOFFSETTO:-0400
TZNAME:EDT
DTSTART:20250309T070000
END:DAYLIGHT
BEGIN:STANDARD
TZOFFSETFROM:-0400
TZOFFSETTO:-0500
TZNAME:EST
DTSTART:20251102T060000
END:STANDARD
BEGIN:DAYLIGHT
TZOFFSETFROM:-0500
TZOFFSETTO:-0400
TZNAME:EDT
DTSTART:20260308T070000
END:DAYLIGHT
BEGIN:STANDARD
TZOFFSETFROM:-0400
TZOFFSETTO:-0500
TZNAME:EST
DTSTART:20261101T060000
END:STANDARD
BEGIN:DAYLIGHT
TZOFFSETFROM:-0500
TZOFFSETTO:-0400
TZNAME:EDT
DTSTART:20270314T070000
END:DAYLIGHT
BEGIN:STANDARD
TZOFFSETFROM:-0400
TZOFFSETTO:-0500
TZNAME:EST
DTSTART:20271107T060000
END:STANDARD
END:VTIMEZONE
BEGIN:VEVENT
DTSTART;TZID=America/New_York:20260315T190000
DTEND;TZID=America/New_York:20260315T190000
DTSTAMP:20260423T182732
CREATED:20260108T190222Z
LAST-MODIFIED:20260108T190222Z
UID:93463-1773601200-1773601200@www.whattododigital.com
SUMMARY:Tarrytown Music Hall: All You Need Is George
DESCRIPTION:Tarrytown Music Hall: All You Need Is George \nJackie Greene\, Steve Kimock\, Pete Lavezzoli\, Reed Mathis\, Berry Duane Oakley\, and Gil Assayas unite for a once-in-a-lifetime celebration of George Harrison’s timeless legacy. \nTarrytown Music Hall
URL:https://www.whattododigital.com/event/tarrytown-music-hall-all-you-need-is-george/
LOCATION:Tarrytown Music Hall
CATEGORIES:Music
ATTACH;FMTTYPE=image/jpeg:https://www.whattododigital.com/wp-content/uploads/2026/01/TMH_AllUNeedIsGeorge25fb.jpeg
END:VEVENT
BEGIN:VEVENT
DTSTART;TZID=America/New_York:20260315T193000
DTEND;TZID=America/New_York:20260315T193000
DTSTAMP:20260423T182732
CREATED:20260105T222255Z
LAST-MODIFIED:20260105T222255Z
UID:93224-1773603000-1773603000@www.whattododigital.com
SUMMARY:Ridgefield Playhouse: Patti LuPone: Matters of the Heart
DESCRIPTION:Ridgefield Playhouse: Patti LuPone: Matters of the Heart \nThree-time Tony Award winner Patti LuPone celebrates the 25th Anniversary of the Broadway engagement of her acclaimed theatrical concert Matters of the Heart\, which she also performed on London’s West End\, as well as national and international tour dates. \nIn Matters of the Heart\, Ms. LuPone takes the audience on an exploration of the crimes\, affairs and the mysteries of the heart\, with electrifying performances of over two dozen love songs ranging from Broadway favorites to works by today’s top contemporary songwriters. \nRidgefield Playhouse
URL:https://www.whattododigital.com/event/ridgefield-playhouse-patti-lupone-matters-of-the-heart/
LOCATION:The Ridgefield Playhouse\, 80 East Ridge\, Ridfgefield\, CT\, 06877\, United States
CATEGORIES:Arts,Music
ATTACH;FMTTYPE=image/jpeg:https://www.whattododigital.com/wp-content/uploads/2026/01/RPH-PATTI-LUPONE-550x800-1-copy.jpg
END:VEVENT
BEGIN:VEVENT
DTSTART;TZID=America/New_York:20260315T200000
DTEND;TZID=America/New_York:20260315T200000
DTSTAMP:20260423T182732
CREATED:20260102T221620Z
LAST-MODIFIED:20260102T221620Z
UID:93073-1773604800-1773604800@www.whattododigital.com
SUMMARY:The Capitol Theatre: Unbroken Chain: A Celebration of the Life and Music of Phil Lesh
DESCRIPTION:The Capitol Theatre: Unbroken Chain: A Celebration of the Life and Music of Phil Lesh \nHosted by Grahma Lesh & Friends and featuring… \nDaniel Donato\, Luther Dickinson\, Trevor Weekz\, Aron Magner\, Cory Henry\, John Molo\, Alex Koford\, Mikaela Davis\, and Amy Helm. \nCapitol Theatre
URL:https://www.whattododigital.com/event/the-capitol-theatre-unbroken-chain-a-celebration-of-the-life-and-music-of-phil-lesh-4/
LOCATION:The Capitol Theatre\, 149 Westchester Avenue\, Port Chester\, NY\, 10573\, United States
CATEGORIES:Music
ATTACH;FMTTYPE=image/jpeg:https://www.whattododigital.com/wp-content/uploads/2026/01/Cap_Graham-Lesh-copy.jpg
END:VEVENT
END:VCALENDAR