BEGIN:VCALENDAR
VERSION:2.0
PRODID:-//What To Do - ECPv6.15.20//NONSGML v1.0//EN
CALSCALE:GREGORIAN
METHOD:PUBLISH
X-WR-CALNAME:What To Do
X-ORIGINAL-URL:https://www.whattododigital.com
X-WR-CALDESC:Events for What To Do
REFRESH-INTERVAL;VALUE=DURATION:PT1H
X-Robots-Tag:noindex
X-PUBLISHED-TTL:PT1H
BEGIN:VTIMEZONE
TZID:America/New_York
BEGIN:DAYLIGHT
TZOFFSETFROM:-0500
TZOFFSETTO:-0400
TZNAME:EDT
DTSTART:20250309T070000
END:DAYLIGHT
BEGIN:STANDARD
TZOFFSETFROM:-0400
TZOFFSETTO:-0500
TZNAME:EST
DTSTART:20251102T060000
END:STANDARD
BEGIN:DAYLIGHT
TZOFFSETFROM:-0500
TZOFFSETTO:-0400
TZNAME:EDT
DTSTART:20260308T070000
END:DAYLIGHT
BEGIN:STANDARD
TZOFFSETFROM:-0400
TZOFFSETTO:-0500
TZNAME:EST
DTSTART:20261101T060000
END:STANDARD
BEGIN:DAYLIGHT
TZOFFSETFROM:-0500
TZOFFSETTO:-0400
TZNAME:EDT
DTSTART:20270314T070000
END:DAYLIGHT
BEGIN:STANDARD
TZOFFSETFROM:-0400
TZOFFSETTO:-0500
TZNAME:EST
DTSTART:20271107T060000
END:STANDARD
END:VTIMEZONE
BEGIN:VEVENT
DTSTART;TZID=America/New_York:20260509T200000
DTEND;TZID=America/New_York:20260509T200000
DTSTAMP:20260423T020108
CREATED:20260417T144918Z
LAST-MODIFIED:20260417T144918Z
UID:94414-1778356800-1778356800@www.whattododigital.com
SUMMARY:Paramount Hudson Valley: Ben Folds & A Piano
DESCRIPTION:Paramount Hudson Valley: Ben Folds & A Piano \nThe Emmy-nominated singer-songwriter-composer has created an enormous body of genre-bending music that includes pop albums with Ben Folds Five\, multiple solo albums\, and numerous collaborative records. \nParamount Hudson Valley
URL:https://www.whattododigital.com/event/paramount-hudson-valley-ben-folds-a-piano/
LOCATION:Paramount Hudson Valley
CATEGORIES:Music
ATTACH;FMTTYPE=image/jpeg:https://www.whattododigital.com/wp-content/uploads/2026/04/Paramount_Ben-Folds.jpeg
END:VEVENT
BEGIN:VEVENT
DTSTART;TZID=America/New_York:20260515T200000
DTEND;TZID=America/New_York:20260515T200000
DTSTAMP:20260423T020108
CREATED:20260420T160619Z
LAST-MODIFIED:20260420T160619Z
UID:94489-1778875200-1778875200@www.whattododigital.com
SUMMARY:Palace Stamford: Leonid & Friends
DESCRIPTION:Palace Stamford: Leonid & Friends Chicago Tribute \nLeonid & Friends\, famous for their tributes to the American supergroup Chicago\, has expanded their repertoire to include Earth Wind & Fire\, Blood Sweat & Tears\, Ides of March\, Stevie Wonder\, Steely Dan\, Deep Purple\, and new original material. This  11-piece band now has over 1.2 million followersacross social media\, 300 million+ video views\, and over 400 successful US shows under their belt. \nPalace Stamford
URL:https://www.whattododigital.com/event/palace-stamford-leonid-friends/
LOCATION:The Palace Stamford\, 61 Atlantic St.\, Stamford\, CT\, 06901\, United States
CATEGORIES:Music
ATTACH;FMTTYPE=image/jpeg:https://www.whattododigital.com/wp-content/uploads/2026/04/Palace_leonid.jpeg
END:VEVENT
BEGIN:VEVENT
DTSTART;TZID=America/New_York:20260516T170000
DTEND;TZID=America/New_York:20260516T170000
DTSTAMP:20260423T020108
CREATED:20260102T182415Z
LAST-MODIFIED:20260102T182440Z
UID:92974-1778950800-1778950800@www.whattododigital.com
SUMMARY:Performing Arts Center Purchase College: CMS of Lincoln Center: Schubertiade
DESCRIPTION:Performing Arts Center Purchase College: CMS of Lincoln Center: Schubertiade \nThe “Schubertiade” was invented during Franz Schubert’s lifetime by his friends\, who would gather for long evenings to enjoy their favorite composer’s music. Join us as we close our 2025-2026 CMS of Lincoln Center season with a Schubertiade exploring Schubert in three settings: his inimitable four-hand piano music\, his virtuosic vein with a violin-and-piano showpiece\, and his profound statements in the epic Trio in E-flat major\, which took the genre to unparalleled levels of complexity and emotional intensity. \nPerforming Arts Center Purchase College
URL:https://www.whattododigital.com/event/performing-arts-center-purchase-college-cms-of-lincoln-center-schubertiade/
LOCATION:The Performing Arts Center Purchase College\, 735 Anderson Hill Rd.\, Purchase\, Purchase\, NY\, 10577\, United States
CATEGORIES:Music
ATTACH;FMTTYPE=image/jpeg:https://www.whattododigital.com/wp-content/uploads/2026/01/PAC_CMS3_DFWH_.jpg
END:VEVENT
BEGIN:VEVENT
DTSTART;TZID=America/New_York:20260516T200000
DTEND;TZID=America/New_York:20260516T200000
DTSTAMP:20260423T020108
CREATED:20260420T212019Z
LAST-MODIFIED:20260420T212019Z
UID:94537-1778961600-1778961600@www.whattododigital.com
SUMMARY:Ridgefield Playhouse: Brad Mehldau
DESCRIPTION:Ridgefield Playhouse: Brad Mehldau \nFrom critical acclaim as a bandleader to major international exposure in collaborations with Pat Metheny\, Renee Fleming\, and Joshua Redman\, Mehldau continues to garner numerous awards and admiration from both jazz purists and music enthusiasts alike. His forays into melding musical idioms\, in both trio and solo settings\, has seen brilliant re-workings of songs by contemporary songwriters like The Beatles\, Cole Porter\, Radiohead\, Paul Simon\, Gershwin and Nick Drake. \nRidgefield Playhouse
URL:https://www.whattododigital.com/event/ridgefield-playhouse-brad-mehldau/
LOCATION:The Ridgefield Playhouse\, 80 East Ridge\, Ridfgefield\, CT\, 06877\, United States
CATEGORIES:Music
ATTACH;FMTTYPE=image/jpeg:https://www.whattododigital.com/wp-content/uploads/2026/04/RPH-BRAD-MEHLDAU-TRIO-550x800-1-copy.jpeg
END:VEVENT
BEGIN:VEVENT
DTSTART;TZID=America/New_York:20260520T193000
DTEND;TZID=America/New_York:20260520T193000
DTSTAMP:20260423T020108
CREATED:20260420T212542Z
LAST-MODIFIED:20260420T212542Z
UID:94543-1779305400-1779305400@www.whattododigital.com
SUMMARY:Ridgefield Playhouse: Pink Martini
DESCRIPTION:Ridgefield Playhouse: Pink Martini \nPresenting a mélange of catchy old-fashioned pop\, global color\, foot-tapping big band sound\, and Hollywood glamour\, Oregon’s famous “little orchestra” performs music intended to appeal to everyone\, regardless of age or background. \nRidgefield Playhouse
URL:https://www.whattododigital.com/event/ridgefield-playhouse-pink-martini/
LOCATION:The Ridgefield Playhouse\, 80 East Ridge\, Ridfgefield\, CT\, 06877\, United States
CATEGORIES:Music
ATTACH;FMTTYPE=image/jpeg:https://www.whattododigital.com/wp-content/uploads/2026/04/RPH-PINK-MARTINI-550x800-2-copy-e1776720247747.jpg
END:VEVENT
BEGIN:VEVENT
DTSTART;TZID=America/New_York:20260528T200000
DTEND;TZID=America/New_York:20260528T200000
DTSTAMP:20260423T020108
CREATED:20260420T164006Z
LAST-MODIFIED:20260420T164006Z
UID:94501-1779998400-1779998400@www.whattododigital.com
SUMMARY:Palace Stamford: Lou Gramm of Foreigner
DESCRIPTION:Palace Stamford: Lou Gramm of Foreigner \nFounding member\, Lou Gramm was the lead vocalist on all of Foreigner’s hit songs\, including “Feels Like the First Time\,” “Cold as Ice\,” “Long\, Long Way from Home\,” “Hot Blooded\,” “Double Vision\,” “Blue Morning\, Blue Day\,” “Head Games\,” “Dirty White Boy\,” “Urgent\,” “Juke Box Hero\,” “Break It Up\,” and “Say You Will.” \nHe co-wrote most of the songs for the band\, including two of its biggest hits “Waiting for a Girl Like You”\, which spent ten weeks at #2 on the 1981-82\nAmerican Hot 100\, and “I Want to Know What Love Is”\, which was a #1 hit internationally (US & UK) in 1985. \nPalace Stamford
URL:https://www.whattododigital.com/event/palace-stamford-lou-gramm-of-foreigner/
LOCATION:The Palace Stamford\, 61 Atlantic St.\, Stamford\, CT\, 06901\, United States
CATEGORIES:Music
ATTACH;FMTTYPE=image/jpeg:https://www.whattododigital.com/wp-content/uploads/2026/04/Palace_foreigner_lou.jpeg
END:VEVENT
BEGIN:VEVENT
DTSTART;TZID=America/New_York:20260529T200000
DTEND;TZID=America/New_York:20260529T200000
DTSTAMP:20260423T020108
CREATED:20260417T145444Z
LAST-MODIFIED:20260417T145444Z
UID:94420-1780084800-1780084800@www.whattododigital.com
SUMMARY:Paramount Hudson Valley: The Righteous Brothers
DESCRIPTION:Paramount Hudson Valley: The Righteous Brothers \nFor more than six decades\, Bill Medley’s iconic bass-baritone and the unmistakable harmonies of The Righteous Brothers have shaped the soundtrack of generations. Joined by powerhouse vocalist Bucky Heard\, the duo takes fans on a musical journey through the early days of rock and roll and features a full slate of the hits that made them legends—“You’ve Lost That Lovin’ Feelin’\,” “Unchained Melody\,” “(I’ve Had) The Time of My Life\,” “Soul and Inspiration\,” “Ebb Tide\,” “Rock and Roll Heaven\,” and many more. \nParamount Hudson Valley
URL:https://www.whattododigital.com/event/paramount-hudson-valley-the-righteous-brothers/
LOCATION:Paramount Hudson Valley
CATEGORIES:Music
ATTACH;FMTTYPE=image/jpeg:https://www.whattododigital.com/wp-content/uploads/2026/04/Paramount_righteousbros-copy.jpg
END:VEVENT
BEGIN:VEVENT
DTSTART;TZID=America/New_York:20260529T200000
DTEND;TZID=America/New_York:20260529T200000
DTSTAMP:20260423T020108
CREATED:20260417T154530Z
LAST-MODIFIED:20260417T154530Z
UID:94454-1780084800-1780084800@www.whattododigital.com
SUMMARY:Capitol Theatre: Jason Mraz
DESCRIPTION:Capitol Theatre: Jason Mraz \nJason Mraz is a two-time GRAMMY® Award winning singer/songwriter and Songwriters Hall of Fame Honoree\, most famously known by his hits\, “I’m Yours” and “I Won’t Give Up.” \nCapitol Theatre
URL:https://www.whattododigital.com/event/capitol-theatre-jason-mraz/
LOCATION:The Capitol Theatre\, 149 Westchester Avenue\, Port Chester\, NY\, 10573\, United States
CATEGORIES:Music
ATTACH;FMTTYPE=image/jpeg:https://www.whattododigital.com/wp-content/uploads/2026/04/Cap_jasonMraz-copy.jpg
END:VEVENT
BEGIN:VEVENT
DTSTART;TZID=America/New_York:20260603T200000
DTEND;TZID=America/New_York:20260603T200000
DTSTAMP:20260423T020108
CREATED:20260417T162716Z
LAST-MODIFIED:20260417T162716Z
UID:94460-1780516800-1780516800@www.whattododigital.com
SUMMARY:Capitol Theatre: David Lee Roth
DESCRIPTION:Capitol Theatre: David Lee Roth \nDon’t miss this rare local appearance of Van Halen frontman and Rock and Roll Hall of Famer\, David Lee Roth. \nCapitol Theatre
URL:https://www.whattododigital.com/event/capitol-theatre-david-lee-roth/
LOCATION:The Capitol Theatre\, 149 Westchester Avenue\, Port Chester\, NY\, 10573\, United States
CATEGORIES:Music
ATTACH;FMTTYPE=image/jpeg:https://www.whattododigital.com/wp-content/uploads/2026/04/cap_davidLeeRoth.jpg
END:VEVENT
BEGIN:VEVENT
DTSTART;TZID=America/New_York:20260612T200000
DTEND;TZID=America/New_York:20260612T200000
DTSTAMP:20260423T020108
CREATED:20260420T215642Z
LAST-MODIFIED:20260420T215642Z
UID:94555-1781294400-1781294400@www.whattododigital.com
SUMMARY:Paramount Hudson Valley: Big Bad Voodoo Daddy
DESCRIPTION:Paramount Hudson Valley: Big Bad Voodoo Daddy \nFor more than three decades\, Big Bad Voodoo Daddy has been the driving force behind the modern swing revival\, and on June 12\, they bring their electrifying live show to Paramount Hudson Valley Theater. \nWith over 2 million albums sold\, more than 3\,000 live shows\, and an average of 150 performances a year\, BBVD has built a reputation as one of the most dynamic and enduring live acts in American music. \nParamount Hudson Valley
URL:https://www.whattododigital.com/event/paramount-hudson-valley-big-bad-voodoo-daddy/
LOCATION:Paramount Hudson Valley
CATEGORIES:Music
ATTACH;FMTTYPE=image/jpeg:https://www.whattododigital.com/wp-content/uploads/2026/04/Paramount_Big-Bad-Voodoo-Daddy-Temp-1920x1080-v2-copy.jpg
END:VEVENT
BEGIN:VEVENT
DTSTART;TZID=America/New_York:20260620T190000
DTEND;TZID=America/New_York:20260620T190000
DTSTAMP:20260423T020108
CREATED:20260316T195000Z
LAST-MODIFIED:20260316T195000Z
UID:93965-1781982000-1781982000@www.whattododigital.com
SUMMARY:Caramoor Opening Night: Kelli O'Hara
DESCRIPTION:Caramoor Opening Night: Kelli O’Hara \nOne of Broadway’s most beloved voices\, Tony Award-winner and Emmy and Grammy nominee Kelli O’Hara returns to Caramoor to kick off our 81st Season. Experience the magic of this artist who continues to define the beauty and heart of the Broadway stage\, with a program of American Songbook gems\, Broadway favorites\, and timeless pop standards. \nCARAMOOR
URL:https://www.whattododigital.com/event/caramoor-opening-night-kelli-ohara/
LOCATION:Caramoor
CATEGORIES:Arts,Music
ATTACH;FMTTYPE=image/jpeg:https://www.whattododigital.com/wp-content/uploads/2026/03/Caramoor_Kelli-OHara.jpg
END:VEVENT
BEGIN:VEVENT
DTSTART;TZID=America/New_York:20260620T200000
DTEND;TZID=America/New_York:20260620T200000
DTSTAMP:20260423T020108
CREATED:20260420T220226Z
LAST-MODIFIED:20260420T220226Z
UID:94561-1781985600-1781985600@www.whattododigital.com
SUMMARY:Paramount Hudson Valley: Back to the Garden
DESCRIPTION:Paramount Hudson Valley: Back to the Garden Woodstock Experience \nThe Woodstock Experience – Back to the Garden 1969 brings the music\, spirit\, and soul of the legendary Woodstock era roaring back to life. \nFeaturing music made famous by Crosby\, Stills\, Nash & Young\, Jimi Hendrix\, Janis Joplin\, Santana\, The Who\, Creedence Clearwater Revival\, Joe Cocker\, Jefferson Airplane\, The Band\, and many more\, the show pays tribute to the artists who made Woodstock the ultimate rock festival. \nParamount Hudson Valley
URL:https://www.whattododigital.com/event/paramount-hudson-valley-back-to-the-garden/
LOCATION:Paramount Hudson Valley
CATEGORIES:Music
ATTACH;FMTTYPE=image/jpeg:https://www.whattododigital.com/wp-content/uploads/2026/04/Paramount_backtothegarden-copy.jpg
END:VEVENT
BEGIN:VEVENT
DTSTART;TZID=America/New_York:20260623T193000
DTEND;TZID=America/New_York:20260623T193000
DTSTAMP:20260423T020108
CREATED:20260417T163951Z
LAST-MODIFIED:20260417T164236Z
UID:94478-1782243000-1782243000@www.whattododigital.com
SUMMARY:Capitol Theatre: Trey Anastasio
DESCRIPTION:Capitol Theatre: Trey Anastasio \nSince 1983\, Trey Anastasio has been the guitarist\, vocalist\, and main composer for the band Phish. Over the past four decades\, Anastasio\, who Rolling Stone named as one of “The 250 Greatest Guitarists of All Time\,” has forged a singular\, multi-faceted career\, winning acclaim and garnering accolades across myriad genres and disciplines\, including rock\, classical\, musical theatre\, and more. Anastasio has received three GRAMMY® Award nominations. \nCapitol Theatre
URL:https://www.whattododigital.com/event/capitol-theatre-trey-anastasio/
LOCATION:The Capitol Theatre\, 149 Westchester Avenue\, Port Chester\, NY\, 10573\, United States
CATEGORIES:Music
ATTACH;FMTTYPE=image/jpeg:https://www.whattododigital.com/wp-content/uploads/2026/04/Cap_treyAnastasio-copy.jpg
END:VEVENT
BEGIN:VEVENT
DTSTART;TZID=America/New_York:20260624T193000
DTEND;TZID=America/New_York:20260624T193000
DTSTAMP:20260423T020109
CREATED:20260417T164152Z
LAST-MODIFIED:20260417T164152Z
UID:94482-1782329400-1782329400@www.whattododigital.com
SUMMARY:Capitol Theatre: Trey Anastasio
DESCRIPTION:Capitol Theatre: Trey Anastasio \nSince 1983\, Trey Anastasio has been the guitarist\, vocalist\, and main composer for the band Phish. Over the past four decades\, Anastasio\, who Rolling Stone named as one of “The 250 Greatest Guitarists of All Time\,” has forged a singular\, multi-faceted career\, winning acclaim and garnering accolades across myriad genres and disciplines\, including rock\, classical\, musical theatre\, and more. Anastasio has received three GRAMMY® Award nominations. \nCapitol Theatre
URL:https://www.whattododigital.com/event/capitol-theatre-trey-anastasio-2/
LOCATION:The Capitol Theatre\, 149 Westchester Avenue\, Port Chester\, NY\, 10573\, United States
CATEGORIES:Music
ATTACH;FMTTYPE=image/jpeg:https://www.whattododigital.com/wp-content/uploads/2026/04/Cap_treyAnastasio-copy.jpg
END:VEVENT
BEGIN:VEVENT
DTSTART;TZID=America/New_York:20260626T193000
DTEND;TZID=America/New_York:20260626T193000
DTSTAMP:20260423T020109
CREATED:20260316T201406Z
LAST-MODIFIED:20260316T201406Z
UID:93987-1782502200-1782502200@www.whattododigital.com
SUMMARY:Caramoor: Isaac Mizrahi
DESCRIPTION:Caramoor: Isaac Mizrahi \nEntertainment and Fashion icon Isaac Mizrahi lights up Caramoor for a special Pride Month performance! Accompanied by his jazz band\, Mizrahi will serenade you with iconic tunes from Madonna to Sondheim and everything in between\, all interspersed with his signature\, unfiltered storytelling. Expect a hilarious\, sophisticated\, and undeniably fabulous evening! \nCaramoor
URL:https://www.whattododigital.com/event/caramoor-isaac-mizrahi/
LOCATION:Caramoor
CATEGORIES:Arts,Music
ATTACH;FMTTYPE=image/jpeg:https://www.whattododigital.com/wp-content/uploads/2026/03/Caramoor_Mizrahi.jpg
END:VEVENT
BEGIN:VEVENT
DTSTART;TZID=America/New_York:20260718T193000
DTEND;TZID=America/New_York:20260718T193000
DTSTAMP:20260423T020109
CREATED:20260316T202454Z
LAST-MODIFIED:20260316T202454Z
UID:93997-1784403000-1784403000@www.whattododigital.com
SUMMARY:Caramoor: Punch Brothers
DESCRIPTION:Caramoor: Punch Brothers \nKnown for pushing the boundaries of acoustic music\, the band has garnered critical acclaim\, including a Grammy for Best Folk Album for All Ashore (2018). The Washington Post applauded them for taking “bluegrass to its next evolutionary stage\,” and Rolling Stone praised their work as“wild virtuosity used for more than just virtuosity\,” cementing their reputation as trailblazers in contemporary acoustic music. \nCaramoor
URL:https://www.whattododigital.com/event/caramoor-punch-brothers/
LOCATION:Caramoor
CATEGORIES:Music
ATTACH;FMTTYPE=image/jpeg:https://www.whattododigital.com/wp-content/uploads/2026/03/Caramoor_Punch-Brothers.jpg
END:VEVENT
BEGIN:VEVENT
DTSTART;TZID=America/New_York:20260723T193000
DTEND;TZID=America/New_York:20260723T193000
DTSTAMP:20260423T020109
CREATED:20260316T195440Z
LAST-MODIFIED:20260316T195440Z
UID:93970-1784835000-1784835000@www.whattododigital.com
SUMMARY:Caramoor: Yuja Wang & People of Earth
DESCRIPTION:Caramoor: Yuja Wang & People of Earth \nOne of today’s most electrifying pianists\, Yuja Wang\, makes her Caramoor debut in a collaboration with NYC’s most exciting Latin music supergroup\, People of Earth\, for a vibrant journey through the sounds of the Caribbean – composed and music directed by Cuban piano phenom Ahmed Alom. \nCaramoor
URL:https://www.whattododigital.com/event/caramoor-yuja-wang-people-of-earth/
LOCATION:Caramoor
CATEGORIES:Music
ATTACH;FMTTYPE=image/jpeg:https://www.whattododigital.com/wp-content/uploads/2026/03/Caramoor_Juja-Wang.jpg
END:VEVENT
BEGIN:VEVENT
DTSTART;TZID=America/New_York:20260725T123000
DTEND;TZID=America/New_York:20260725T123000
DTSTAMP:20260423T020109
CREATED:20260316T195943Z
LAST-MODIFIED:20260316T195943Z
UID:93975-1784982600-1784982600@www.whattododigital.com
SUMMARY:Caramoor Jazz Festival: Emmet Cohen Trio
DESCRIPTION:Caramoor Jazz Festival: Emmet Cohen Trio \nThe Caramoor Jazz Festival fills the grounds with the spirit of jazz\, inviting audiences to wander\, listen\, and discover music unfolding across our gardens and open-air stages. Spend the day immersed in sound and shared experience\, then come together for an unforgettable evening performance by Caramoor favorite Emmet Cohen\, bringing the festival to a thrilling close. \nCaramoor
URL:https://www.whattododigital.com/event/caramoor-jazz-festival-emmet-cohen-trio/
LOCATION:Caramoor
CATEGORIES:Music
ATTACH;FMTTYPE=image/jpeg:https://www.whattododigital.com/wp-content/uploads/2026/03/SCaramoor-Jazz-Fest.jpg
END:VEVENT
BEGIN:VEVENT
DTSTART;TZID=America/New_York:20260802T160000
DTEND;TZID=America/New_York:20260802T160000
DTSTAMP:20260423T020109
CREATED:20260316T200700Z
LAST-MODIFIED:20260316T200700Z
UID:93982-1785686400-1785686400@www.whattododigital.com
SUMMARY:Caramoor: Orchestra of St. Lukes with Gil Shahan
DESCRIPTION:Caramoor: Orchestra of St. Lukes with Gil Shahan \nThe Orchestra of St. Luke’s returns to close out the summer season led by the dynamic Xian Zhang. This program reunites the orchestra with world-renowned violinist Gil Shaham\, a long-time Caramoor favorite whose numerous appearances here dates back to 1994. \nCaramoor
URL:https://www.whattododigital.com/event/caramoor-orchestra-of-st-lukes-with-gil-shahan/
LOCATION:Caramoor
CATEGORIES:Music
ATTACH;FMTTYPE=image/jpeg:https://www.whattododigital.com/wp-content/uploads/2026/03/Caramoor_Gil-Shahan.jpg
END:VEVENT
END:VCALENDAR