BEGIN:VCALENDAR
VERSION:2.0
PRODID:-//What To Do - ECPv6.15.20//NONSGML v1.0//EN
CALSCALE:GREGORIAN
METHOD:PUBLISH
X-WR-CALNAME:What To Do
X-ORIGINAL-URL:https://www.whattododigital.com
X-WR-CALDESC:Events for What To Do
REFRESH-INTERVAL;VALUE=DURATION:PT1H
X-Robots-Tag:noindex
X-PUBLISHED-TTL:PT1H
BEGIN:VTIMEZONE
TZID:America/New_York
BEGIN:DAYLIGHT
TZOFFSETFROM:-0500
TZOFFSETTO:-0400
TZNAME:EDT
DTSTART:20240310T070000
END:DAYLIGHT
BEGIN:STANDARD
TZOFFSETFROM:-0400
TZOFFSETTO:-0500
TZNAME:EST
DTSTART:20241103T060000
END:STANDARD
BEGIN:DAYLIGHT
TZOFFSETFROM:-0500
TZOFFSETTO:-0400
TZNAME:EDT
DTSTART:20250309T070000
END:DAYLIGHT
BEGIN:STANDARD
TZOFFSETFROM:-0400
TZOFFSETTO:-0500
TZNAME:EST
DTSTART:20251102T060000
END:STANDARD
BEGIN:DAYLIGHT
TZOFFSETFROM:-0500
TZOFFSETTO:-0400
TZNAME:EDT
DTSTART:20260308T070000
END:DAYLIGHT
BEGIN:STANDARD
TZOFFSETFROM:-0400
TZOFFSETTO:-0500
TZNAME:EST
DTSTART:20261101T060000
END:STANDARD
END:VTIMEZONE
BEGIN:VEVENT
DTSTART;TZID=America/New_York:20251122T150000
DTEND;TZID=America/New_York:20251122T180000
DTSTAMP:20260425T195931
CREATED:20251020T164620Z
LAST-MODIFIED:20251020T164620Z
UID:91558-1763823600-1763834400@www.whattododigital.com
SUMMARY:Point 72 Giant Balloon Inflation Party
DESCRIPTION:Point 72 Giant Balloon Inflation Party \nJoin us the night before the parade for the Point72 Giant Balloon Inflation Party. The pre-parade event takes place on Saturday\, November 22\, 3-6pm on Hoyt Street at Summer Street.  The event will give spectators an up-close-and-personal look at the giant balloons as they come to life and features live music\, thrilling performances by the Flippenout Extreme Trampoline Show and the Locust Performing Arts Center of Stamford—and special appearances by Santa\, who will greet and delight the crowd. \nPoint 72 Giant Balloon Inflation Party \n 
URL:https://www.whattododigital.com/event/point-72-giant-balloon-inflation-party/
LOCATION:Stamford Downtown\, Hoyt St. at Summer St.\, Stamford\, CT\, 06901\, United States
CATEGORIES:Holidays,Kids,Outdoors
ATTACH;FMTTYPE=image/jpeg:https://www.whattododigital.com/wp-content/uploads/2013/09/Thanksgiving-Pink-Panther.jpg
END:VEVENT
END:VCALENDAR