BEGIN:VCALENDAR
VERSION:2.0
PRODID:-//What To Do - ECPv6.15.20//NONSGML v1.0//EN
CALSCALE:GREGORIAN
METHOD:PUBLISH
X-WR-CALNAME:What To Do
X-ORIGINAL-URL:https://www.whattododigital.com
X-WR-CALDESC:Events for What To Do
REFRESH-INTERVAL;VALUE=DURATION:PT1H
X-Robots-Tag:noindex
X-PUBLISHED-TTL:PT1H
BEGIN:VTIMEZONE
TZID:America/New_York
BEGIN:DAYLIGHT
TZOFFSETFROM:-0500
TZOFFSETTO:-0400
TZNAME:EDT
DTSTART:20240310T070000
END:DAYLIGHT
BEGIN:STANDARD
TZOFFSETFROM:-0400
TZOFFSETTO:-0500
TZNAME:EST
DTSTART:20241103T060000
END:STANDARD
BEGIN:DAYLIGHT
TZOFFSETFROM:-0500
TZOFFSETTO:-0400
TZNAME:EDT
DTSTART:20250309T070000
END:DAYLIGHT
BEGIN:STANDARD
TZOFFSETFROM:-0400
TZOFFSETTO:-0500
TZNAME:EST
DTSTART:20251102T060000
END:STANDARD
BEGIN:DAYLIGHT
TZOFFSETFROM:-0500
TZOFFSETTO:-0400
TZNAME:EDT
DTSTART:20260308T070000
END:DAYLIGHT
BEGIN:STANDARD
TZOFFSETFROM:-0400
TZOFFSETTO:-0500
TZNAME:EST
DTSTART:20261101T060000
END:STANDARD
END:VTIMEZONE
BEGIN:VEVENT
DTSTART;TZID=America/New_York:20251004T080000
DTEND;TZID=America/New_York:20251004T080000
DTSTAMP:20260424T004120
CREATED:20250827T150740Z
LAST-MODIFIED:20250827T155831Z
UID:88866-1759564800-1759564800@www.whattododigital.com
SUMMARY:Stayin Alive 5K Run/Walk/Fun Run
DESCRIPTION:Stayin Alive 5K Run/Walk/Fun Run \nRun the charming and bucolic Windmill neighborhood to support first responders in our area. The 5k starts at 8am\, Fun Run starts at completion of 5K. Fun Run is .6mile\, 1 lap around Windmill Lake. Awards Ceremony following the end of Fun Run – prizes in all race categories. Event will be Rain or Shine. \nStayin Alive Charity
URL:https://www.whattododigital.com/event/stayin-alive-5k-run-walk-fun-run/
LOCATION:Windmill Club\, 10 Maple Way\, Armonk\, NY\, 10504\, United States
CATEGORIES:Road Races & Charity Walks
ATTACH;FMTTYPE=image/jpeg:https://www.whattododigital.com/wp-content/uploads/2025/08/Stayin-Alive-5k-.jpeg
END:VEVENT
END:VCALENDAR