BEGIN:VCALENDAR
VERSION:2.0
PRODID:-//What To Do - ECPv6.15.20//NONSGML v1.0//EN
CALSCALE:GREGORIAN
METHOD:PUBLISH
X-WR-CALNAME:What To Do
X-ORIGINAL-URL:https://www.whattododigital.com
X-WR-CALDESC:Events for What To Do
REFRESH-INTERVAL;VALUE=DURATION:PT1H
X-Robots-Tag:noindex
X-PUBLISHED-TTL:PT1H
BEGIN:VTIMEZONE
TZID:America/New_York
BEGIN:DAYLIGHT
TZOFFSETFROM:-0500
TZOFFSETTO:-0400
TZNAME:EDT
DTSTART:20240310T070000
END:DAYLIGHT
BEGIN:STANDARD
TZOFFSETFROM:-0400
TZOFFSETTO:-0500
TZNAME:EST
DTSTART:20241103T060000
END:STANDARD
BEGIN:DAYLIGHT
TZOFFSETFROM:-0500
TZOFFSETTO:-0400
TZNAME:EDT
DTSTART:20250309T070000
END:DAYLIGHT
BEGIN:STANDARD
TZOFFSETFROM:-0400
TZOFFSETTO:-0500
TZNAME:EST
DTSTART:20251102T060000
END:STANDARD
BEGIN:DAYLIGHT
TZOFFSETFROM:-0500
TZOFFSETTO:-0400
TZNAME:EDT
DTSTART:20260308T070000
END:DAYLIGHT
BEGIN:STANDARD
TZOFFSETFROM:-0400
TZOFFSETTO:-0500
TZNAME:EST
DTSTART:20261101T060000
END:STANDARD
BEGIN:DAYLIGHT
TZOFFSETFROM:-0500
TZOFFSETTO:-0400
TZNAME:EDT
DTSTART:20270314T070000
END:DAYLIGHT
BEGIN:STANDARD
TZOFFSETFROM:-0400
TZOFFSETTO:-0500
TZNAME:EST
DTSTART:20271107T060000
END:STANDARD
END:VTIMEZONE
BEGIN:VEVENT
DTSTART;TZID=America/New_York:20260102T200000
DTEND;TZID=America/New_York:20260102T200000
DTSTAMP:20260424T025938
CREATED:20251124T192137Z
LAST-MODIFIED:20251124T192137Z
UID:92561-1767384000-1767384000@www.whattododigital.com
SUMMARY:Capitol Theatre: Dark Star Orchestra
DESCRIPTION:Capitol Theatre: Dark Star Orchestra \nDSO’s remarkable journey continues. Imagine a tribute band booked for three nights including New Years Even at the largest theatre in Westchester. Something original bands can do. With over 3100 shows in 25 years—closing in on over 1000 more shows than The Dead themselves. \nWhat more do you need to know. If you’re a Dead fan—this is the hottest ticket in town. \nCapitol Theatre
URL:https://www.whattododigital.com/event/capitol-theatre-dark-star-orchestra-3/
LOCATION:The Capitol Theatre\, 149 Westchester Avenue\, Port Chester\, NY\, 10573\, United States
CATEGORIES:Music
ATTACH;FMTTYPE=image/jpeg:https://www.whattododigital.com/wp-content/uploads/2025/10/cap_dso-copy.jpg
END:VEVENT
BEGIN:VEVENT
DTSTART;TZID=America/New_York:20260102T200000
DTEND;TZID=America/New_York:20260102T200000
DTSTAMP:20260424T025938
CREATED:20251124T191947Z
LAST-MODIFIED:20251124T191947Z
UID:92558-1767384000-1767384000@www.whattododigital.com
SUMMARY:Capitol Theatre: Dark Star Orchestra
DESCRIPTION:Capitol Theatre: Dark Star Orchestra \nDSO’s remarkable journey continues. Imagine a tribute band booked for three nights including New Years Even at the largest theatre in Westchester. Something original bands can do. With over 3100 shows in 25 years—closing in on over 1000 more shows than The Dead themselves. \nWhat more do you need to know. If you’re a Dead fan—this is the hottest ticket in town. \nCapitol Theatre
URL:https://www.whattododigital.com/event/capitol-theatre-dark-star-orchestra-2/
LOCATION:The Capitol Theatre\, 149 Westchester Avenue\, Port Chester\, NY\, 10573\, United States
CATEGORIES:Music
ATTACH;FMTTYPE=image/jpeg:https://www.whattododigital.com/wp-content/uploads/2025/10/cap_dso-copy.jpg
END:VEVENT
BEGIN:VEVENT
DTSTART;TZID=America/New_York:20251231T200000
DTEND;TZID=America/New_York:20251231T200000
DTSTAMP:20260424T025938
CREATED:20251124T191731Z
LAST-MODIFIED:20251124T191731Z
UID:92555-1767211200-1767211200@www.whattododigital.com
SUMMARY:Capitol Theatre: Dark Star Orchestra
DESCRIPTION:Capitol Theatre: Dark Star Orchestra \nDSO’s remarkable journey continues. Imagine a tribute band booked for three nights including New Years Even at the largest theatre in Westchester. Something original bands can do. With over 3100 shows in 25 years—closing in on over 1000 more shows than The Dead themselves. \nWhat more do you need to know. If you’re a Dead fan—this is the hottest ticket in town. \nCapitol Theatre
URL:https://www.whattododigital.com/event/capitol-theatre-dark-star-orchestra/
LOCATION:The Capitol Theatre\, 149 Westchester Avenue\, Port Chester\, NY\, 10573\, United States
CATEGORIES:Music
ATTACH;FMTTYPE=image/jpeg:https://www.whattododigital.com/wp-content/uploads/2025/10/cap_dso-copy.jpg
END:VEVENT
BEGIN:VEVENT
DTSTART;TZID=America/New_York:20251107T200000
DTEND;TZID=America/New_York:20251107T200000
DTSTAMP:20260424T025938
CREATED:20250824T151450Z
LAST-MODIFIED:20250824T151450Z
UID:88657-1762545600-1762545600@www.whattododigital.com
SUMMARY:The Armonk PLayers: Forever Yours
DESCRIPTION:The Armonk PLayers: Forever Yours \nA one-person play about Olive Thomas\, who made her way to New York City from the steel country of western Pennsylvania to become a Ziegfeld Girl (and also Ziegfeld’s mistress). From the Ziegfeld stage she made the jump to motion pictures and met Jack Pickford\, who she fell in love with and married. Olive became a silent film star with a bright future that was cut short when she died tragically at the age of 25 in 1920. Her mischievous ghost has reportedly been haunting the New Amsterdam Theatre in NYC for the past 103 years. \nThe play takes place on the 100th anniversary of her death\, September 10\, 2020\, Olive’s ghost invites us to the stage of the New Amsterdam late at night when the theatre is dark to relate the many adventures and misadventures she had in her short tumultuous life. \nArmonk Players
URL:https://www.whattododigital.com/event/the-armonk-players-forever-yours/
LOCATION:Whippoorwill Theater
CATEGORIES:Arts
ATTACH;FMTTYPE=image/jpeg:https://www.whattododigital.com/wp-content/uploads/2025/08/Armonk-Players-Forever_Yours.jpeg
END:VEVENT
BEGIN:VEVENT
DTSTART;TZID=America/New_York:20251107T200000
DTEND;TZID=America/New_York:20251107T200000
DTSTAMP:20260424T025938
CREATED:20250824T151450Z
LAST-MODIFIED:20250824T151450Z
UID:88657-1762545600-1762545600@www.whattododigital.com
SUMMARY:The Armonk PLayers: Forever Yours
DESCRIPTION:The Armonk PLayers: Forever Yours \nA one-person play about Olive Thomas\, who made her way to New York City from the steel country of western Pennsylvania to become a Ziegfeld Girl (and also Ziegfeld’s mistress). From the Ziegfeld stage she made the jump to motion pictures and met Jack Pickford\, who she fell in love with and married. Olive became a silent film star with a bright future that was cut short when she died tragically at the age of 25 in 1920. Her mischievous ghost has reportedly been haunting the New Amsterdam Theatre in NYC for the past 103 years. \nThe play takes place on the 100th anniversary of her death\, September 10\, 2020\, Olive’s ghost invites us to the stage of the New Amsterdam late at night when the theatre is dark to relate the many adventures and misadventures she had in her short tumultuous life. \nArmonk Players
URL:https://www.whattododigital.com/event/the-armonk-players-forever-yours/
LOCATION:Whippoorwill Theater
CATEGORIES:Arts
ATTACH;FMTTYPE=image/jpeg:https://www.whattododigital.com/wp-content/uploads/2025/08/Armonk-Players-Forever_Yours.jpeg
END:VEVENT
BEGIN:VEVENT
DTSTART;TZID=America/New_York:20251025T203000
DTEND;TZID=America/New_York:20251025T203000
DTSTAMP:20260424T025938
CREATED:20251007T111346Z
LAST-MODIFIED:20251007T112224Z
UID:91356-1761424200-1761424200@www.whattododigital.com
SUMMARY:Jacob Burns Film Center: Halloween Movie Marathon
DESCRIPTION:Jacob Burns Film Center: Halloween Movie Marathon \nJacob Burns Film Center’s IX Annual Halloween Movie Marathon returns with 12 hours of dreams\, nightmares and visions of terror. JBFC’s nightmare all-nighter begins with Chuck Russell’s 1987 A Nightmare on Elm Street 3: Dream Warriors in 35mm. Other highlights from the evening into morn’s seven feature dreamscape includes Ken Russell’s psycho/hallucinogenic primal nightmare from 1980 Atered Stares starring William Hurt (also in 35 mm); Richard Kelly’s 2001 Donnie Darko (described by its director as “The Cather in the Rye as told by Philip K. Dick) starring Maggie Gyllenhaal\, Patrick Swayze\, Drew Barrymore and Katharine Ross; and Jess Francos 1971 gender/sexual orientation bending retelling of Bram Stoker’s Dracula\, Vampyros Lesbos.  \nPlus more trick-or-treats\, cinematic and otherwise\, to be announced. \nJacob Burns Film Center
URL:https://www.whattododigital.com/event/jacob-burns-film-center-halloween-movie-marathon/
LOCATION:Jacob Burns Film Center
CATEGORIES:Halloween,Movies
ATTACH;FMTTYPE=image/jpeg:https://www.whattododigital.com/wp-content/uploads/2025/10/JBFC_Halloween-Marathon-2025.jpg
END:VEVENT
END:VCALENDAR