BEGIN:VCALENDAR
VERSION:2.0
PRODID:-//What To Do - ECPv6.15.20//NONSGML v1.0//EN
CALSCALE:GREGORIAN
METHOD:PUBLISH
X-WR-CALNAME:What To Do
X-ORIGINAL-URL:https://www.whattododigital.com
X-WR-CALDESC:Events for What To Do
REFRESH-INTERVAL;VALUE=DURATION:PT1H
X-Robots-Tag:noindex
X-PUBLISHED-TTL:PT1H
BEGIN:VTIMEZONE
TZID:America/New_York
BEGIN:DAYLIGHT
TZOFFSETFROM:-0500
TZOFFSETTO:-0400
TZNAME:EDT
DTSTART:20240310T070000
END:DAYLIGHT
BEGIN:STANDARD
TZOFFSETFROM:-0400
TZOFFSETTO:-0500
TZNAME:EST
DTSTART:20241103T060000
END:STANDARD
BEGIN:DAYLIGHT
TZOFFSETFROM:-0500
TZOFFSETTO:-0400
TZNAME:EDT
DTSTART:20250309T070000
END:DAYLIGHT
BEGIN:STANDARD
TZOFFSETFROM:-0400
TZOFFSETTO:-0500
TZNAME:EST
DTSTART:20251102T060000
END:STANDARD
BEGIN:DAYLIGHT
TZOFFSETFROM:-0500
TZOFFSETTO:-0400
TZNAME:EDT
DTSTART:20260308T070000
END:DAYLIGHT
BEGIN:STANDARD
TZOFFSETFROM:-0400
TZOFFSETTO:-0500
TZNAME:EST
DTSTART:20261101T060000
END:STANDARD
BEGIN:DAYLIGHT
TZOFFSETFROM:-0500
TZOFFSETTO:-0400
TZNAME:EDT
DTSTART:20270314T070000
END:DAYLIGHT
BEGIN:STANDARD
TZOFFSETFROM:-0400
TZOFFSETTO:-0500
TZNAME:EST
DTSTART:20271107T060000
END:STANDARD
END:VTIMEZONE
BEGIN:VEVENT
DTSTART;TZID=America/New_York:20260104T140000
DTEND;TZID=America/New_York:20260104T140000
DTSTAMP:20260423T035321
CREATED:20251202T162446Z
LAST-MODIFIED:20251202T162446Z
UID:92764-1767535200-1767535200@www.whattododigital.com
SUMMARY:White Plains Performing Arts Center: Finding Neverland
DESCRIPTION:White Plains Performing Arts Center: Finding Neverland \nBased on the movie\, Finding Neverland tells the story of J.M. Barrie\, the playwright who created ‘Peter Pan’. As Barrie struggles to find inspiration for his next play\, his life takes a turn when he encounters a family\, including the widow Sylvia and her four sons. Barrie’s relationship with the family deepens and he begins crafting the timeless tale of ‘Peter Pan’. The show explores themes of imagination\, friendship\, and the spirit of childhood\, perfect for the whole family. \nWhite Plains Performing Arts Center
URL:https://www.whattododigital.com/event/white-plains-performing-arts-center-finding-neverland-15/
LOCATION:White Plains Performing Arts Center
CATEGORIES:Arts
ATTACH;FMTTYPE=image/jpeg:https://www.whattododigital.com/wp-content/uploads/2025/10/WPPAC_Neverland.jpeg
END:VEVENT
BEGIN:VEVENT
DTSTART;TZID=America/New_York:20260103T193000
DTEND;TZID=America/New_York:20260103T193000
DTSTAMP:20260423T035321
CREATED:20251202T162343Z
LAST-MODIFIED:20251202T162343Z
UID:92761-1767468600-1767468600@www.whattododigital.com
SUMMARY:White Plains Performing Arts Center: Finding Neverland
DESCRIPTION:White Plains Performing Arts Center: Finding Neverland \nBased on the movie\, Finding Neverland tells the story of J.M. Barrie\, the playwright who created ‘Peter Pan’. As Barrie struggles to find inspiration for his next play\, his life takes a turn when he encounters a family\, including the widow Sylvia and her four sons. Barrie’s relationship with the family deepens and he begins crafting the timeless tale of ‘Peter Pan’. The show explores themes of imagination\, friendship\, and the spirit of childhood\, perfect for the whole family. \nWhite Plains Performing Arts Center
URL:https://www.whattododigital.com/event/white-plains-performing-arts-center-finding-neverland-14/
LOCATION:White Plains Performing Arts Center
CATEGORIES:Arts
ATTACH;FMTTYPE=image/jpeg:https://www.whattododigital.com/wp-content/uploads/2025/10/WPPAC_Neverland.jpeg
END:VEVENT
BEGIN:VEVENT
DTSTART;TZID=America/New_York:20260103T140000
DTEND;TZID=America/New_York:20260103T140000
DTSTAMP:20260423T035321
CREATED:20251202T162225Z
LAST-MODIFIED:20251202T162225Z
UID:92758-1767448800-1767448800@www.whattododigital.com
SUMMARY:White Plains Performing Arts Center: Finding Neverland
DESCRIPTION:White Plains Performing Arts Center: Finding Neverland \nBased on the movie\, Finding Neverland tells the story of J.M. Barrie\, the playwright who created ‘Peter Pan’. As Barrie struggles to find inspiration for his next play\, his life takes a turn when he encounters a family\, including the widow Sylvia and her four sons. Barrie’s relationship with the family deepens and he begins crafting the timeless tale of ‘Peter Pan’. The show explores themes of imagination\, friendship\, and the spirit of childhood\, perfect for the whole family. \nWhite Plains Performing Arts Center
URL:https://www.whattododigital.com/event/white-plains-performing-arts-center-finding-neverland-13/
LOCATION:White Plains Performing Arts Center
CATEGORIES:Arts
ATTACH;FMTTYPE=image/jpeg:https://www.whattododigital.com/wp-content/uploads/2025/10/WPPAC_Neverland.jpeg
END:VEVENT
BEGIN:VEVENT
DTSTART;TZID=America/New_York:20260102T193000
DTEND;TZID=America/New_York:20260102T193000
DTSTAMP:20260423T035321
CREATED:20251202T162106Z
LAST-MODIFIED:20251202T162106Z
UID:92755-1767382200-1767382200@www.whattododigital.com
SUMMARY:White Plains Performing Arts Center: Finding Neverland
DESCRIPTION:White Plains Performing Arts Center: Finding Neverland \nBased on the movie\, Finding Neverland tells the story of J.M. Barrie\, the playwright who created ‘Peter Pan’. As Barrie struggles to find inspiration for his next play\, his life takes a turn when he encounters a family\, including the widow Sylvia and her four sons. Barrie’s relationship with the family deepens and he begins crafting the timeless tale of ‘Peter Pan’. The show explores themes of imagination\, friendship\, and the spirit of childhood\, perfect for the whole family. \nWhite Plains Performing Arts Center
URL:https://www.whattododigital.com/event/white-plains-performing-arts-center-finding-neverland-12/
LOCATION:White Plains Performing Arts Center
CATEGORIES:Arts
ATTACH;FMTTYPE=image/jpeg:https://www.whattododigital.com/wp-content/uploads/2025/10/WPPAC_Neverland.jpeg
END:VEVENT
BEGIN:VEVENT
DTSTART;TZID=America/New_York:20251229T140000
DTEND;TZID=America/New_York:20251229T140000
DTSTAMP:20260423T035321
CREATED:20251202T161948Z
LAST-MODIFIED:20251202T161948Z
UID:92752-1767016800-1767016800@www.whattododigital.com
SUMMARY:White Plains Performing Arts Center: Finding Neverland
DESCRIPTION:White Plains Performing Arts Center: Finding Neverland \nBased on the movie\, Finding Neverland tells the story of J.M. Barrie\, the playwright who created ‘Peter Pan’. As Barrie struggles to find inspiration for his next play\, his life takes a turn when he encounters a family\, including the widow Sylvia and her four sons. Barrie’s relationship with the family deepens and he begins crafting the timeless tale of ‘Peter Pan’. The show explores themes of imagination\, friendship\, and the spirit of childhood\, perfect for the whole family. \nWhite Plains Performing Arts Center
URL:https://www.whattododigital.com/event/white-plains-performing-arts-center-finding-neverland-11/
LOCATION:White Plains Performing Arts Center
CATEGORIES:Arts
ATTACH;FMTTYPE=image/jpeg:https://www.whattododigital.com/wp-content/uploads/2025/10/WPPAC_Neverland.jpeg
END:VEVENT
BEGIN:VEVENT
DTSTART;TZID=America/New_York:20251228T140000
DTEND;TZID=America/New_York:20251228T140000
DTSTAMP:20260423T035321
CREATED:20251202T161734Z
LAST-MODIFIED:20251202T161734Z
UID:92749-1766930400-1766930400@www.whattododigital.com
SUMMARY:White Plains Performing Arts Center: Finding Neverland
DESCRIPTION:White Plains Performing Arts Center: Finding Neverland \nBased on the movie\, Finding Neverland tells the story of J.M. Barrie\, the playwright who created ‘Peter Pan’. As Barrie struggles to find inspiration for his next play\, his life takes a turn when he encounters a family\, including the widow Sylvia and her four sons. Barrie’s relationship with the family deepens and he begins crafting the timeless tale of ‘Peter Pan’. The show explores themes of imagination\, friendship\, and the spirit of childhood\, perfect for the whole family. \nWhite Plains Performing Arts Center
URL:https://www.whattododigital.com/event/white-plains-performing-arts-center-finding-neverland-10/
LOCATION:White Plains Performing Arts Center
CATEGORIES:Arts
ATTACH;FMTTYPE=image/jpeg:https://www.whattododigital.com/wp-content/uploads/2025/10/WPPAC_Neverland.jpeg
END:VEVENT
BEGIN:VEVENT
DTSTART;TZID=America/New_York:20251227T193000
DTEND;TZID=America/New_York:20251227T193000
DTSTAMP:20260423T035321
CREATED:20251202T161528Z
LAST-MODIFIED:20251202T161528Z
UID:92746-1766863800-1766863800@www.whattododigital.com
SUMMARY:White Plains Performing Arts Center: Finding Neverland
DESCRIPTION:White Plains Performing Arts Center: Finding Neverland \nBased on the movie\, Finding Neverland tells the story of J.M. Barrie\, the playwright who created ‘Peter Pan’. As Barrie struggles to find inspiration for his next play\, his life takes a turn when he encounters a family\, including the widow Sylvia and her four sons. Barrie’s relationship with the family deepens and he begins crafting the timeless tale of ‘Peter Pan’. The show explores themes of imagination\, friendship\, and the spirit of childhood\, perfect for the whole family. \nWhite Plains Performing Arts Center
URL:https://www.whattododigital.com/event/white-plains-performing-arts-center-finding-neverland-9/
LOCATION:White Plains Performing Arts Center
CATEGORIES:Arts
ATTACH;FMTTYPE=image/jpeg:https://www.whattododigital.com/wp-content/uploads/2025/10/WPPAC_Neverland.jpeg
END:VEVENT
BEGIN:VEVENT
DTSTART;TZID=America/New_York:20251227T140000
DTEND;TZID=America/New_York:20251227T140000
DTSTAMP:20260423T035321
CREATED:20251202T161231Z
LAST-MODIFIED:20251202T161231Z
UID:92741-1766844000-1766844000@www.whattododigital.com
SUMMARY:White Plains Performing Arts Center: Finding Neverland
DESCRIPTION:White Plains Performing Arts Center: Finding Neverland \nBased on the movie\, Finding Neverland tells the story of J.M. Barrie\, the playwright who created ‘Peter Pan’. As Barrie struggles to find inspiration for his next play\, his life takes a turn when he encounters a family\, including the widow Sylvia and her four sons. Barrie’s relationship with the family deepens and he begins crafting the timeless tale of ‘Peter Pan’. The show explores themes of imagination\, friendship\, and the spirit of childhood\, perfect for the whole family. \nWhite Plains Performing Arts Center
URL:https://www.whattododigital.com/event/white-plains-performing-arts-center-finding-neverland-8/
LOCATION:White Plains Performing Arts Center
CATEGORIES:Arts
ATTACH;FMTTYPE=image/jpeg:https://www.whattododigital.com/wp-content/uploads/2025/10/WPPAC_Neverland.jpeg
END:VEVENT
BEGIN:VEVENT
DTSTART;TZID=America/New_York:20251226T193000
DTEND;TZID=America/New_York:20251226T193000
DTSTAMP:20260423T035321
CREATED:20251202T161043Z
LAST-MODIFIED:20251202T161043Z
UID:92738-1766777400-1766777400@www.whattododigital.com
SUMMARY:White Plains Performing Arts Center: Finding Neverland
DESCRIPTION:White Plains Performing Arts Center: Finding Neverland \nBased on the movie\, Finding Neverland tells the story of J.M. Barrie\, the playwright who created ‘Peter Pan’. As Barrie struggles to find inspiration for his next play\, his life takes a turn when he encounters a family\, including the widow Sylvia and her four sons. Barrie’s relationship with the family deepens and he begins crafting the timeless tale of ‘Peter Pan’. The show explores themes of imagination\, friendship\, and the spirit of childhood\, perfect for the whole family. \nWhite Plains Performing Arts Center
URL:https://www.whattododigital.com/event/white-plains-performing-arts-center-finding-neverland-7/
LOCATION:White Plains Performing Arts Center
CATEGORIES:Arts
ATTACH;FMTTYPE=image/jpeg:https://www.whattododigital.com/wp-content/uploads/2025/10/WPPAC_Neverland.jpeg
END:VEVENT
BEGIN:VEVENT
DTSTART;TZID=America/New_York:20251221T140000
DTEND;TZID=America/New_York:20251221T140000
DTSTAMP:20260423T035321
CREATED:20251202T160745Z
LAST-MODIFIED:20251202T160745Z
UID:92735-1766325600-1766325600@www.whattododigital.com
SUMMARY:White Plains Performing Arts Center: Finding Neverland
DESCRIPTION:White Plains Performing Arts Center: Finding Neverland \nBased on the movie\, Finding Neverland tells the story of J.M. Barrie\, the playwright who created ‘Peter Pan’. As Barrie struggles to find inspiration for his next play\, his life takes a turn when he encounters a family\, including the widow Sylvia and her four sons. Barrie’s relationship with the family deepens and he begins crafting the timeless tale of ‘Peter Pan’. The show explores themes of imagination\, friendship\, and the spirit of childhood\, perfect for the whole family. \nWhite Plains Performing Arts Center
URL:https://www.whattododigital.com/event/white-plains-performing-arts-center-finding-neverland-6/
LOCATION:White Plains Performing Arts Center
CATEGORIES:Arts
END:VEVENT
BEGIN:VEVENT
DTSTART;TZID=America/New_York:20251220T193000
DTEND;TZID=America/New_York:20251220T193000
DTSTAMP:20260423T035321
CREATED:20251202T160246Z
LAST-MODIFIED:20251202T160413Z
UID:92730-1766259000-1766259000@www.whattododigital.com
SUMMARY:White Plains Performing Arts Center: Finding Neverland
DESCRIPTION:White Plains Performing Arts Center: Finding Neverland \nBased on the movie\, Finding Neverland tells the story of J.M. Barrie\, the playwright who created ‘Peter Pan’. As Barrie struggles to find inspiration for his next play\, his life takes a turn when he encounters a family\, including the widow Sylvia and her four sons. Barrie’s relationship with the family deepens and he begins crafting the timeless tale of ‘Peter Pan’. The show explores themes of imagination\, friendship\, and the spirit of childhood\, perfect for the whole family. \nWhite Plains Performing Arts Center
URL:https://www.whattododigital.com/event/white-plains-performing-arts-center-finding-neverland-5/
LOCATION:White Plains Performing Arts Center
CATEGORIES:Arts
ATTACH;FMTTYPE=image/jpeg:https://www.whattododigital.com/wp-content/uploads/2025/10/WPPAC_Neverland.jpeg
END:VEVENT
BEGIN:VEVENT
DTSTART;TZID=America/New_York:20251219T193000
DTEND;TZID=America/New_York:20251219T193000
DTSTAMP:20260423T035321
CREATED:20251202T160129Z
LAST-MODIFIED:20251202T160129Z
UID:92727-1766172600-1766172600@www.whattododigital.com
SUMMARY:White Plains Performing Arts Center: Finding Neverland
DESCRIPTION:White Plains Performing Arts Center: Finding Neverland \nBased on the movie\, Finding Neverland tells the story of J.M. Barrie\, the playwright who created ‘Peter Pan’. As Barrie struggles to find inspiration for his next play\, his life takes a turn when he encounters a family\, including the widow Sylvia and her four sons. Barrie’s relationship with the family deepens and he begins crafting the timeless tale of ‘Peter Pan’. The show explores themes of imagination\, friendship\, and the spirit of childhood\, perfect for the whole family. \nWhite Plains Performing Arts Center
URL:https://www.whattododigital.com/event/white-plains-performing-arts-center-finding-neverland-4/
LOCATION:White Plains Performing Arts Center
CATEGORIES:Arts
ATTACH;FMTTYPE=image/jpeg:https://www.whattododigital.com/wp-content/uploads/2025/10/WPPAC_Neverland.jpeg
END:VEVENT
BEGIN:VEVENT
DTSTART;TZID=America/New_York:20251214T140000
DTEND;TZID=America/New_York:20251214T140000
DTSTAMP:20260423T035321
CREATED:20251202T155841Z
LAST-MODIFIED:20251202T155841Z
UID:92724-1765720800-1765720800@www.whattododigital.com
SUMMARY:White Plains Performing Arts Center: Finding Neverland
DESCRIPTION:White Plains Performing Arts Center: Finding Neverland \nBased on the movie\, Finding Neverland tells the story of J.M. Barrie\, the playwright who created ‘Peter Pan’. As Barrie struggles to find inspiration for his next play\, his life takes a turn when he encounters a family\, including the widow Sylvia and her four sons. Barrie’s relationship with the family deepens and he begins crafting the timeless tale of ‘Peter Pan’. The show explores themes of imagination\, friendship\, and the spirit of childhood\, perfect for the whole family. \nWhite Plains Performing Arts Center
URL:https://www.whattododigital.com/event/white-plains-performing-arts-center-finding-neverland-3/
LOCATION:White Plains Performing Arts Center
CATEGORIES:Arts
ATTACH;FMTTYPE=image/jpeg:https://www.whattododigital.com/wp-content/uploads/2025/10/WPPAC_Neverland.jpeg
END:VEVENT
BEGIN:VEVENT
DTSTART;TZID=America/New_York:20251213T193000
DTEND;TZID=America/New_York:20251213T193000
DTSTAMP:20260423T035321
CREATED:20251202T155653Z
LAST-MODIFIED:20251202T160538Z
UID:92721-1765654200-1765654200@www.whattododigital.com
SUMMARY:White Plains Performing Arts Center: Finding Neverland
DESCRIPTION:White Plains Performing Arts Center: Finding Neverland \nBased on the movie\, Finding Neverland tells the story of J.M. Barrie\, the playwright who created ‘Peter Pan’. As Barrie struggles to find inspiration for his next play\, his life takes a turn when he encounters a family\, including the widow Sylvia and her four sons. Barrie’s relationship with the family deepens and he begins crafting the timeless tale of ‘Peter Pan’. The show explores themes of imagination\, friendship\, and the spirit of childhood\, perfect for the whole family. \nWhite Plains Performing Arts Center
URL:https://www.whattododigital.com/event/white-plains-performing-arts-center-finding-neverland/
LOCATION:White Plains Performing Arts Center
CATEGORIES:Arts
ATTACH;FMTTYPE=image/jpeg:https://www.whattododigital.com/wp-content/uploads/2025/10/WPPAC_Neverland.jpeg
END:VEVENT
BEGIN:VEVENT
DTSTART;TZID=America/New_York:20251212T193000
DTEND;TZID=America/New_York:20251212T193000
DTSTAMP:20260423T035321
CREATED:20251202T155503Z
LAST-MODIFIED:20251202T155503Z
UID:92718-1765567800-1765567800@www.whattododigital.com
SUMMARY:White Plains Performing Arts Center: Finding Neverland
DESCRIPTION:White Plains Performing Arts Center: Finding Neverland \nBased on the movie\, Finding Neverland tells the story of J.M. Barrie\, the playwright who created ‘Peter Pan’. As Barrie struggles to find inspiration for his next play\, his life takes a turn when he encounters a family\, including the widow Sylvia and her four sons. Barrie’s relationship with the family deepens and he begins crafting the timeless tale of ‘Peter Pan’. The show explores themes of imagination\, friendship\, and the spirit of childhood\, perfect for the whole family. \nWhite Plains Performing Arts Center
URL:https://www.whattododigital.com/event/white-plains-performing-arts-center-finding-neverland-2/
LOCATION:White Plains Performing Arts Center
CATEGORIES:Arts
ATTACH;FMTTYPE=image/jpeg:https://www.whattododigital.com/wp-content/uploads/2025/10/WPPAC_Neverland.jpeg
END:VEVENT
END:VCALENDAR