BEGIN:VCALENDAR
VERSION:2.0
PRODID:-//What To Do - ECPv6.15.20//NONSGML v1.0//EN
CALSCALE:GREGORIAN
METHOD:PUBLISH
X-WR-CALNAME:What To Do
X-ORIGINAL-URL:https://www.whattododigital.com
X-WR-CALDESC:Events for What To Do
REFRESH-INTERVAL;VALUE=DURATION:PT1H
X-Robots-Tag:noindex
X-PUBLISHED-TTL:PT1H
BEGIN:VTIMEZONE
TZID:America/New_York
BEGIN:DAYLIGHT
TZOFFSETFROM:-0500
TZOFFSETTO:-0400
TZNAME:EDT
DTSTART:20240310T070000
END:DAYLIGHT
BEGIN:STANDARD
TZOFFSETFROM:-0400
TZOFFSETTO:-0500
TZNAME:EST
DTSTART:20241103T060000
END:STANDARD
BEGIN:DAYLIGHT
TZOFFSETFROM:-0500
TZOFFSETTO:-0400
TZNAME:EDT
DTSTART:20250309T070000
END:DAYLIGHT
BEGIN:STANDARD
TZOFFSETFROM:-0400
TZOFFSETTO:-0500
TZNAME:EST
DTSTART:20251102T060000
END:STANDARD
BEGIN:DAYLIGHT
TZOFFSETFROM:-0500
TZOFFSETTO:-0400
TZNAME:EDT
DTSTART:20260308T070000
END:DAYLIGHT
BEGIN:STANDARD
TZOFFSETFROM:-0400
TZOFFSETTO:-0500
TZNAME:EST
DTSTART:20261101T060000
END:STANDARD
BEGIN:DAYLIGHT
TZOFFSETFROM:-0500
TZOFFSETTO:-0400
TZNAME:EDT
DTSTART:20270314T070000
END:DAYLIGHT
BEGIN:STANDARD
TZOFFSETFROM:-0400
TZOFFSETTO:-0500
TZNAME:EST
DTSTART:20271107T060000
END:STANDARD
END:VTIMEZONE
BEGIN:VEVENT
DTSTART;TZID=America/New_York:20260308T170000
DTEND;TZID=America/New_York:20260308T170000
DTSTAMP:20260423T035527
CREATED:20260105T210330Z
LAST-MODIFIED:20260105T210330Z
UID:93156-1772989200-1772989200@www.whattododigital.com
SUMMARY:Paramount Hudson Valley" Dancing With the Celts
DESCRIPTION:Paramount Hudson Valley” Dancing With the Celts \nDancing with the Celts features the thrilling choreography and energy of some of the most brilliant Irish dancers in the world combined with live fiery music provided by The Celts. \nParamount Hudson Valley
URL:https://www.whattododigital.com/event/paramount-hudson-valley-dancing-with-the-celts/
LOCATION:Paramount Hudson Valley
CATEGORIES:Arts
ATTACH;FMTTYPE=image/jpeg:https://www.whattododigital.com/wp-content/uploads/2026/01/Paramount_Dancing-with-The-Celts.jpeg
END:VEVENT
BEGIN:VEVENT
DTSTART;TZID=America/New_York:20251217T193000
DTEND;TZID=America/New_York:20251217T193000
DTSTAMP:20260423T035527
CREATED:20251120T163155Z
LAST-MODIFIED:20251208T191616Z
UID:92100-1765999800-1765999800@www.whattododigital.com
SUMMARY:Ridgefield Playhouse: Christmas With The Celts
DESCRIPTION:Ridgefield Playhouse: Christmas With The Celts \nFirst seen on PBS\, this family favorite holiday show from Christmas With The Celts is a wonderful combination of timeless Irish Christmas Carols\, lively Irish Dance\, and contemporary songs performed with Irish instrumentation. \nRidgefield Playhouse
URL:https://www.whattododigital.com/event/ridgefield-playhouse-christmas-with-the-celts-2/
LOCATION:The Ridgefield Playhouse\, 80 East Ridge\, Ridfgefield\, CT\, 06877\, United States
CATEGORIES:Holidays,Kids
ATTACH;FMTTYPE=image/jpeg:https://www.whattododigital.com/wp-content/uploads/2024/10/RPH-CHRISTMAS-WITH-THE-CELTS-550x800-1.png-copy.jpg
END:VEVENT
BEGIN:VEVENT
DTSTART;TZID=America/New_York:20251216T193000
DTEND;TZID=America/New_York:20251216T193000
DTSTAMP:20260423T035527
CREATED:20251120T163015Z
LAST-MODIFIED:20251208T191827Z
UID:92096-1765913400-1765913400@www.whattododigital.com
SUMMARY:Ridgefield Playhouse: Christmas With The Celts
DESCRIPTION:Ridgefield Playhouse: Christmas With The Celts \nFirst seen on PBS\, this family favorite holiday show from Christmas With The Celts is a wonderful combination of timeless Irish Christmas Carols\, lively Irish Dance\, and contemporary songs performed with Irish instrumentation. \nRidgefield Playhouse
URL:https://www.whattododigital.com/event/ridgefield-playhouse-christmas-with-the-celts/
LOCATION:The Ridgefield Playhouse\, 80 East Ridge\, Ridfgefield\, CT\, 06877\, United States
CATEGORIES:Holidays,Kids
ATTACH;FMTTYPE=image/jpeg:https://www.whattododigital.com/wp-content/uploads/2024/10/RPH-CHRISTMAS-WITH-THE-CELTS-550x800-1.png-copy.jpg
END:VEVENT
END:VCALENDAR