BEGIN:VCALENDAR
VERSION:2.0
PRODID:-//What To Do - ECPv6.15.20//NONSGML v1.0//EN
CALSCALE:GREGORIAN
METHOD:PUBLISH
X-WR-CALNAME:What To Do
X-ORIGINAL-URL:https://www.whattododigital.com
X-WR-CALDESC:Events for What To Do
REFRESH-INTERVAL;VALUE=DURATION:PT1H
X-Robots-Tag:noindex
X-PUBLISHED-TTL:PT1H
BEGIN:VTIMEZONE
TZID:America/New_York
BEGIN:DAYLIGHT
TZOFFSETFROM:-0500
TZOFFSETTO:-0400
TZNAME:EDT
DTSTART:20250309T070000
END:DAYLIGHT
BEGIN:STANDARD
TZOFFSETFROM:-0400
TZOFFSETTO:-0500
TZNAME:EST
DTSTART:20251102T060000
END:STANDARD
BEGIN:DAYLIGHT
TZOFFSETFROM:-0500
TZOFFSETTO:-0400
TZNAME:EDT
DTSTART:20260308T070000
END:DAYLIGHT
BEGIN:STANDARD
TZOFFSETFROM:-0400
TZOFFSETTO:-0500
TZNAME:EST
DTSTART:20261101T060000
END:STANDARD
BEGIN:DAYLIGHT
TZOFFSETFROM:-0500
TZOFFSETTO:-0400
TZNAME:EDT
DTSTART:20270314T070000
END:DAYLIGHT
BEGIN:STANDARD
TZOFFSETFROM:-0400
TZOFFSETTO:-0500
TZNAME:EST
DTSTART:20271107T060000
END:STANDARD
END:VTIMEZONE
BEGIN:VEVENT
DTSTART;TZID=America/New_York:20260408T140000
DTEND;TZID=America/New_York:20260408T140000
DTSTAMP:20260423T132428
CREATED:20260406T152619Z
LAST-MODIFIED:20260406T152619Z
UID:94245-1775656800-1775656800@www.whattododigital.com
SUMMARY:Jacob Burns Film Center: Wiseman's America— High School
DESCRIPTION:Jacob Burns Film Cener: Wiseman’s America— High School \nFrederick Wiseman’s second film takes place in a large urban high school in Philadelphia\, Pennsylvania. The film documents how the school system exists not only to pass on “facts” but also to transmit social values from one generation to another. \nJacob Burns Film Center
URL:https://www.whattododigital.com/event/jacob-burns-film-cener-wisemans-america-high-school/
LOCATION:Jacob Burns Film Center
CATEGORIES:Movies
ATTACH;FMTTYPE=image/jpeg:https://www.whattododigital.com/wp-content/uploads/2026/04/JBFC_Wiseman_High-School-.jpg
END:VEVENT
BEGIN:VEVENT
DTSTART;TZID=America/New_York:20260408T160000
DTEND;TZID=America/New_York:20260408T160000
DTSTAMP:20260423T132428
CREATED:20260406T152107Z
LAST-MODIFIED:20260406T162627Z
UID:94238-1775664000-1775664000@www.whattododigital.com
SUMMARY:Jacob Burns Film Center: Frederick Wiseman's America: Law and Order
DESCRIPTION:Jacob Burns Film Center: Frederick Wiseman’s America: Law and Order\n\n\n\nIn the shadow of the 1968 race riots\, Law and Order surveys the day-to-day work of a Kansas City police department. From drive-alongs to arrests to general social service work\, what accrues is an illustration of how training\, community expectations\, socio-economic status of the subject\, the threat of violence\, and discretion affect police behavior.Jacob Burns Film Center
URL:https://www.whattododigital.com/event/jacob-burns-film-center-frederick-wisemans-america-2/
LOCATION:Jacob Burns Film Center
CATEGORIES:Movies
ATTACH;FMTTYPE=image/jpeg:https://www.whattododigital.com/wp-content/uploads/2026/04/JBFC_Wiseman_LawandOrder.jpg
END:VEVENT
BEGIN:VEVENT
DTSTART;TZID=America/New_York:20260408T183000
DTEND;TZID=America/New_York:20260408T183000
DTSTAMP:20260423T132429
CREATED:20260406T151520Z
LAST-MODIFIED:20260406T163027Z
UID:94230-1775673000-1775673000@www.whattododigital.com
SUMMARY:Jacob Burns Film Center: Frederick Wiseman's America: Welfare
DESCRIPTION:Jacob Burns Film Center: Frederick Wiseman’s America— Welfare \nWelfare shows the nature and complexity of the welfare system in sequences illustrating the staggering diversity of problems that constitute welfare: housing\, unemployment\, divorce\, medical and psychiatric problems\, abandoned and abused children\, and the elderly. \nJacob Burns Film Center
URL:https://www.whattododigital.com/event/jacob-burns-film-center-frederick-wisemans-america/
LOCATION:Jacob Burns Film Center
CATEGORIES:Movies
ATTACH;FMTTYPE=image/jpeg:https://www.whattododigital.com/wp-content/uploads/2026/04/JBFC_Wiseman_Welfare-1-1.jpg
END:VEVENT
BEGIN:VEVENT
DTSTART;TZID=America/New_York:20260409T180000
DTEND;TZID=America/New_York:20260409T180000
DTSTAMP:20260423T132429
CREATED:20260406T152900Z
LAST-MODIFIED:20260406T152900Z
UID:94253-1775757600-1775757600@www.whattododigital.com
SUMMARY:Jacob Burns Film Center: Wiseman's America— High School
DESCRIPTION:Jacob Burns Film Center: Wiseman’s America— High School \nFrederick Wiseman’s second film takes place in a large urban high school in Philadelphia\, Pennsylvania. The film documents how the school system exists not only to pass on “facts” but also to transmit social values from one generation to another. \nJacob Burns Film Center
URL:https://www.whattododigital.com/event/jacob-burns-film-center-wisemans-america-high-school/
LOCATION:Jacob Burns Film Center
CATEGORIES:Movies
ATTACH;FMTTYPE=image/jpeg:https://www.whattododigital.com/wp-content/uploads/2026/04/JBFC_Wiseman_High-School-1-1.jpg
END:VEVENT
BEGIN:VEVENT
DTSTART;TZID=America/New_York:20260409T200000
DTEND;TZID=America/New_York:20260409T200000
DTSTAMP:20260423T132429
CREATED:20260406T152224Z
LAST-MODIFIED:20260406T162425Z
UID:94242-1775764800-1775764800@www.whattododigital.com
SUMMARY:Jacob Burns Film Center: Frederick Wiseman's America: Law and Order
DESCRIPTION:Jacob Burns Film Center: Frederick Wiseman’s America: Law and Order\n\n\n\nIn the shadow of the 1968 race riots\, Law and Order surveys the day-to-day work of a Kansas City police department. From drive-alongs to arrests to general social service work\, what accrues is an illustration of how training\, community expectations\, socio-economic status of the subject\, the threat of violence\, and discretion affect police behavior.Jacob Burns Film Center
URL:https://www.whattododigital.com/event/jacob-burns-film-center-frederick-wisemans-america-3/
LOCATION:Jacob Burns Film Center
CATEGORIES:Movies
ATTACH;FMTTYPE=image/jpeg:https://www.whattododigital.com/wp-content/uploads/2026/04/JBFC_Wiseman_LawandOrder.jpg
END:VEVENT
BEGIN:VEVENT
DTSTART;TZID=America/New_York:20260412T160000
DTEND;TZID=America/New_York:20260412T160000
DTSTAMP:20260423T132429
CREATED:20260406T151641Z
LAST-MODIFIED:20260406T151641Z
UID:94235-1776009600-1776009600@www.whattododigital.com
SUMMARY:Jacob Burns Film Center: Frederick Wiseman's America— Welfare
DESCRIPTION:Jacob Burns Film Center: Frederick Wiseman’s America— Welfare \nWelfare shows the nature and complexity of the welfare system in sequences illustrating the staggering diversity of problems that constitute welfare: housing\, unemployment\, divorce\, medical and psychiatric problems\, abandoned and abused children\, and the elderly. \nJacob Burns Film Center
URL:https://www.whattododigital.com/event/jacob-burns-film-center-frederick-wisemans-america-welfare/
LOCATION:Jacob Burns Film Center
ATTACH;FMTTYPE=image/jpeg:https://www.whattododigital.com/wp-content/uploads/2026/04/JBFC_Wiseman_Welfare-.jpg
END:VEVENT
BEGIN:VEVENT
DTSTART;TZID=America/New_York:20260414T183000
DTEND;TZID=America/New_York:20260414T183000
DTSTAMP:20260423T132429
CREATED:20260406T153321Z
LAST-MODIFIED:20260406T153321Z
UID:94256-1776191400-1776191400@www.whattododigital.com
SUMMARY:Jacob Burns Film Center: Wiseman's America— Canal Zone
DESCRIPTION:Jacob Burns Film Center: Wiseman’s America— Canal Zone \nCanal Zone is about the people who live and work in the Panama Canal Zone and shows both the operation of the Canal and the various governmental agencies—business\, military\, and civilian—related to the functioning of the Canal and the lives of the Americans in the zone. \nJacob Burns Film Center
URL:https://www.whattododigital.com/event/jacob-burns-film-center-wisemans-america-canal-zone/
LOCATION:Jacob Burns Film Center
CATEGORIES:Movies
ATTACH;FMTTYPE=image/jpeg:https://www.whattododigital.com/wp-content/uploads/2026/04/JBFC_Wiseman_CanalZone.jpg
END:VEVENT
BEGIN:VEVENT
DTSTART;TZID=America/New_York:20260415T130000
DTEND;TZID=America/New_York:20260415T130000
DTSTAMP:20260423T132429
CREATED:20260406T153500Z
LAST-MODIFIED:20260406T153500Z
UID:94260-1776258000-1776258000@www.whattododigital.com
SUMMARY:Jacob Burns Film Center: Wiseman's America— Canal Zone
DESCRIPTION:Jacob Burns Film Center: Wiseman’s America— Canal Zone \nCanal Zone is about the people who live and work in the Panama Canal Zone and shows both the operation of the Canal and the various governmental agencies—business\, military\, and civilian—related to the functioning of the Canal and the lives of the Americans in the zone. \nJacob Burns Film Center
URL:https://www.whattododigital.com/event/jacob-burns-film-center-wisemans-america-canal-zone-2/
LOCATION:Jacob Burns Film Center
CATEGORIES:Movies
ATTACH;FMTTYPE=image/jpeg:https://www.whattododigital.com/wp-content/uploads/2026/04/JBFC_Wiseman_CanalZone.jpg
END:VEVENT
BEGIN:VEVENT
DTSTART;TZID=America/New_York:20260415T190000
DTEND;TZID=America/New_York:20260415T190000
DTSTAMP:20260423T132429
CREATED:20260406T153856Z
LAST-MODIFIED:20260406T153856Z
UID:94263-1776279600-1776279600@www.whattododigital.com
SUMMARY:Jacob Burns Film Center: Wiseman's America— The Store
DESCRIPTION:Jacob Burns Film Center: Wiseman’s America— The Store \nThe Store is a film about the main Neiman-Marcus store and corporate headquarters in Dallas. The sequences in the film include the selection\, presentation\, marketing\, pricing\, advertising and selling of a vast array of consumer products including designer clothes and furs\, jewelry\, perfumes\, shoes\, electronic products\, sportswear\, china and porcelain and many other goods. \nJacob Burns Film Center
URL:https://www.whattododigital.com/event/jacob-burns-film-center-wisemans-america-the-store/
LOCATION:Jacob Burns Film Center
CATEGORIES:Movies
ATTACH;FMTTYPE=image/jpeg:https://www.whattododigital.com/wp-content/uploads/2026/04/JBFC_Wiseman_Store.jpg
END:VEVENT
BEGIN:VEVENT
DTSTART;TZID=America/New_York:20260417T140000
DTEND;TZID=America/New_York:20260417T140000
DTSTAMP:20260423T132429
CREATED:20260406T154020Z
LAST-MODIFIED:20260406T154020Z
UID:94268-1776434400-1776434400@www.whattododigital.com
SUMMARY:Jacob Burns Film Center: Wiseman's America— The Store
DESCRIPTION:Jacob Burns Film Center: Wiseman’s America— The Store \nThe Store is a film about the main Neiman-Marcus store and corporate headquarters in Dallas. The sequences in the film include the selection\, presentation\, marketing\, pricing\, advertising and selling of a vast array of consumer products including designer clothes and furs\, jewelry\, perfumes\, shoes\, electronic products\, sportswear\, china and porcelain and many other goods. \nJacob Burns Film Center
URL:https://www.whattododigital.com/event/jacob-burns-film-center-wisemans-america-the-store-2/
LOCATION:Jacob Burns Film Center
CATEGORIES:Movies
ATTACH;FMTTYPE=image/jpeg:https://www.whattododigital.com/wp-content/uploads/2026/04/JBFC_Wiseman_Store.jpg
END:VEVENT
BEGIN:VEVENT
DTSTART;TZID=America/New_York:20260417T190000
DTEND;TZID=America/New_York:20260417T190000
DTSTAMP:20260423T132429
CREATED:20260406T154458Z
LAST-MODIFIED:20260406T154458Z
UID:94271-1776452400-1776452400@www.whattododigital.com
SUMMARY:JBFC: Frederick Wiseman's America— Aspen
DESCRIPTION:JBFC: Frederick Wiseman’s America— Aspen \nAspen is a film about a town famous in the 19th century for silver mining and now known for its scenic splendor\, mountains\, skiing\, hiking\, music\, intellectual activity and fashionable people. The film documents the daily life and activities of the people who live\, work\, visit\, and play in Aspen in the winter. \nJacob Burns Film Center
URL:https://www.whattododigital.com/event/jbfc-frederick-wisemans-america-aspen/
LOCATION:Jacob Burns Film Center
CATEGORIES:Movies
ATTACH;FMTTYPE=image/jpeg:https://www.whattododigital.com/wp-content/uploads/2026/04/JBFC_Wiseman_Aspen.jpg
END:VEVENT
BEGIN:VEVENT
DTSTART;TZID=America/New_York:20260419T140000
DTEND;TZID=America/New_York:20260419T140000
DTSTAMP:20260423T132429
CREATED:20260406T154618Z
LAST-MODIFIED:20260406T154618Z
UID:94275-1776607200-1776607200@www.whattododigital.com
SUMMARY:JBFC: Frederick Wiseman's America— Aspen
DESCRIPTION:JBFC: Frederick Wiseman’s America— Aspen \nAspen is a film about a town famous in the 19th century for silver mining and now known for its scenic splendor\, mountains\, skiing\, hiking\, music\, intellectual activity and fashionable people. The film documents the daily life and activities of the people who live\, work\, visit\, and play in Aspen in the winter. \nJacob Burns Film Center
URL:https://www.whattododigital.com/event/jbfc-frederick-wisemans-america-aspen-2/
LOCATION:Jacob Burns Film Center
CATEGORIES:Movies
ATTACH;FMTTYPE=image/jpeg:https://www.whattododigital.com/wp-content/uploads/2026/04/JBFC_Wiseman_Aspen.jpg
END:VEVENT
BEGIN:VEVENT
DTSTART;TZID=America/New_York:20260421T181500
DTEND;TZID=America/New_York:20260421T181500
DTSTAMP:20260423T132429
CREATED:20260406T154955Z
LAST-MODIFIED:20260406T154955Z
UID:94278-1776795300-1776795300@www.whattododigital.com
SUMMARY:JBFC: Frederick Wiseman's America— Public Housing
DESCRIPTION:JBFC: Frederick Wiseman’s America— Public Housing \nPublic Housing documents daily life at the Ida B. Wells public housing development in Chicago. The film illustrates some of the experiences of people living in conditions of extreme poverty. Events shown include the work of the tenants councils\, street life\, the role of police\, job training programs\, drug education\, teenage mothers\, dysfunctional families\, elderly residents\, nursery school\, and after school teenage programs\, along with the activities of the city\, state\, and federal governments in maintaining and changing public housing. \nJacob Burns Film Center
URL:https://www.whattododigital.com/event/jbfc-frederick-wisemans-america-public-housing/
LOCATION:Jacob Burns Film Center
CATEGORIES:Movies
ATTACH;FMTTYPE=image/jpeg:https://www.whattododigital.com/wp-content/uploads/2026/04/JBFC_Wiseman_PublicHousing.jpg
END:VEVENT
BEGIN:VEVENT
DTSTART;TZID=America/New_York:20260423T160000
DTEND;TZID=America/New_York:20260423T160000
DTSTAMP:20260423T132429
CREATED:20260406T155521Z
LAST-MODIFIED:20260406T155521Z
UID:94285-1776960000-1776960000@www.whattododigital.com
SUMMARY:JBFC: Frederick Wiseman's America— Domestic Violence
DESCRIPTION:JBFC: Frederick Wiseman’s America— Domestic Violence \nDomestic Violence shows the police in Tampa\, Florida as they respond to domestic violence calls\, in addition to the work of The Spring\, the principal shelter in Tampa for women and children. Sequences with the police include police response\, intervention\, and attempted resolution of domestic violence calls. Sequences at the shelter include intake interviews\, individual counseling sessions\, anger management training\, group therapy\, conversations among clients and between clients and staff\, and staff meetings\, along with school activities\, therapy\, and counseling for children at the shelter. \nJacob Burns Film Center
URL:https://www.whattododigital.com/event/jbfc-frederick-wisemans-america-domestic-violence/
LOCATION:Jacob Burns Film Center
CATEGORIES:Movies
ATTACH;FMTTYPE=image/jpeg:https://www.whattododigital.com/wp-content/uploads/2026/04/JBFC_Wiseman_DomesticViolence.jpg
END:VEVENT
BEGIN:VEVENT
DTSTART;TZID=America/New_York:20260424T130000
DTEND;TZID=America/New_York:20260424T130000
DTSTAMP:20260423T132429
CREATED:20260406T160119Z
LAST-MODIFIED:20260420T192558Z
UID:94294-1777035600-1777035600@www.whattododigital.com
SUMMARY:JBFC: Frederick Wiseman's America: Belfast Maine
DESCRIPTION:JBFC: Frederick Wiseman’s America: Belfast Maine \nBelfast\, Maine is a film about ordinary experience in a beautiful old New England port city. It is a portrait of daily life with particular emphasis on the work and the cultural life of the community. Among the activities shown in the film are the work of lobstermen\, tug-boat operators\, factory workers\, shop owners\, city counselors\, doctors\, judges\, policemen\, teachers\, social workers\, nurses and ministers. Cultural activities include choir rehearsal\, dance class\, music lessons and theatre production. \nJacob Burns Film Center
URL:https://www.whattododigital.com/event/jbfc-fredeerick-wisemans-america-belfast-maine/
LOCATION:Jacob Burns Film Center
CATEGORIES:Movies
ATTACH;FMTTYPE=image/jpeg:https://www.whattododigital.com/wp-content/uploads/2026/04/JBFC_Wiseman_BelfastMaine.jpg
END:VEVENT
BEGIN:VEVENT
DTSTART;TZID=America/New_York:20260424T180000
DTEND;TZID=America/New_York:20260424T180000
DTSTAMP:20260423T132429
CREATED:20260406T160242Z
LAST-MODIFIED:20260406T160242Z
UID:94298-1777053600-1777053600@www.whattododigital.com
SUMMARY:JBFC: Frederick Wiseman's America: Belfast Maine
DESCRIPTION:JBFC: Frederick Wiseman’s America: Belfast Maine \nBelfast\, Maine is a film about ordinary experience in a beautiful old New England port city. It is a portrait of daily life with particular emphasis on the work and the cultural life of the community. Among the activities shown in the film are the work of lobstermen\, tug-boat operators\, factory workers\, shop owners\, city counselors\, doctors\, judges\, policemen\, teachers\, social workers\, nurses and ministers. Cultural activities include choir rehearsal\, dance class\, music lessons and theatre production. \nJacob Burns Film Center
URL:https://www.whattododigital.com/event/jbfc-frederick-wisemans-america-belfast-maine/
LOCATION:Jacob Burns Film Center
CATEGORIES:Movies
ATTACH;FMTTYPE=image/jpeg:https://www.whattododigital.com/wp-content/uploads/2026/04/JBFC_Wiseman_BelfastMaine.jpg
END:VEVENT
BEGIN:VEVENT
DTSTART;TZID=America/New_York:20260425T130000
DTEND;TZID=America/New_York:20260425T130000
DTSTAMP:20260423T132429
CREATED:20260406T155117Z
LAST-MODIFIED:20260406T155117Z
UID:94282-1777122000-1777122000@www.whattododigital.com
SUMMARY:JBFC: Frederick Wiseman's America— Public Housing
DESCRIPTION:JBFC: Frederick Wiseman’s America— Public Housing \nPublic Housing documents daily life at the Ida B. Wells public housing development in Chicago. The film illustrates some of the experiences of people living in conditions of extreme poverty. Events shown include the work of the tenants councils\, street life\, the role of police\, job training programs\, drug education\, teenage mothers\, dysfunctional families\, elderly residents\, nursery school\, and after school teenage programs\, along with the activities of the city\, state\, and federal governments in maintaining and changing public housing. \nJacob Burns Film Center
URL:https://www.whattododigital.com/event/jbfc-frederick-wisemans-america-public-housing-2/
LOCATION:Jacob Burns Film Center
CATEGORIES:Movies
ATTACH;FMTTYPE=image/jpeg:https://www.whattododigital.com/wp-content/uploads/2026/04/JBFC_Wiseman_PublicHousing.jpg
END:VEVENT
BEGIN:VEVENT
DTSTART;TZID=America/New_York:20260426T130000
DTEND;TZID=America/New_York:20260426T130000
DTSTAMP:20260423T132429
CREATED:20260406T155640Z
LAST-MODIFIED:20260406T155640Z
UID:94291-1777208400-1777208400@www.whattododigital.com
SUMMARY:JBFC: Frederick Wiseman's America— Domestic Violence
DESCRIPTION:JBFC: Frederick Wiseman’s America— Domestic Violence \nDomestic Violence shows the police in Tampa\, Florida as they respond to domestic violence calls\, in addition to the work of The Spring\, the principal shelter in Tampa for women and children. Sequences with the police include police response\, intervention\, and attempted resolution of domestic violence calls. Sequences at the shelter include intake interviews\, individual counseling sessions\, anger management training\, group therapy\, conversations among clients and between clients and staff\, and staff meetings\, along with school activities\, therapy\, and counseling for children at the shelter. \nJacob Burns Film Center
URL:https://www.whattododigital.com/event/jbfc-frederick-wisemans-america-domestic-violence-2/
LOCATION:Jacob Burns Film Center
CATEGORIES:Movies
ATTACH;FMTTYPE=image/jpeg:https://www.whattododigital.com/wp-content/uploads/2026/04/JBFC_Wiseman_DomesticViolence.jpg
END:VEVENT
BEGIN:VEVENT
DTSTART;TZID=America/New_York:20260428T183000
DTEND;TZID=America/New_York:20260428T183000
DTSTAMP:20260423T132429
CREATED:20260406T160645Z
LAST-MODIFIED:20260406T160645Z
UID:94301-1777401000-1777401000@www.whattododigital.com
SUMMARY:JBFC: Frederick Wiseman's America— In Jackson Heights
DESCRIPTION:JBFC: Frederick Wiseman’s America— In Jackson Heights \nSet in the neighborhood of Jackson Heights in Queens\, New York—one of the most racially and ethically diverse communities in the United States—In Jackson Heights centers on the daily lives of the people in this community: from their businesses\, community centers\, and religious spaces\, to their political\, cultural and\, social lives. The film also explores the conflict some residents of Jackson Heights feel between maintaining ties to the traditions of their countries of origin and the obligation they feel to learn and adapt to “American” ways and values. \nJacob Burns Film Center
URL:https://www.whattododigital.com/event/jbfc-frederick-wisemans-america-in-jackson-heights/
LOCATION:Jacob Burns Film Center
CATEGORIES:Movies
ATTACH;FMTTYPE=image/jpeg:https://www.whattododigital.com/wp-content/uploads/2026/04/JBFC_Wiseman_InJacksonHeights.jpg
END:VEVENT
BEGIN:VEVENT
DTSTART;TZID=America/New_York:20260430T183000
DTEND;TZID=America/New_York:20260430T183000
DTSTAMP:20260423T132429
CREATED:20260406T161233Z
LAST-MODIFIED:20260406T161233Z
UID:94309-1777573800-1777573800@www.whattododigital.com
SUMMARY:JBFC: Frederick Wiseman's America— Ex Libris: The New York Public Library
DESCRIPTION:JBFC: Frederick Wiseman’s America— Ex Libris: The New York Public Library \nEx Libris: The New York Public Library goes behind the scenes of one of the greatest knowledge institutions in the world and reveals it as a welcoming place of cultural exchange and learning. With 92 locations throughout Manhattan\, the Bronx\, and Staten Island\, the library is committed to being a resource for all the inhabitants of this multifaceted and cosmopolitan city. The New York Public Library exemplifies the deeply rooted American belief in the individual’s right to know and be informed. \nJacob Burns Film Center
URL:https://www.whattododigital.com/event/jbfc-frederick-wisemans-america-ex-libris-the-new-york-public-library/
LOCATION:Jacob Burns Film Center
CATEGORIES:Movies
ATTACH;FMTTYPE=image/jpeg:https://www.whattododigital.com/wp-content/uploads/2026/04/JBFC_Wiseman_ExLibris.jpg
END:VEVENT
BEGIN:VEVENT
DTSTART;TZID=America/New_York:20260501T130000
DTEND;TZID=America/New_York:20260501T130000
DTSTAMP:20260423T132429
CREATED:20260406T161359Z
LAST-MODIFIED:20260406T161359Z
UID:94313-1777640400-1777640400@www.whattododigital.com
SUMMARY:JBFC: Frederick Wiseman's America— Ex Libris: The New York Public Library
DESCRIPTION:JBFC: Frederick Wiseman’s America— Ex Libris: The New York Public Library \nEx Libris: The New York Public Library goes behind the scenes of one of the greatest knowledge institutions in the world and reveals it as a welcoming place of cultural exchange and learning. With 92 locations throughout Manhattan\, the Bronx\, and Staten Island\, the library is committed to being a resource for all the inhabitants of this multifaceted and cosmopolitan city. The New York Public Library exemplifies the deeply rooted American belief in the individual’s right to know and be informed. \nJacob Burns Film Center
URL:https://www.whattododigital.com/event/jbfc-frederick-wisemans-america-ex-libris-the-new-york-public-library-2/
LOCATION:Jacob Burns Film Center
CATEGORIES:Movies
ATTACH;FMTTYPE=image/jpeg:https://www.whattododigital.com/wp-content/uploads/2026/04/JBFC_Wiseman_ExLibris-1.jpg
END:VEVENT
BEGIN:VEVENT
DTSTART;TZID=America/New_York:20260501T170000
DTEND;TZID=America/New_York:20260501T170000
DTSTAMP:20260423T132429
CREATED:20260406T161704Z
LAST-MODIFIED:20260406T161704Z
UID:94317-1777654800-1777654800@www.whattododigital.com
SUMMARY:JBFC: Frederick Wiseman's America: Monrovia\, Indiana
DESCRIPTION:JBFC: Frederick Wiseman’s America: Monrovia\, Indiana \nMonrovia\, Indiana explores a small\, rural town in the American midwest and illustrates how values like community service\, duty\, spiritual life\, generosity\, and authenticity are formed\, experienced\, and lived\, along with conflicting stereotypes. The film gives a complex and nuanced view of daily life in Monrovia and provides some understanding of a way of life whose influence and force have not always been recognized or understood in the big cities on the east and west coasts of America. \nJacob Burns Film Center
URL:https://www.whattododigital.com/event/jbfc-frederick-wisemans-america-monrovia-indiana/
LOCATION:Jacob Burns Film Center
CATEGORIES:Movies
ATTACH;FMTTYPE=image/jpeg:https://www.whattododigital.com/wp-content/uploads/2026/04/JBFC_Wiseman_Monrovia.jpg
END:VEVENT
BEGIN:VEVENT
DTSTART;TZID=America/New_York:20260502T131500
DTEND;TZID=America/New_York:20260502T131500
DTSTAMP:20260423T132429
CREATED:20260406T160838Z
LAST-MODIFIED:20260406T160838Z
UID:94306-1777727700-1777727700@www.whattododigital.com
SUMMARY:JBFC: Frederick Wiseman's America— In Jackson Heights
DESCRIPTION:JBFC: Frederick Wiseman’s America— In Jackson Heights \nSet in the neighborhood of Jackson Heights in Queens\, New York—one of the most racially and ethically diverse communities in the United States—In Jackson Heights centers on the daily lives of the people in this community: from their businesses\, community centers\, and religious spaces\, to their political\, cultural and\, social lives. The film also explores the conflict some residents of Jackson Heights feel between maintaining ties to the traditions of their countries of origin and the obligation they feel to learn and adapt to “American” ways and values. \nJacob Burns Film Center
URL:https://www.whattododigital.com/event/jbfc-frederick-wisemans-america-in-jackson-heights-2/
LOCATION:Jacob Burns Film Center
CATEGORIES:Movies
ATTACH;FMTTYPE=image/jpeg:https://www.whattododigital.com/wp-content/uploads/2026/04/JBFC_Wiseman_InJacksonHeights.jpg
END:VEVENT
BEGIN:VEVENT
DTSTART;TZID=America/New_York:20260503T140000
DTEND;TZID=America/New_York:20260503T140000
DTSTAMP:20260423T132429
CREATED:20260406T161906Z
LAST-MODIFIED:20260406T161906Z
UID:94321-1777816800-1777816800@www.whattododigital.com
SUMMARY:JBFC: Frederick Wiseman's America: Monrovia\, Indiana
DESCRIPTION:JBFC: Frederick Wiseman’s America: Monrovia\, Indiana \nMonrovia\, Indiana explores a small\, rural town in the American midwest and illustrates how values like community service\, duty\, spiritual life\, generosity\, and authenticity are formed\, experienced\, and lived\, along with conflicting stereotypes. The film gives a complex and nuanced view of daily life in Monrovia and provides some understanding of a way of life whose influence and force have not always been recognized or understood in the big cities on the east and west coasts of America. \nJacob Burns Film Center
URL:https://www.whattododigital.com/event/jbfc-frederick-wisemans-america-monrovia-indiana-2/
LOCATION:Jacob Burns Film Center
CATEGORIES:Movies
ATTACH;FMTTYPE=image/jpeg:https://www.whattododigital.com/wp-content/uploads/2026/04/JBFC_Wiseman_Monrovia.jpg
END:VEVENT
END:VCALENDAR