BEGIN:VCALENDAR
VERSION:2.0
PRODID:-//What To Do - ECPv6.15.20//NONSGML v1.0//EN
CALSCALE:GREGORIAN
METHOD:PUBLISH
X-ORIGINAL-URL:https://www.whattododigital.com
X-WR-CALDESC:Events for What To Do
REFRESH-INTERVAL;VALUE=DURATION:PT1H
X-Robots-Tag:noindex
X-PUBLISHED-TTL:PT1H
BEGIN:VTIMEZONE
TZID:America/New_York
BEGIN:DAYLIGHT
TZOFFSETFROM:-0500
TZOFFSETTO:-0400
TZNAME:EDT
DTSTART:20250309T070000
END:DAYLIGHT
BEGIN:STANDARD
TZOFFSETFROM:-0400
TZOFFSETTO:-0500
TZNAME:EST
DTSTART:20251102T060000
END:STANDARD
BEGIN:DAYLIGHT
TZOFFSETFROM:-0500
TZOFFSETTO:-0400
TZNAME:EDT
DTSTART:20260308T070000
END:DAYLIGHT
BEGIN:STANDARD
TZOFFSETFROM:-0400
TZOFFSETTO:-0500
TZNAME:EST
DTSTART:20261101T060000
END:STANDARD
BEGIN:DAYLIGHT
TZOFFSETFROM:-0500
TZOFFSETTO:-0400
TZNAME:EDT
DTSTART:20270314T070000
END:DAYLIGHT
BEGIN:STANDARD
TZOFFSETFROM:-0400
TZOFFSETTO:-0500
TZNAME:EST
DTSTART:20271107T060000
END:STANDARD
END:VTIMEZONE
BEGIN:VEVENT
DTSTART;TZID=America/New_York:20260205T133000
DTEND;TZID=America/New_York:20260205T133000
DTSTAMP:20260423T165826
CREATED:20260202T215732Z
LAST-MODIFIED:20260202T215732Z
UID:93654-1770298200-1770298200@www.whattododigital.com
SUMMARY:Kurosawa Restored at JBFC: Ikiru
DESCRIPTION:Kurosawa Restored at JBFC: Ikiru \nTakashi Shimura beautifully portrays Kanji Watanabe\, an aging bureaucrat with stomach cancer who is impelled to find meaning in his final days. Presented in a radically conceived two-part structure and shot with a perceptive\, humanistic clarity of vision\, Ikiru is a multifaceted look at what it means to be alive. \nJacob Burns Film Center
URL:https://www.whattododigital.com/event/kurosawa-restored-at-jbfc-ikiru/
LOCATION:Jacob Burns Film Center
CATEGORIES:Movies
ATTACH;FMTTYPE=image/jpeg:https://www.whattododigital.com/wp-content/uploads/2026/02/JBFC_Kurosawa_Ikiru.jpg
END:VEVENT
BEGIN:VEVENT
DTSTART;VALUE=DATE:20260206
DTEND;VALUE=DATE:20260207
DTSTAMP:20260423T165826
CREATED:20260106T162305Z
LAST-MODIFIED:20260106T162305Z
UID:93298-1770336000-1770422399@www.whattododigital.com
SUMMARY:Lyndhurst Theatre: Othello
DESCRIPTION:Lyndhurst Theatre: Othello \nM&M Performing Arts presents Othello by William Shakespeare February and March 2026 in the accessible first floor parlor of Lyndhurst Mansion. \nAri Mack stars as Othello\, the noble Moor of Venice and commanding warrior-general with Michael Muldoon as Iago\, the ambitious lieutenant and masterful manipulator. \nCheck for further dates and times. \nLyndhurst Theatre
URL:https://www.whattododigital.com/event/lyndhurst-theatre-othello-4/
LOCATION:Lyndhurst Mansion
CATEGORIES:Arts
ATTACH;FMTTYPE=image/jpeg:https://www.whattododigital.com/wp-content/uploads/2026/01/Lyndhurst_Othello.jpg
END:VEVENT
BEGIN:VEVENT
DTSTART;TZID=America/New_York:20260206T153000
DTEND;TZID=America/New_York:20260206T153000
DTSTAMP:20260423T165826
CREATED:20260202T220226Z
LAST-MODIFIED:20260202T220226Z
UID:93659-1770391800-1770391800@www.whattododigital.com
SUMMARY:Kurosawa Restored at JBFC: Red Beard
DESCRIPTION:Kurosawa Restored at JBFC: Red Beard \nAkira Kurosawa’s Red Beard (Akahige) chronicles the tumultuous relationship between an arrogant young doctor and a compassionate clinic director. Toshiro Mifune\, in his last role for Kurosawa\, gives a powerhouse performance as the dignified yet empathic director who guides his pupil to maturity\, teaching the embittered intern to appreciate the lives of his destitute patients. \nJacob Burns Film Center
URL:https://www.whattododigital.com/event/kurosawa-restored-at-jbfc-red-beard/
LOCATION:Jacob Burns Film Center
CATEGORIES:Movies
ATTACH;FMTTYPE=image/jpeg:https://www.whattododigital.com/wp-content/uploads/2026/02/JBFC_Kurosawa_Red-Beard.jpg
END:VEVENT
BEGIN:VEVENT
DTSTART;TZID=America/New_York:20260206T183000
DTEND;TZID=America/New_York:20260206T183000
DTSTAMP:20260423T165826
CREATED:20260202T193237Z
LAST-MODIFIED:20260202T193237Z
UID:93642-1770402600-1770402600@www.whattododigital.com
SUMMARY:Bedford Playhouse: Lauren Minear
DESCRIPTION:Bedford Playhouse: Lauren Minear \nMinear’s voice—reminiscent of Natalie Merchant\, Dido\, and Maggie Rogers—delivers raw emotion\, while her lyrics\, likened to Joni Mitchell and Sarah McLachlan\, cut straight to the soul. \nMinear’s transformative third album\, Boxing Day was released on October 17\, 2025 to critical acclaim. Earmilk calls it “an 11-song masterpiece that pulls apart the webbing of motherhood\, relationships\, and womanhood”. \nBedford Playhouse
URL:https://www.whattododigital.com/event/bedford-playhouse-lauren-minear/
LOCATION:The Bedford Playhouse\, 633 Old Post Rd.\, Bedford Village\, NY\, 10506\, United States
CATEGORIES:Music
ATTACH;FMTTYPE=image/jpeg:https://www.whattododigital.com/wp-content/uploads/2026/02/BPH_Lauren-Minear.jpeg
END:VEVENT
BEGIN:VEVENT
DTSTART;TZID=America/New_York:20260206T183000
DTEND;TZID=America/New_York:20260206T203000
DTSTAMP:20260423T165826
CREATED:20260120T140934Z
LAST-MODIFIED:20260120T140934Z
UID:93523-1770402600-1770409800@www.whattododigital.com
SUMMARY:Westmoreland Sanctuary: Winterfest Fundraiser
DESCRIPTION:Westmoreland Sanctuary: Winterfest Fundraiser \nThis year’s evening of delicious food\, seasonal wines\, and music in support of Westmoreland’s Environmental Education Center event features the distinguished Charles Ludington\, known for his Wine History and Tastings engagements at the Yale Club and other notable venues.Charles will guide guests through a curated tasting of exceptional seasonal wines. The theme for Winterfest will be “Winter Wines.” He will introduce the wines and be available to discuss them throughout the evening. \nWestmoreland Sanctuary
URL:https://www.whattododigital.com/event/estmoreland-sanctuary-winterfest-fundraiser/
CATEGORIES:Benefits,Grown Ups
ATTACH;FMTTYPE=image/jpeg:https://www.whattododigital.com/wp-content/uploads/2026/01/Westmoreland_Winterfest.jpg
END:VEVENT
BEGIN:VEVENT
DTSTART;TZID=America/New_York:20260206T191500
DTEND;TZID=America/New_York:20260206T191500
DTSTAMP:20260423T165826
CREATED:20260202T220859Z
LAST-MODIFIED:20260202T220859Z
UID:93670-1770405300-1770405300@www.whattododigital.com
SUMMARY:Kurosawa Restored at JBFC: Ran
DESCRIPTION:Kurosawa Restored at JBFC: Ran \nAkira Kurosawa’s Academy Award-winning adaptation of William Shakespeare’s King Lear\, Ran considers the disastrous consequences of Lord Hidetora Ichimonji’s (Tatsuya Nakadai) decision to split his kingdom among his three sons. \nJacob Burns Film Center
URL:https://www.whattododigital.com/event/kurosawa-restored-at-jbfc-ran/
LOCATION:Jacob Burns Film Center
CATEGORIES:Movies
ATTACH;FMTTYPE=image/jpeg:https://www.whattododigital.com/wp-content/uploads/2026/02/JBFC_Kurosawa_Ran.jpeg
END:VEVENT
BEGIN:VEVENT
DTSTART;TZID=America/New_York:20260206T200000
DTEND;TZID=America/New_York:20260206T200000
DTSTAMP:20260423T165826
CREATED:20260105T193225Z
LAST-MODIFIED:20260105T193225Z
UID:93101-1770408000-1770408000@www.whattododigital.com
SUMMARY:Emelin Theatre: Nomfusi
DESCRIPTION:Emelin Theatre: Nomfusi \nRaised in the townships of South Africa\, Nomfusi’s music channels the spirit of her upbringing\, blending deeply personal storytelling with the infectious rhythms of mbaqanga and Afrobeat. \nShe portrayed young Miriam Makeba in the film Mandela: Long Walk to Freedom\, and her rise has been chronicled by Rolling Stone\, Cosmopolitan\, and The Mail & Guardian. \nEmelin Theatre
URL:https://www.whattododigital.com/event/emelin-theatre-nomfusi/
LOCATION:Emelin Theatre
CATEGORIES:Music
ATTACH;FMTTYPE=image/jpeg:https://www.whattododigital.com/wp-content/uploads/2026/01/Emelin_Nomfusi.jpg
END:VEVENT
BEGIN:VEVENT
DTSTART;TZID=America/New_York:20260206T200000
DTEND;TZID=America/New_York:20260206T200000
DTSTAMP:20260423T165826
CREATED:20260106T151457Z
LAST-MODIFIED:20260106T151457Z
UID:93254-1770408000-1770408000@www.whattododigital.com
SUMMARY:ARC Stages: First Lady Suite
DESCRIPTION:ARC Stages: First Lady Suite \nFirst Lady Suite looks at the lives of four often-overlooked historical figures: Jacqueline Bouvier Kennedy\, Mamie Eisenhower\, Bess Truman\, and Eleanor Roosevelt. A musical fantasy that explores their personal struggles and relationships\, offering a unique\, theatrical lens into the lives of these first ladies. \nARC Stages
URL:https://www.whattododigital.com/event/arc-stages-first-lady-suite-4/
LOCATION:Arc Stages\, 147 WHEELER AVENUE\, Pleasantville\, NY\, United States
ATTACH;FMTTYPE=image/jpeg:https://www.whattododigital.com/wp-content/uploads/2026/01/Arc_Stages_First_Lady_Suite_Poster-copy.jpg
END:VEVENT
BEGIN:VEVENT
DTSTART;TZID=America/New_York:20260207T080000
DTEND;TZID=America/New_York:20260207T170000
DTSTAMP:20260423T165826
CREATED:20260106T162407Z
LAST-MODIFIED:20260106T162407Z
UID:93301-1770451200-1770483600@www.whattododigital.com
SUMMARY:Lyndhurst Theatre: Othello
DESCRIPTION:Lyndhurst Theatre: Othello \nM&M Performing Arts presents Othello by William Shakespeare February and March 2026 in the accessible first floor parlor of Lyndhurst Mansion. \nAri Mack stars as Othello\, the noble Moor of Venice and commanding warrior-general with Michael Muldoon as Iago\, the ambitious lieutenant and masterful manipulator. \nCheck for further dates and times. \nLyndhurst Theatre
URL:https://www.whattododigital.com/event/lyndhurst-theatre-othello-5/
LOCATION:Lyndhurst Mansion
CATEGORIES:Arts
ATTACH;FMTTYPE=image/jpeg:https://www.whattododigital.com/wp-content/uploads/2026/01/Lyndhurst_Othello.jpg
END:VEVENT
BEGIN:VEVENT
DTSTART;TZID=America/New_York:20260207T080000
DTEND;TZID=America/New_York:20260207T170000
DTSTAMP:20260423T165826
CREATED:20260106T200950Z
LAST-MODIFIED:20260106T200950Z
UID:93387-1770451200-1770483600@www.whattododigital.com
SUMMARY:New York Botanical Garden Orchid Show
DESCRIPTION:New York Botanical Garden Orchid Show: Mr Flower Fantastic’s Concrete Jungle \nAt The Orchid Show: Mr. Flower Fantastic’s Concrete Jungle\, orchids collide with concrete in a dazzling reimagining of the Big Apple\, from stoops and slice shops to the subway itself. Step into a breathtaking fusion of nature and cityscape artistry in the Enid A. Haupt Conservatory\, and experience the flair and style of New York transformed by thousands of flowers. \nOpens on Saturday February 7 and runs through Sunday April 26. \nThe Garden is open 10 a.m.–6 p.m.\, Tuesday–Sunday\, and Monday federal holidays. \nNew York Botanical Garden
URL:https://www.whattododigital.com/event/new-york-botanical-garden-orchid-show/
LOCATION:New York Botanical Garden\, 2900 Southern Blvd.\, Bronx\, NY\, 10458-5126\, United States
CATEGORIES:Arts
ATTACH;FMTTYPE=image/jpeg:https://www.whattododigital.com/wp-content/uploads/2026/01/NYBG_Orchid.jpeg
END:VEVENT
BEGIN:VEVENT
DTSTART;TZID=America/New_York:20260207T090000
DTEND;TZID=America/New_York:20260207T090000
DTSTAMP:20260423T165826
CREATED:20260120T162847Z
LAST-MODIFIED:20260120T162847Z
UID:93593-1770454800-1770454800@www.whattododigital.com
SUMMARY:Maritime Aquarium Norwalk: Seal Spotting & Birding Cruise
DESCRIPTION:Maritime Aquarium Norwalk: Seal Spotting & Birding Cruise \nThe two-hour cruises seek out animals spending the winter in Long Island Sound including harbor seals\, gray seals\, buffleheads\, mergansers\, long-tailed ducks\, and red-throated loons. Aquarium educators will identify these species for guests and discuss their natural histories. \nNorwalk Maritime Aquarium
URL:https://www.whattododigital.com/event/maritime-aquarium-norwalk-seal-spotting-birding-cruise/
LOCATION:Maritime Aquarium Norwalk\, 10 North Water Street\, Norwalk\, CT\, United States
CATEGORIES:Grown Ups,Kids,Outdoors
ATTACH;FMTTYPE=image/jpeg:https://www.whattododigital.com/wp-content/uploads/2017/02/Kids_seals_Norwalk-Aquarium-e1488324776844.jpg
END:VEVENT
BEGIN:VEVENT
DTSTART;TZID=America/New_York:20260207T090000
DTEND;TZID=America/New_York:20260207T160000
DTSTAMP:20260423T165826
CREATED:20260106T203421Z
LAST-MODIFIED:20260106T203421Z
UID:93399-1770454800-1770480000@www.whattododigital.com
SUMMARY:Teatown Hudson River EagleFest
DESCRIPTION:Teatown Hudson River EagleFest \nThe program includes thrilling live bird shows spotlighting birds of prey\, bird walks where you can view eagles through spotting scopes\, heated tents filled with educational displays and exhibits\, crafts and games for children\, food trucks\, and more! \nSnow date is Sunday\, February 8. \nTeatown
URL:https://www.whattododigital.com/event/teatown-hudson-river-eaglefest/
LOCATION:Croton Point Park\, 1 Croton Point Ave.\, Croton-on-Hudson\, NY\, United States
CATEGORIES:Grown Ups,Kids,Outdoors
ATTACH;FMTTYPE=image/jpeg:https://www.whattododigital.com/wp-content/uploads/2026/01/Teatown_Bald-eagle-on-the-St-Johns-River-2-scaled-1.jpeg
END:VEVENT
BEGIN:VEVENT
DTSTART;TZID=America/New_York:20260207T110000
DTEND;TZID=America/New_York:20260207T150000
DTSTAMP:20260423T165826
CREATED:20260120T142403Z
LAST-MODIFIED:20260120T142403Z
UID:93540-1770462000-1770476400@www.whattododigital.com
SUMMARY:Muscoot Farm Winter Festival
DESCRIPTION:Muscoot Farm Winter Festival \nHelp thaw the cold of winter by Muscoot Farm for a weekend of music\, animals\, winter treats\, and more! \nMuscoot Farm
URL:https://www.whattododigital.com/event/muscoot-farm-winter-festival/
LOCATION:Muscoot Farm
CATEGORIES:Fairs and Festivals,Kids
ATTACH;FMTTYPE=image/jpeg:https://www.whattododigital.com/wp-content/uploads/2024/01/Muscoot_Winter-Fest.jpg
END:VEVENT
BEGIN:VEVENT
DTSTART;TZID=America/New_York:20260207T130000
DTEND;TZID=America/New_York:20260207T130000
DTSTAMP:20260423T165826
CREATED:20260108T163326Z
LAST-MODIFIED:20260108T163326Z
UID:93436-1770469200-1770469200@www.whattododigital.com
SUMMARY:Tarrytown Music Hall: Curious George: The Golden Meatball
DESCRIPTION:Tarrytown Music Hall: Curious George: The Golden Meatball \nJoin Curious George\, the inquisitive\, engaging monkey-star of books\, movies and the award-winning PBS television show in a brand new musical. Curious George: The Golden Meatball TYA is a loveable adventure\, specifically designed for young audiences\, that is sure to leave your audiences singing and swinging down the aisles. \nTarrytown Music Hall
URL:https://www.whattododigital.com/event/tarrytown-music-hall-curious-george-the-golden-meatball/
CATEGORIES:Kids
ATTACH;FMTTYPE=image/jpeg:https://www.whattododigital.com/wp-content/uploads/2026/01/TMH_CuriousGeorge25fb.jpeg
END:VEVENT
BEGIN:VEVENT
DTSTART;TZID=America/New_York:20260207T130000
DTEND;TZID=America/New_York:20260207T130000
DTSTAMP:20260423T165826
CREATED:20260202T222759Z
LAST-MODIFIED:20260202T222759Z
UID:93695-1770469200-1770469200@www.whattododigital.com
SUMMARY:Kurosawa Restored at JBFC: Yojimbo
DESCRIPTION:Kurosawa Restored at JBFC: Yojimbo \nTo rid a terror-stricken village of corruption\, wily masterless samurai Sanjuro turns a range war between two evil clans to his own advantage. Remade twice\, by Sergio Leone and Walter Hill respectively\, this exhilarating genre-twister remains one of the most influential and entertaining films of all time. \nJacob Burns Film Center
URL:https://www.whattododigital.com/event/kurosawa-restored-at-jbfc-yojimbo/
LOCATION:Jacob Burns Film Center
CATEGORIES:Movies
ATTACH;FMTTYPE=image/jpeg:https://www.whattododigital.com/wp-content/uploads/2026/02/JBFC_Kurosawa_Yojimbo.jpg
END:VEVENT
BEGIN:VEVENT
DTSTART;TZID=America/New_York:20260207T160000
DTEND;TZID=America/New_York:20260207T160000
DTSTAMP:20260423T165826
CREATED:20260202T223455Z
LAST-MODIFIED:20260202T223455Z
UID:93706-1770480000-1770480000@www.whattododigital.com
SUMMARY:Kurosawa Restored at JBFC: Sanjuro
DESCRIPTION:Kurosawa Restored at JBFC: Sanjuro \nToshiro Mifune swaggers and snarls to brilliant comic effect in Akira Kurosawa’s tightly paced\, beautifully composed Sanjuro. In this sly companion piece to Yojimbo\, jaded samurai Sanjuro helps an idealistic group of young warriors weed out their clan’s evil influences\, and in the process turns their image of a “proper” samurai on its head. \nJacob Burns \n 
URL:https://www.whattododigital.com/event/kurosawa-restored-at-jbfc-sanjuro/
CATEGORIES:Movies
ATTACH;FMTTYPE=image/jpeg:https://www.whattododigital.com/wp-content/uploads/2026/02/JBFC_Kurosaw_-Sanjimu.jpg
END:VEVENT
BEGIN:VEVENT
DTSTART;TZID=America/New_York:20260207T183000
DTEND;TZID=America/New_York:20260207T183000
DTSTAMP:20260423T165826
CREATED:20260202T222045Z
LAST-MODIFIED:20260202T222045Z
UID:93684-1770489000-1770489000@www.whattododigital.com
SUMMARY:Kurosawa Restored at JBFC: Seven Samurai
DESCRIPTION:Kurosawa Restored at JBFC: Seven Samurai \nOne of the most thrilling movie epics of all time\, Seven Samurai tells the story of a sixteenth-century village whose desperate inhabitants hire the eponymous warriors to protect them from invading bandits. \nJacob Burns Film Center
URL:https://www.whattododigital.com/event/kurosawa-restored-at-jbfc-seven-samurai/
LOCATION:Jacob Burns Film Center
CATEGORIES:Movies
ATTACH;FMTTYPE=image/jpeg:https://www.whattododigital.com/wp-content/uploads/2026/02/JBFC_Kurosawa_Samuria2.jpg
END:VEVENT
BEGIN:VEVENT
DTSTART;TZID=America/New_York:20260207T200000
DTEND;TZID=America/New_York:20260207T200000
DTSTAMP:20260423T165826
CREATED:20251021T185901Z
LAST-MODIFIED:20251021T185901Z
UID:91682-1770494400-1770494400@www.whattododigital.com
SUMMARY:New Choral Society: An Evening of Chamber Music
DESCRIPTION:New Choral Society: An Evening of Chamber Music \nSee the New Choral Society’s chamber orchestra in their traditional winter concert as they present a program of beloved chamber works by everyone’s favorite composers that spans the centuries and includes familiar as well as lesser known works. \nNew Choral Society
URL:https://www.whattododigital.com/event/new-choral-society-an-evening-of-chamber-music/
LOCATION:Hitchcock Presbyterian Church\, 6 Greenacres Ave.\, Scarsdale\, NY\, 10583\, United States
CATEGORIES:Music Classical
ATTACH;FMTTYPE=image/jpeg:https://www.whattododigital.com/wp-content/uploads/2025/10/New-Choral_Chamber-copy.jpg
END:VEVENT
BEGIN:VEVENT
DTSTART;TZID=America/New_York:20260207T200000
DTEND;TZID=America/New_York:20260207T200000
DTSTAMP:20260423T165826
CREATED:20260106T151605Z
LAST-MODIFIED:20260106T151605Z
UID:93257-1770494400-1770494400@www.whattododigital.com
SUMMARY:ARC Stages: First Lady Suite
DESCRIPTION:ARC Stages: First Lady Suite \nFirst Lady Suite looks at the lives of four often-overlooked historical figures: Jacqueline Bouvier Kennedy\, Mamie Eisenhower\, Bess Truman\, and Eleanor Roosevelt. A musical fantasy that explores their personal struggles and relationships\, offering a unique\, theatrical lens into the lives of these first ladies. \nARC Stages
URL:https://www.whattododigital.com/event/arc-stages-first-lady-suite-5/
CATEGORIES:Arts
ATTACH;FMTTYPE=image/jpeg:https://www.whattododigital.com/wp-content/uploads/2026/01/Arc_Stages_First_Lady_Suite_Poster-copy.jpg
END:VEVENT
BEGIN:VEVENT
DTSTART;VALUE=DATE:20260208
DTEND;VALUE=DATE:20260209
DTSTAMP:20260423T165826
CREATED:20260106T162512Z
LAST-MODIFIED:20260106T162512Z
UID:93304-1770508800-1770595199@www.whattododigital.com
SUMMARY:Lyndhurst Theatre: Othello
DESCRIPTION:Lyndhurst Theatre: Othello \nM&M Performing Arts presents Othello by William Shakespeare February and March 2026 in the accessible first floor parlor of Lyndhurst Mansion. \nAri Mack stars as Othello\, the noble Moor of Venice and commanding warrior-general with Michael Muldoon as Iago\, the ambitious lieutenant and masterful manipulator. \nCheck for further dates and times. \nLyndhurst Theatre
URL:https://www.whattododigital.com/event/lyndhurst-theatre-othello-6/
LOCATION:Lyndhurst Mansion
END:VEVENT
BEGIN:VEVENT
DTSTART;TZID=America/New_York:20260208T093000
DTEND;TZID=America/New_York:20260208T093000
DTSTAMP:20260423T165826
CREATED:20260120T164016Z
LAST-MODIFIED:20260120T164016Z
UID:93596-1770543000-1770543000@www.whattododigital.com
SUMMARY:Maritime Aquarium Norwalk: Seal Spotting & Birding Cruise
DESCRIPTION:Maritime Aquarium Norwalk: Seal Spotting & Birding Cruise \nThe two-hour cruises seek out animals spending the winter in Long Island Sound including harbor seals\, gray seals\, buffleheads\, mergansers\, long-tailed ducks\, and red-throated loons. Aquarium educators will identify these species for guests and discuss their natural histories. \nNorwalk Maritime Aquarium
URL:https://www.whattododigital.com/event/maritime-aquarium-norwalk-seal-spotting-birding-cruise-2/
LOCATION:Maritime Aquarium Norwalk\, 10 North Water Street\, Norwalk\, CT\, United States
CATEGORIES:Grown Ups,Kids,Outdoors
ATTACH;FMTTYPE=image/jpeg:https://www.whattododigital.com/wp-content/uploads/2026/01/Kids_seal-spotting_Aquarium-Norwalk-.jpeg
END:VEVENT
BEGIN:VEVENT
DTSTART;TZID=America/New_York:20260208T120000
DTEND;TZID=America/New_York:20260208T120000
DTSTAMP:20260423T165826
CREATED:20260202T220335Z
LAST-MODIFIED:20260202T220335Z
UID:93664-1770552000-1770552000@www.whattododigital.com
SUMMARY:Kurosawa Restored at JBFC: Red Beard
DESCRIPTION:Kurosawa Restored at JBFC: Red Beard \nAkira Kurosawa’s Red Beard (Akahige) chronicles the tumultuous relationship between an arrogant young doctor and a compassionate clinic director. Toshiro Mifune\, in his last role for Kurosawa\, gives a powerhouse performance as the dignified yet empathic director who guides his pupil to maturity\, teaching the embittered intern to appreciate the lives of his destitute patients. \nJacob Burns Film Center
URL:https://www.whattododigital.com/event/kurosawa-restored-at-jbfc-red-beard-2/
LOCATION:Jacob Burns Film Center
CATEGORIES:Movies
ATTACH;FMTTYPE=image/jpeg:https://www.whattododigital.com/wp-content/uploads/2026/02/JBFC_Kurosawa_Red-Beard.jpg
END:VEVENT
BEGIN:VEVENT
DTSTART;TZID=America/New_York:20260208T140000
DTEND;TZID=America/New_York:20260208T140000
DTSTAMP:20260423T165826
CREATED:20260106T151715Z
LAST-MODIFIED:20260106T151715Z
UID:93260-1770559200-1770559200@www.whattododigital.com
SUMMARY:ARC Stages: First Lady Suite
DESCRIPTION:ARC Stages: First Lady Suite \nFirst Lady Suite looks at the lives of four often-overlooked historical figures: Jacqueline Bouvier Kennedy\, Mamie Eisenhower\, Bess Truman\, and Eleanor Roosevelt. A musical fantasy that explores their personal struggles and relationships\, offering a unique\, theatrical lens into the lives of these first ladies. \nARC Stages
URL:https://www.whattododigital.com/event/arc-stages-first-lady-suite-6/
LOCATION:Arc Stages\, 147 WHEELER AVENUE\, Pleasantville\, NY\, United States
CATEGORIES:Arts
ATTACH;FMTTYPE=image/jpeg:https://www.whattododigital.com/wp-content/uploads/2026/01/Arc_Stages_First_Lady_Suite_Poster-copy.jpg
END:VEVENT
BEGIN:VEVENT
DTSTART;TZID=America/New_York:20260208T150000
DTEND;TZID=America/New_York:20260208T150000
DTSTAMP:20260423T165826
CREATED:20260105T204346Z
LAST-MODIFIED:20260105T204346Z
UID:93141-1770562800-1770562800@www.whattododigital.com
SUMMARY:Paramount Hudson Valley: The All New Wizard of Oz On Ice
DESCRIPTION:Paramount Hudson Valley: The All New Wizard of Oz On Ice \nIce Creative Entertainment\, the team behind acclaimed ice spectacles like “Peter Pan On Ice\,” “Cinderella On Ice\,” and “Beauty & The Beast On Ice” comes “Wizard of Oz On Ice\,” a reimagined\, all-new production that breathes fresh life into the beloved classic. \nParamount Hudson Valley
URL:https://www.whattododigital.com/event/paramount-hudson-valley-the-all-new-wizard-of-oz-on-ice/
LOCATION:Paramount Hudson Valley
CATEGORIES:Kids
ATTACH;FMTTYPE=image/jpeg:https://www.whattododigital.com/wp-content/uploads/2026/01/Paramount_Wizard-of-Oz-On-Ice.jpeg
END:VEVENT
BEGIN:VEVENT
DTSTART;TZID=America/New_York:20260208T160000
DTEND;TZID=America/New_York:20260208T160000
DTSTAMP:20260423T165826
CREATED:20260202T221030Z
LAST-MODIFIED:20260202T221345Z
UID:93677-1770566400-1770566400@www.whattododigital.com
SUMMARY:Kurosawa Restored at JBFC: Ran
DESCRIPTION:Kurosawa Restored at JBFC: Ran \nAkira Kurosawa’s Academy Award-winning adaptation of William Shakespeare’s King Lear\, Ran considers the disastrous consequences of Lord Hidetora Ichimonji’s (Tatsuya Nakadai) decision to split his kingdom among his three sons. \nJacob Burns Film Center
URL:https://www.whattododigital.com/event/93677/
LOCATION:Jacob Burns Film Center
CATEGORIES:Movies
ATTACH;FMTTYPE=image/jpeg:https://www.whattododigital.com/wp-content/uploads/2026/02/JBFC_Kurosawa_Ran.jpeg
END:VEVENT
BEGIN:VEVENT
DTSTART;TZID=America/New_York:20260208T193000
DTEND;TZID=America/New_York:20260208T193000
DTSTAMP:20260423T165826
CREATED:20260202T222901Z
LAST-MODIFIED:20260202T222901Z
UID:93700-1770579000-1770579000@www.whattododigital.com
SUMMARY:Kurosawa Restored at JBFC: Yojimbo
DESCRIPTION:Kurosawa Restored at JBFC: Yojimbo \nTo rid a terror-stricken village of corruption\, wily masterless samurai Sanjuro turns a range war between two evil clans to his own advantage. Remade twice\, by Sergio Leone and Walter Hill respectively\, this exhilarating genre-twister remains one of the most influential and entertaining films of all time. \nJacob Burns Film Center
URL:https://www.whattododigital.com/event/kurosawa-restored-at-jbfc-yojimbo-2/
CATEGORIES:Movies
ATTACH;FMTTYPE=image/jpeg:https://www.whattododigital.com/wp-content/uploads/2026/02/JBFC_Kurosawa_Yojimbo.jpg
END:VEVENT
BEGIN:VEVENT
DTSTART;TZID=America/New_York:20260209T163000
DTEND;TZID=America/New_York:20260209T163000
DTSTAMP:20260423T165826
CREATED:20260202T223006Z
LAST-MODIFIED:20260202T223006Z
UID:93703-1770654600-1770654600@www.whattododigital.com
SUMMARY:Kurosawa Restored at JBFC: Yojimbo
DESCRIPTION:Kurosawa Restored at JBFC: Yojimbo \nTo rid a terror-stricken village of corruption\, wily masterless samurai Sanjuro turns a range war between two evil clans to his own advantage. Remade twice\, by Sergio Leone and Walter Hill respectively\, this exhilarating genre-twister remains one of the most influential and entertaining films of all time. \nJacob Burns Film Center
URL:https://www.whattododigital.com/event/kurosawa-restored-at-jbfc-yojimbo-3/
CATEGORIES:Movies
ATTACH;FMTTYPE=image/jpeg:https://www.whattododigital.com/wp-content/uploads/2026/02/JBFC_Kurosawa_Yojimbo.jpg
END:VEVENT
BEGIN:VEVENT
DTSTART;TZID=America/New_York:20260209T190000
DTEND;TZID=America/New_York:20260209T190000
DTSTAMP:20260423T165826
CREATED:20260202T223602Z
LAST-MODIFIED:20260202T223602Z
UID:93711-1770663600-1770663600@www.whattododigital.com
SUMMARY:Kurosawa Restored at JBFC: Sanjuro
DESCRIPTION:Kurosawa Restored at JBFC: Sanjuro \nToshiro Mifune swaggers and snarls to brilliant comic effect in Akira Kurosawa’s tightly paced\, beautifully composed Sanjuro. In this sly companion piece to Yojimbo\, jaded samurai Sanjuro helps an idealistic group of young warriors weed out their clan’s evil influences\, and in the process turns their image of a “proper” samurai on its head. \nJacob Burns \n 
URL:https://www.whattododigital.com/event/kurosawa-restored-at-jbfc-sanjuro-2/
LOCATION:Jacob Burns Film Center
CATEGORIES:Movies
ATTACH;FMTTYPE=image/jpeg:https://www.whattododigital.com/wp-content/uploads/2026/02/JBFC_Kurosaw_-Sanjimu.jpg
END:VEVENT
BEGIN:VEVENT
DTSTART;TZID=America/New_York:20260210T160000
DTEND;TZID=America/New_York:20260210T160000
DTSTAMP:20260423T165826
CREATED:20260202T223717Z
LAST-MODIFIED:20260202T223717Z
UID:93714-1770739200-1770739200@www.whattododigital.com
SUMMARY:Kurosawa Restored at JBFC: Sanjuro
DESCRIPTION:Kurosawa Restored at JBFC: Sanjuro \nToshiro Mifune swaggers and snarls to brilliant comic effect in Akira Kurosawa’s tightly paced\, beautifully composed Sanjuro. In this sly companion piece to Yojimbo\, jaded samurai Sanjuro helps an idealistic group of young warriors weed out their clan’s evil influences\, and in the process turns their image of a “proper” samurai on its head. \nJacob Burns
URL:https://www.whattododigital.com/event/kurosawa-restored-at-jbfc-sanjuro-3/
LOCATION:Jacob Burns Film Center
CATEGORIES:Movies
ATTACH;FMTTYPE=image/jpeg:https://www.whattododigital.com/wp-content/uploads/2026/02/JBFC_Kurosaw_-Sanjimu.jpg
END:VEVENT
BEGIN:VEVENT
DTSTART;TZID=America/New_York:20260210T190000
DTEND;TZID=America/New_York:20260210T190000
DTSTAMP:20260423T165826
CREATED:20260202T221136Z
LAST-MODIFIED:20260202T221136Z
UID:93680-1770750000-1770750000@www.whattododigital.com
SUMMARY:Kurosawa Restored at JBFC: Ran
DESCRIPTION:Kurosawa Restored at JBFC: Ran \nAkira Kurosawa’s Academy Award-winning adaptation of William Shakespeare’s King Lear\, Ran considers the disastrous consequences of Lord Hidetora Ichimonji’s (Tatsuya Nakadai) decision to split his kingdom among his three sons. \nJacob Burns Film Center
URL:https://www.whattododigital.com/event/kurosawa-restored-at-jbfc-ran-2/
LOCATION:Jacob Burns Film Center
CATEGORIES:Movies
ATTACH;FMTTYPE=image/jpeg:https://www.whattododigital.com/wp-content/uploads/2026/02/JBFC_Kurosawa_Ran.jpeg
END:VEVENT
END:VCALENDAR