BEGIN:VCALENDAR
VERSION:2.0
PRODID:-//What To Do - ECPv6.15.20//NONSGML v1.0//EN
CALSCALE:GREGORIAN
METHOD:PUBLISH
X-WR-CALNAME:What To Do
X-ORIGINAL-URL:https://www.whattododigital.com
X-WR-CALDESC:Events for What To Do
REFRESH-INTERVAL;VALUE=DURATION:PT1H
X-Robots-Tag:noindex
X-PUBLISHED-TTL:PT1H
BEGIN:VTIMEZONE
TZID:America/New_York
BEGIN:DAYLIGHT
TZOFFSETFROM:-0500
TZOFFSETTO:-0400
TZNAME:EDT
DTSTART:20240310T070000
END:DAYLIGHT
BEGIN:STANDARD
TZOFFSETFROM:-0400
TZOFFSETTO:-0500
TZNAME:EST
DTSTART:20241103T060000
END:STANDARD
BEGIN:DAYLIGHT
TZOFFSETFROM:-0500
TZOFFSETTO:-0400
TZNAME:EDT
DTSTART:20250309T070000
END:DAYLIGHT
BEGIN:STANDARD
TZOFFSETFROM:-0400
TZOFFSETTO:-0500
TZNAME:EST
DTSTART:20251102T060000
END:STANDARD
BEGIN:DAYLIGHT
TZOFFSETFROM:-0500
TZOFFSETTO:-0400
TZNAME:EDT
DTSTART:20260308T070000
END:DAYLIGHT
BEGIN:STANDARD
TZOFFSETFROM:-0400
TZOFFSETTO:-0500
TZNAME:EST
DTSTART:20261101T060000
END:STANDARD
END:VTIMEZONE
BEGIN:VEVENT
DTSTART;TZID=America/New_York:20251003T131500
DTEND;TZID=America/New_York:20251003T131500
DTSTAMP:20260424T120514
CREATED:20250916T155701Z
LAST-MODIFIED:20250916T155701Z
UID:89241-1759497300-1759497300@www.whattododigital.com
SUMMARY:Jacob Burns Film Center Kurosawa Restored: Stray Dog
DESCRIPTION:Jacob Burns Film Center Kurosawa Restored: Stray Dog \nA bad day gets worse for rookie detective Murakami (Toshiro Mifune) when a pickpocket steals his gun on a hot\, crowded bus. Desperate to right the wrong\, he goes undercover\, scavenging Tokyo’s sweltering streets for the stray dog whose desperation has led him to a life of crime. With each step\, cop and criminal’s lives become more intertwined and the investigation becomes an examination of Murakami’s own dark side. \nJacob Burns Film Center
URL:https://www.whattododigital.com/event/jacob-burns-film-center-kurosawa-restored-stray-dog/
LOCATION:Jacob Burns Film Center
CATEGORIES:Movies
ATTACH;FMTTYPE=image/jpeg:https://www.whattododigital.com/wp-content/uploads/2025/09/JBFC_Stary-Dogs.jpeg
END:VEVENT
BEGIN:VEVENT
DTSTART;TZID=America/New_York:20251003T191500
DTEND;TZID=America/New_York:20251003T191500
DTSTAMP:20260424T120514
CREATED:20250916T181509Z
LAST-MODIFIED:20250916T181509Z
UID:89248-1759518900-1759518900@www.whattododigital.com
SUMMARY:Jacob Burns Film Center Kurosawa Restored: Rashomom
DESCRIPTION:Jacob Burns Film Center Kurosawa Restored: Rashomom \nA riveting psychological thriller that investigates the nature of truth and the meaning of justice\, Rashomon is widely considered one of the greatest films ever made. \nFour people give different accounts of a man’s murder and the rape of his wife\, which director Akira Kurosawa presents with striking imagery and an ingenious use of flashbacks. This eloquent masterwork and international sensation revolutionized film language and introduced Japanese cinema—and a commanding new star by the name of Toshiro Mifune—to the Western world. \nJacob Burns Film Center
URL:https://www.whattododigital.com/event/jacob-burns-film-center-kurosawa-restored-rashomom/
LOCATION:Jacob Burns Film Center
CATEGORIES:Movies
ATTACH;FMTTYPE=image/jpeg:https://www.whattododigital.com/wp-content/uploads/2025/09/JBFC_Rashomon-.jpeg
END:VEVENT
BEGIN:VEVENT
DTSTART;TZID=America/New_York:20251003T154500
DTEND;TZID=America/New_York:20251003T154500
DTSTAMP:20260424T120514
CREATED:20250929T211011Z
LAST-MODIFIED:20250929T211011Z
UID:91321-1759506300-1759506300@www.whattododigital.com
SUMMARY:JBFC: Taylor Swift The Official Release Party of a Showgirl
DESCRIPTION:JBFC: Taylor Swift The Official Release Party of a Showgirl \nSee the exclusive world premiere of the music video\, “The Fate of Ophelia”\, along with behind-the-scenes footage from the music video shoot\, brand new lyric videos\, and Taylor’s never-before-seen personal reflections on songs from her 12th studio album\, The Life of a Showgirl.b \nJacob Burns Film Center
URL:https://www.whattododigital.com/event/jbfc-taylor-swift-the-official-release-party-of-a-showgirl/
LOCATION:Jacob Burns Film Center
CATEGORIES:Arts,Kids,Music
ATTACH;FMTTYPE=image/jpeg:https://www.whattododigital.com/wp-content/uploads/2025/09/JBFC_Taylor-Swift.jpeg
END:VEVENT
BEGIN:VEVENT
DTSTART;TZID=America/New_York:20251003T154500
DTEND;TZID=America/New_York:20251003T154500
DTSTAMP:20260424T120514
CREATED:20250929T211011Z
LAST-MODIFIED:20250929T211011Z
UID:91321-1759506300-1759506300@www.whattododigital.com
SUMMARY:JBFC: Taylor Swift The Official Release Party of a Showgirl
DESCRIPTION:JBFC: Taylor Swift The Official Release Party of a Showgirl \nSee the exclusive world premiere of the music video\, “The Fate of Ophelia”\, along with behind-the-scenes footage from the music video shoot\, brand new lyric videos\, and Taylor’s never-before-seen personal reflections on songs from her 12th studio album\, The Life of a Showgirl.b \nJacob Burns Film Center
URL:https://www.whattododigital.com/event/jbfc-taylor-swift-the-official-release-party-of-a-showgirl/
LOCATION:Jacob Burns Film Center
CATEGORIES:Arts,Kids,Music
ATTACH;FMTTYPE=image/jpeg:https://www.whattododigital.com/wp-content/uploads/2025/09/JBFC_Taylor-Swift.jpeg
END:VEVENT
BEGIN:VEVENT
DTSTART;TZID=America/New_York:20251003T154500
DTEND;TZID=America/New_York:20251003T154500
DTSTAMP:20260424T120514
CREATED:20250929T211011Z
LAST-MODIFIED:20250929T211011Z
UID:91321-1759506300-1759506300@www.whattododigital.com
SUMMARY:JBFC: Taylor Swift The Official Release Party of a Showgirl
DESCRIPTION:JBFC: Taylor Swift The Official Release Party of a Showgirl \nSee the exclusive world premiere of the music video\, “The Fate of Ophelia”\, along with behind-the-scenes footage from the music video shoot\, brand new lyric videos\, and Taylor’s never-before-seen personal reflections on songs from her 12th studio album\, The Life of a Showgirl.b \nJacob Burns Film Center
URL:https://www.whattododigital.com/event/jbfc-taylor-swift-the-official-release-party-of-a-showgirl/
LOCATION:Jacob Burns Film Center
CATEGORIES:Arts,Kids,Music
ATTACH;FMTTYPE=image/jpeg:https://www.whattododigital.com/wp-content/uploads/2025/09/JBFC_Taylor-Swift.jpeg
END:VEVENT
BEGIN:VEVENT
DTSTART;TZID=America/New_York:20251003T131500
DTEND;TZID=America/New_York:20251003T131500
DTSTAMP:20260424T120514
CREATED:20250916T155701Z
LAST-MODIFIED:20250916T155701Z
UID:89241-1759497300-1759497300@www.whattododigital.com
SUMMARY:Jacob Burns Film Center Kurosawa Restored: Stray Dog
DESCRIPTION:Jacob Burns Film Center Kurosawa Restored: Stray Dog \nA bad day gets worse for rookie detective Murakami (Toshiro Mifune) when a pickpocket steals his gun on a hot\, crowded bus. Desperate to right the wrong\, he goes undercover\, scavenging Tokyo’s sweltering streets for the stray dog whose desperation has led him to a life of crime. With each step\, cop and criminal’s lives become more intertwined and the investigation becomes an examination of Murakami’s own dark side. \nJacob Burns Film Center
URL:https://www.whattododigital.com/event/jacob-burns-film-center-kurosawa-restored-stray-dog/
LOCATION:Jacob Burns Film Center
CATEGORIES:Movies
ATTACH;FMTTYPE=image/jpeg:https://www.whattododigital.com/wp-content/uploads/2025/09/JBFC_Stary-Dogs.jpeg
END:VEVENT
BEGIN:VEVENT
DTSTART;TZID=America/New_York:20251003T154500
DTEND;TZID=America/New_York:20251003T154500
DTSTAMP:20260424T120514
CREATED:20250929T211011Z
LAST-MODIFIED:20250929T211011Z
UID:91321-1759506300-1759506300@www.whattododigital.com
SUMMARY:JBFC: Taylor Swift The Official Release Party of a Showgirl
DESCRIPTION:JBFC: Taylor Swift The Official Release Party of a Showgirl \nSee the exclusive world premiere of the music video\, “The Fate of Ophelia”\, along with behind-the-scenes footage from the music video shoot\, brand new lyric videos\, and Taylor’s never-before-seen personal reflections on songs from her 12th studio album\, The Life of a Showgirl.b \nJacob Burns Film Center
URL:https://www.whattododigital.com/event/jbfc-taylor-swift-the-official-release-party-of-a-showgirl/
LOCATION:Jacob Burns Film Center
CATEGORIES:Arts,Kids,Music
ATTACH;FMTTYPE=image/jpeg:https://www.whattododigital.com/wp-content/uploads/2025/09/JBFC_Taylor-Swift.jpeg
END:VEVENT
BEGIN:VEVENT
DTSTART;TZID=America/New_York:20251003T191500
DTEND;TZID=America/New_York:20251003T191500
DTSTAMP:20260424T120514
CREATED:20250916T181509Z
LAST-MODIFIED:20250916T181509Z
UID:89248-1759518900-1759518900@www.whattododigital.com
SUMMARY:Jacob Burns Film Center Kurosawa Restored: Rashomom
DESCRIPTION:Jacob Burns Film Center Kurosawa Restored: Rashomom \nA riveting psychological thriller that investigates the nature of truth and the meaning of justice\, Rashomon is widely considered one of the greatest films ever made. \nFour people give different accounts of a man’s murder and the rape of his wife\, which director Akira Kurosawa presents with striking imagery and an ingenious use of flashbacks. This eloquent masterwork and international sensation revolutionized film language and introduced Japanese cinema—and a commanding new star by the name of Toshiro Mifune—to the Western world. \nJacob Burns Film Center
URL:https://www.whattododigital.com/event/jacob-burns-film-center-kurosawa-restored-rashomom/
LOCATION:Jacob Burns Film Center
CATEGORIES:Movies
ATTACH;FMTTYPE=image/jpeg:https://www.whattododigital.com/wp-content/uploads/2025/09/JBFC_Rashomon-.jpeg
END:VEVENT
BEGIN:VEVENT
DTSTART;TZID=America/New_York:20251003T154500
DTEND;TZID=America/New_York:20251003T154500
DTSTAMP:20260424T120514
CREATED:20250929T211011Z
LAST-MODIFIED:20250929T211011Z
UID:91321-1759506300-1759506300@www.whattododigital.com
SUMMARY:JBFC: Taylor Swift The Official Release Party of a Showgirl
DESCRIPTION:JBFC: Taylor Swift The Official Release Party of a Showgirl \nSee the exclusive world premiere of the music video\, “The Fate of Ophelia”\, along with behind-the-scenes footage from the music video shoot\, brand new lyric videos\, and Taylor’s never-before-seen personal reflections on songs from her 12th studio album\, The Life of a Showgirl.b \nJacob Burns Film Center
URL:https://www.whattododigital.com/event/jbfc-taylor-swift-the-official-release-party-of-a-showgirl/
LOCATION:Jacob Burns Film Center
CATEGORIES:Arts,Kids,Music
ATTACH;FMTTYPE=image/jpeg:https://www.whattododigital.com/wp-content/uploads/2025/09/JBFC_Taylor-Swift.jpeg
END:VEVENT
BEGIN:VEVENT
DTSTART;TZID=America/New_York:20251003T131500
DTEND;TZID=America/New_York:20251003T131500
DTSTAMP:20260424T120514
CREATED:20250916T155701Z
LAST-MODIFIED:20250916T155701Z
UID:89241-1759497300-1759497300@www.whattododigital.com
SUMMARY:Jacob Burns Film Center Kurosawa Restored: Stray Dog
DESCRIPTION:Jacob Burns Film Center Kurosawa Restored: Stray Dog \nA bad day gets worse for rookie detective Murakami (Toshiro Mifune) when a pickpocket steals his gun on a hot\, crowded bus. Desperate to right the wrong\, he goes undercover\, scavenging Tokyo’s sweltering streets for the stray dog whose desperation has led him to a life of crime. With each step\, cop and criminal’s lives become more intertwined and the investigation becomes an examination of Murakami’s own dark side. \nJacob Burns Film Center
URL:https://www.whattododigital.com/event/jacob-burns-film-center-kurosawa-restored-stray-dog/
LOCATION:Jacob Burns Film Center
CATEGORIES:Movies
ATTACH;FMTTYPE=image/jpeg:https://www.whattododigital.com/wp-content/uploads/2025/09/JBFC_Stary-Dogs.jpeg
END:VEVENT
END:VCALENDAR