BEGIN:VCALENDAR
VERSION:2.0
PRODID:-//What To Do - ECPv6.15.20//NONSGML v1.0//EN
CALSCALE:GREGORIAN
METHOD:PUBLISH
X-ORIGINAL-URL:https://www.whattododigital.com
X-WR-CALDESC:Events for What To Do
REFRESH-INTERVAL;VALUE=DURATION:PT1H
X-Robots-Tag:noindex
X-PUBLISHED-TTL:PT1H
BEGIN:VTIMEZONE
TZID:America/New_York
BEGIN:DAYLIGHT
TZOFFSETFROM:-0500
TZOFFSETTO:-0400
TZNAME:EDT
DTSTART:20240310T070000
END:DAYLIGHT
BEGIN:STANDARD
TZOFFSETFROM:-0400
TZOFFSETTO:-0500
TZNAME:EST
DTSTART:20241103T060000
END:STANDARD
BEGIN:DAYLIGHT
TZOFFSETFROM:-0500
TZOFFSETTO:-0400
TZNAME:EDT
DTSTART:20250309T070000
END:DAYLIGHT
BEGIN:STANDARD
TZOFFSETFROM:-0400
TZOFFSETTO:-0500
TZNAME:EST
DTSTART:20251102T060000
END:STANDARD
BEGIN:DAYLIGHT
TZOFFSETFROM:-0500
TZOFFSETTO:-0400
TZNAME:EDT
DTSTART:20260308T070000
END:DAYLIGHT
BEGIN:STANDARD
TZOFFSETFROM:-0400
TZOFFSETTO:-0500
TZNAME:EST
DTSTART:20261101T060000
END:STANDARD
END:VTIMEZONE
BEGIN:VEVENT
DTSTART;VALUE=DATE:20250919
DTEND;VALUE=DATE:20250920
DTSTAMP:20260425T112052
CREATED:20250903T143319Z
LAST-MODIFIED:20250903T143319Z
UID:88996-1758240000-1758326399@www.whattododigital.com
SUMMARY:Harvest Moon Farm & Orchard: Mystic Moon Spooktacular Experience
DESCRIPTION:Harvest Moon Farm & Orchard: Mystic Moon Spooktacular Experience \nUnlike traditional Halloween attractions\, Mystic Moon trades fright for wonder\, inviting guests into a world of moonlit magic. This 40-minute adventure is crafted for both children and adults\, weaving together an atmosphere that’s equally mystical and enchanting. \nAlong the way\, guests will encounter enchanting scenes\, countless photo ops\, and a touch of mystery among theatrical lighting to keep the experience magical. \nAfter the trail\, there’s festive drinks and seasonal treats under the orchard’s big tent. \nWeekends and Monday holidays from Friday\, September 19 to Saturday\, October 13. \nDaily from Thursday\, October 16 through Saturday\, November 1: Check times. \nHarvest Moon Farm & Orchard
URL:https://www.whattododigital.com/event/harvest-moon-farm-orchard-mystic-moon-spooktacular-experience/
LOCATION:Harvest Moon Farm & Orchard
CATEGORIES:Fairs and Festivals,Halloween,Outdoors
ATTACH;FMTTYPE=image/jpeg:https://www.whattododigital.com/wp-content/uploads/2025/09/Harvest-Moon_Mystic-Moon-copy.jpg
END:VEVENT
BEGIN:VEVENT
DTSTART;VALUE=DATE:20250919
DTEND;VALUE=DATE:20250920
DTSTAMP:20260425T112052
CREATED:20250903T143319Z
LAST-MODIFIED:20250903T143319Z
UID:88996-1758240000-1758326399@www.whattododigital.com
SUMMARY:Harvest Moon Farm & Orchard: Mystic Moon Spooktacular Experience
DESCRIPTION:Harvest Moon Farm & Orchard: Mystic Moon Spooktacular Experience \nUnlike traditional Halloween attractions\, Mystic Moon trades fright for wonder\, inviting guests into a world of moonlit magic. This 40-minute adventure is crafted for both children and adults\, weaving together an atmosphere that’s equally mystical and enchanting. \nAlong the way\, guests will encounter enchanting scenes\, countless photo ops\, and a touch of mystery among theatrical lighting to keep the experience magical. \nAfter the trail\, there’s festive drinks and seasonal treats under the orchard’s big tent. \nWeekends and Monday holidays from Friday\, September 19 to Saturday\, October 13. \nDaily from Thursday\, October 16 through Saturday\, November 1: Check times. \nHarvest Moon Farm & Orchard
URL:https://www.whattododigital.com/event/harvest-moon-farm-orchard-mystic-moon-spooktacular-experience/
LOCATION:Harvest Moon Farm & Orchard
CATEGORIES:Fairs and Festivals,Halloween,Outdoors
ATTACH;FMTTYPE=image/jpeg:https://www.whattododigital.com/wp-content/uploads/2025/09/Harvest-Moon_Mystic-Moon-copy.jpg
END:VEVENT
BEGIN:VEVENT
DTSTART;VALUE=DATE:20250919
DTEND;VALUE=DATE:20250920
DTSTAMP:20260425T112052
CREATED:20250903T143319Z
LAST-MODIFIED:20250903T143319Z
UID:88996-1758240000-1758326399@www.whattododigital.com
SUMMARY:Harvest Moon Farm & Orchard: Mystic Moon Spooktacular Experience
DESCRIPTION:Harvest Moon Farm & Orchard: Mystic Moon Spooktacular Experience \nUnlike traditional Halloween attractions\, Mystic Moon trades fright for wonder\, inviting guests into a world of moonlit magic. This 40-minute adventure is crafted for both children and adults\, weaving together an atmosphere that’s equally mystical and enchanting. \nAlong the way\, guests will encounter enchanting scenes\, countless photo ops\, and a touch of mystery among theatrical lighting to keep the experience magical. \nAfter the trail\, there’s festive drinks and seasonal treats under the orchard’s big tent. \nWeekends and Monday holidays from Friday\, September 19 to Saturday\, October 13. \nDaily from Thursday\, October 16 through Saturday\, November 1: Check times. \nHarvest Moon Farm & Orchard
URL:https://www.whattododigital.com/event/harvest-moon-farm-orchard-mystic-moon-spooktacular-experience/
LOCATION:Harvest Moon Farm & Orchard
CATEGORIES:Fairs and Festivals,Halloween,Outdoors
ATTACH;FMTTYPE=image/jpeg:https://www.whattododigital.com/wp-content/uploads/2025/09/Harvest-Moon_Mystic-Moon-copy.jpg
END:VEVENT
BEGIN:VEVENT
DTSTART;VALUE=DATE:20250919
DTEND;VALUE=DATE:20250920
DTSTAMP:20260425T112052
CREATED:20250903T143319Z
LAST-MODIFIED:20250903T143319Z
UID:88996-1758240000-1758326399@www.whattododigital.com
SUMMARY:Harvest Moon Farm & Orchard: Mystic Moon Spooktacular Experience
DESCRIPTION:Harvest Moon Farm & Orchard: Mystic Moon Spooktacular Experience \nUnlike traditional Halloween attractions\, Mystic Moon trades fright for wonder\, inviting guests into a world of moonlit magic. This 40-minute adventure is crafted for both children and adults\, weaving together an atmosphere that’s equally mystical and enchanting. \nAlong the way\, guests will encounter enchanting scenes\, countless photo ops\, and a touch of mystery among theatrical lighting to keep the experience magical. \nAfter the trail\, there’s festive drinks and seasonal treats under the orchard’s big tent. \nWeekends and Monday holidays from Friday\, September 19 to Saturday\, October 13. \nDaily from Thursday\, October 16 through Saturday\, November 1: Check times. \nHarvest Moon Farm & Orchard
URL:https://www.whattododigital.com/event/harvest-moon-farm-orchard-mystic-moon-spooktacular-experience/
LOCATION:Harvest Moon Farm & Orchard
CATEGORIES:Fairs and Festivals,Halloween,Outdoors
ATTACH;FMTTYPE=image/jpeg:https://www.whattododigital.com/wp-content/uploads/2025/09/Harvest-Moon_Mystic-Moon-copy.jpg
END:VEVENT
BEGIN:VEVENT
DTSTART;VALUE=DATE:20250919
DTEND;VALUE=DATE:20250920
DTSTAMP:20260425T112052
CREATED:20250903T143319Z
LAST-MODIFIED:20250903T143319Z
UID:88996-1758240000-1758326399@www.whattododigital.com
SUMMARY:Harvest Moon Farm & Orchard: Mystic Moon Spooktacular Experience
DESCRIPTION:Harvest Moon Farm & Orchard: Mystic Moon Spooktacular Experience \nUnlike traditional Halloween attractions\, Mystic Moon trades fright for wonder\, inviting guests into a world of moonlit magic. This 40-minute adventure is crafted for both children and adults\, weaving together an atmosphere that’s equally mystical and enchanting. \nAlong the way\, guests will encounter enchanting scenes\, countless photo ops\, and a touch of mystery among theatrical lighting to keep the experience magical. \nAfter the trail\, there’s festive drinks and seasonal treats under the orchard’s big tent. \nWeekends and Monday holidays from Friday\, September 19 to Saturday\, October 13. \nDaily from Thursday\, October 16 through Saturday\, November 1: Check times. \nHarvest Moon Farm & Orchard
URL:https://www.whattododigital.com/event/harvest-moon-farm-orchard-mystic-moon-spooktacular-experience/
LOCATION:Harvest Moon Farm & Orchard
CATEGORIES:Fairs and Festivals,Halloween,Outdoors
ATTACH;FMTTYPE=image/jpeg:https://www.whattododigital.com/wp-content/uploads/2025/09/Harvest-Moon_Mystic-Moon-copy.jpg
END:VEVENT
BEGIN:VEVENT
DTSTART;VALUE=DATE:20250919
DTEND;VALUE=DATE:20250920
DTSTAMP:20260425T112052
CREATED:20250903T143319Z
LAST-MODIFIED:20250903T143319Z
UID:88996-1758240000-1758326399@www.whattododigital.com
SUMMARY:Harvest Moon Farm & Orchard: Mystic Moon Spooktacular Experience
DESCRIPTION:Harvest Moon Farm & Orchard: Mystic Moon Spooktacular Experience \nUnlike traditional Halloween attractions\, Mystic Moon trades fright for wonder\, inviting guests into a world of moonlit magic. This 40-minute adventure is crafted for both children and adults\, weaving together an atmosphere that’s equally mystical and enchanting. \nAlong the way\, guests will encounter enchanting scenes\, countless photo ops\, and a touch of mystery among theatrical lighting to keep the experience magical. \nAfter the trail\, there’s festive drinks and seasonal treats under the orchard’s big tent. \nWeekends and Monday holidays from Friday\, September 19 to Saturday\, October 13. \nDaily from Thursday\, October 16 through Saturday\, November 1: Check times. \nHarvest Moon Farm & Orchard
URL:https://www.whattododigital.com/event/harvest-moon-farm-orchard-mystic-moon-spooktacular-experience/
LOCATION:Harvest Moon Farm & Orchard
CATEGORIES:Fairs and Festivals,Halloween,Outdoors
ATTACH;FMTTYPE=image/jpeg:https://www.whattododigital.com/wp-content/uploads/2025/09/Harvest-Moon_Mystic-Moon-copy.jpg
END:VEVENT
BEGIN:VEVENT
DTSTART;VALUE=DATE:20250919
DTEND;VALUE=DATE:20250920
DTSTAMP:20260425T112052
CREATED:20250903T143319Z
LAST-MODIFIED:20250903T143319Z
UID:88996-1758240000-1758326399@www.whattododigital.com
SUMMARY:Harvest Moon Farm & Orchard: Mystic Moon Spooktacular Experience
DESCRIPTION:Harvest Moon Farm & Orchard: Mystic Moon Spooktacular Experience \nUnlike traditional Halloween attractions\, Mystic Moon trades fright for wonder\, inviting guests into a world of moonlit magic. This 40-minute adventure is crafted for both children and adults\, weaving together an atmosphere that’s equally mystical and enchanting. \nAlong the way\, guests will encounter enchanting scenes\, countless photo ops\, and a touch of mystery among theatrical lighting to keep the experience magical. \nAfter the trail\, there’s festive drinks and seasonal treats under the orchard’s big tent. \nWeekends and Monday holidays from Friday\, September 19 to Saturday\, October 13. \nDaily from Thursday\, October 16 through Saturday\, November 1: Check times. \nHarvest Moon Farm & Orchard
URL:https://www.whattododigital.com/event/harvest-moon-farm-orchard-mystic-moon-spooktacular-experience/
LOCATION:Harvest Moon Farm & Orchard
CATEGORIES:Fairs and Festivals,Halloween,Outdoors
ATTACH;FMTTYPE=image/jpeg:https://www.whattododigital.com/wp-content/uploads/2025/09/Harvest-Moon_Mystic-Moon-copy.jpg
END:VEVENT
BEGIN:VEVENT
DTSTART;VALUE=DATE:20250919
DTEND;VALUE=DATE:20250920
DTSTAMP:20260425T112052
CREATED:20250903T143319Z
LAST-MODIFIED:20250903T143319Z
UID:88996-1758240000-1758326399@www.whattododigital.com
SUMMARY:Harvest Moon Farm & Orchard: Mystic Moon Spooktacular Experience
DESCRIPTION:Harvest Moon Farm & Orchard: Mystic Moon Spooktacular Experience \nUnlike traditional Halloween attractions\, Mystic Moon trades fright for wonder\, inviting guests into a world of moonlit magic. This 40-minute adventure is crafted for both children and adults\, weaving together an atmosphere that’s equally mystical and enchanting. \nAlong the way\, guests will encounter enchanting scenes\, countless photo ops\, and a touch of mystery among theatrical lighting to keep the experience magical. \nAfter the trail\, there’s festive drinks and seasonal treats under the orchard’s big tent. \nWeekends and Monday holidays from Friday\, September 19 to Saturday\, October 13. \nDaily from Thursday\, October 16 through Saturday\, November 1: Check times. \nHarvest Moon Farm & Orchard
URL:https://www.whattododigital.com/event/harvest-moon-farm-orchard-mystic-moon-spooktacular-experience/
LOCATION:Harvest Moon Farm & Orchard
CATEGORIES:Fairs and Festivals,Halloween,Outdoors
ATTACH;FMTTYPE=image/jpeg:https://www.whattododigital.com/wp-content/uploads/2025/09/Harvest-Moon_Mystic-Moon-copy.jpg
END:VEVENT
BEGIN:VEVENT
DTSTART;VALUE=DATE:20250919
DTEND;VALUE=DATE:20250920
DTSTAMP:20260425T112052
CREATED:20250903T143319Z
LAST-MODIFIED:20250903T143319Z
UID:88996-1758240000-1758326399@www.whattododigital.com
SUMMARY:Harvest Moon Farm & Orchard: Mystic Moon Spooktacular Experience
DESCRIPTION:Harvest Moon Farm & Orchard: Mystic Moon Spooktacular Experience \nUnlike traditional Halloween attractions\, Mystic Moon trades fright for wonder\, inviting guests into a world of moonlit magic. This 40-minute adventure is crafted for both children and adults\, weaving together an atmosphere that’s equally mystical and enchanting. \nAlong the way\, guests will encounter enchanting scenes\, countless photo ops\, and a touch of mystery among theatrical lighting to keep the experience magical. \nAfter the trail\, there’s festive drinks and seasonal treats under the orchard’s big tent. \nWeekends and Monday holidays from Friday\, September 19 to Saturday\, October 13. \nDaily from Thursday\, October 16 through Saturday\, November 1: Check times. \nHarvest Moon Farm & Orchard
URL:https://www.whattododigital.com/event/harvest-moon-farm-orchard-mystic-moon-spooktacular-experience/
LOCATION:Harvest Moon Farm & Orchard
CATEGORIES:Fairs and Festivals,Halloween,Outdoors
ATTACH;FMTTYPE=image/jpeg:https://www.whattododigital.com/wp-content/uploads/2025/09/Harvest-Moon_Mystic-Moon-copy.jpg
END:VEVENT
BEGIN:VEVENT
DTSTART;VALUE=DATE:20250919
DTEND;VALUE=DATE:20250920
DTSTAMP:20260425T112052
CREATED:20250903T143319Z
LAST-MODIFIED:20250903T143319Z
UID:88996-1758240000-1758326399@www.whattododigital.com
SUMMARY:Harvest Moon Farm & Orchard: Mystic Moon Spooktacular Experience
DESCRIPTION:Harvest Moon Farm & Orchard: Mystic Moon Spooktacular Experience \nUnlike traditional Halloween attractions\, Mystic Moon trades fright for wonder\, inviting guests into a world of moonlit magic. This 40-minute adventure is crafted for both children and adults\, weaving together an atmosphere that’s equally mystical and enchanting. \nAlong the way\, guests will encounter enchanting scenes\, countless photo ops\, and a touch of mystery among theatrical lighting to keep the experience magical. \nAfter the trail\, there’s festive drinks and seasonal treats under the orchard’s big tent. \nWeekends and Monday holidays from Friday\, September 19 to Saturday\, October 13. \nDaily from Thursday\, October 16 through Saturday\, November 1: Check times. \nHarvest Moon Farm & Orchard
URL:https://www.whattododigital.com/event/harvest-moon-farm-orchard-mystic-moon-spooktacular-experience/
LOCATION:Harvest Moon Farm & Orchard
CATEGORIES:Fairs and Festivals,Halloween,Outdoors
ATTACH;FMTTYPE=image/jpeg:https://www.whattododigital.com/wp-content/uploads/2025/09/Harvest-Moon_Mystic-Moon-copy.jpg
END:VEVENT
BEGIN:VEVENT
DTSTART;VALUE=DATE:20250919
DTEND;VALUE=DATE:20250920
DTSTAMP:20260425T112052
CREATED:20250903T143319Z
LAST-MODIFIED:20250903T143319Z
UID:88996-1758240000-1758326399@www.whattododigital.com
SUMMARY:Harvest Moon Farm & Orchard: Mystic Moon Spooktacular Experience
DESCRIPTION:Harvest Moon Farm & Orchard: Mystic Moon Spooktacular Experience \nUnlike traditional Halloween attractions\, Mystic Moon trades fright for wonder\, inviting guests into a world of moonlit magic. This 40-minute adventure is crafted for both children and adults\, weaving together an atmosphere that’s equally mystical and enchanting. \nAlong the way\, guests will encounter enchanting scenes\, countless photo ops\, and a touch of mystery among theatrical lighting to keep the experience magical. \nAfter the trail\, there’s festive drinks and seasonal treats under the orchard’s big tent. \nWeekends and Monday holidays from Friday\, September 19 to Saturday\, October 13. \nDaily from Thursday\, October 16 through Saturday\, November 1: Check times. \nHarvest Moon Farm & Orchard
URL:https://www.whattododigital.com/event/harvest-moon-farm-orchard-mystic-moon-spooktacular-experience/
LOCATION:Harvest Moon Farm & Orchard
CATEGORIES:Fairs and Festivals,Halloween,Outdoors
ATTACH;FMTTYPE=image/jpeg:https://www.whattododigital.com/wp-content/uploads/2025/09/Harvest-Moon_Mystic-Moon-copy.jpg
END:VEVENT
BEGIN:VEVENT
DTSTART;VALUE=DATE:20250919
DTEND;VALUE=DATE:20250920
DTSTAMP:20260425T112052
CREATED:20250903T143319Z
LAST-MODIFIED:20250903T143319Z
UID:88996-1758240000-1758326399@www.whattododigital.com
SUMMARY:Harvest Moon Farm & Orchard: Mystic Moon Spooktacular Experience
DESCRIPTION:Harvest Moon Farm & Orchard: Mystic Moon Spooktacular Experience \nUnlike traditional Halloween attractions\, Mystic Moon trades fright for wonder\, inviting guests into a world of moonlit magic. This 40-minute adventure is crafted for both children and adults\, weaving together an atmosphere that’s equally mystical and enchanting. \nAlong the way\, guests will encounter enchanting scenes\, countless photo ops\, and a touch of mystery among theatrical lighting to keep the experience magical. \nAfter the trail\, there’s festive drinks and seasonal treats under the orchard’s big tent. \nWeekends and Monday holidays from Friday\, September 19 to Saturday\, October 13. \nDaily from Thursday\, October 16 through Saturday\, November 1: Check times. \nHarvest Moon Farm & Orchard
URL:https://www.whattododigital.com/event/harvest-moon-farm-orchard-mystic-moon-spooktacular-experience/
LOCATION:Harvest Moon Farm & Orchard
CATEGORIES:Fairs and Festivals,Halloween,Outdoors
ATTACH;FMTTYPE=image/jpeg:https://www.whattododigital.com/wp-content/uploads/2025/09/Harvest-Moon_Mystic-Moon-copy.jpg
END:VEVENT
END:VCALENDAR