BEGIN:VCALENDAR
VERSION:2.0
PRODID:-//What To Do - ECPv6.15.20//NONSGML v1.0//EN
CALSCALE:GREGORIAN
METHOD:PUBLISH
X-WR-CALNAME:What To Do
X-ORIGINAL-URL:https://www.whattododigital.com
X-WR-CALDESC:Events for What To Do
REFRESH-INTERVAL;VALUE=DURATION:PT1H
X-Robots-Tag:noindex
X-PUBLISHED-TTL:PT1H
BEGIN:VTIMEZONE
TZID:America/New_York
BEGIN:DAYLIGHT
TZOFFSETFROM:-0500
TZOFFSETTO:-0400
TZNAME:EDT
DTSTART:20240310T070000
END:DAYLIGHT
BEGIN:STANDARD
TZOFFSETFROM:-0400
TZOFFSETTO:-0500
TZNAME:EST
DTSTART:20241103T060000
END:STANDARD
BEGIN:DAYLIGHT
TZOFFSETFROM:-0500
TZOFFSETTO:-0400
TZNAME:EDT
DTSTART:20250309T070000
END:DAYLIGHT
BEGIN:STANDARD
TZOFFSETFROM:-0400
TZOFFSETTO:-0500
TZNAME:EST
DTSTART:20251102T060000
END:STANDARD
BEGIN:DAYLIGHT
TZOFFSETFROM:-0500
TZOFFSETTO:-0400
TZNAME:EDT
DTSTART:20260308T070000
END:DAYLIGHT
BEGIN:STANDARD
TZOFFSETFROM:-0400
TZOFFSETTO:-0500
TZNAME:EST
DTSTART:20261101T060000
END:STANDARD
END:VTIMEZONE
BEGIN:VEVENT
DTSTART;VALUE=DATE:20251107
DTEND;VALUE=DATE:20251108
DTSTAMP:20260425T172232
CREATED:20251014T143021Z
LAST-MODIFIED:20251014T143021Z
UID:91447-1762473600-1762559999@www.whattododigital.com
SUMMARY:Jacob Burns Film Center: Nuremberg
DESCRIPTION:Jacob Burns Film Center: Nuremberg \nShortly after the end of armed conflict in World War II\, Allied representatives led by the unyielding chief prosecutor Robert H. Jackson (Michael Shannon) dedicate themselves to ensuring the Nazi regime answers for the unveiled horrors of the Holocaust. \nUS Army psychiatrist Douglas Kelley (Rami Malek) is given the crucial task of interviewing Nazi military officials to determine whether they are fit to stand trial: leading to a dramatic psychological duel between himself and former Reichsmarschall Herman Göring (Russell Crowe). \nWritten and directed by James Vanderbilt and based on the book The Nazi and the Psychiatrist by Jack El-Hai. \nJacob Burns Film Center
URL:https://www.whattododigital.com/event/jacob-burns-film-center-nuremberg/
LOCATION:Jacob Burns Film Center
CATEGORIES:Movies
ATTACH;FMTTYPE=image/jpeg:https://www.whattododigital.com/wp-content/uploads/2025/10/JBFC_Nuremberg.jpeg
END:VEVENT
BEGIN:VEVENT
DTSTART;VALUE=DATE:20251121
DTEND;VALUE=DATE:20251122
DTSTAMP:20260425T172232
CREATED:20251121T145633Z
LAST-MODIFIED:20251121T145633Z
UID:92116-1763683200-1763769599@www.whattododigital.com
SUMMARY:Jacob Burns Film Center: Wicked For Good
DESCRIPTION:Jacob Burns Film Center: Wicked For Good \nLast year’s global cinematic cultural sensation reaches its epic\, electrifying\, emotional conclusion in the final chapter of the untold story of the witches of Oz\, Wicked: For Good. \nJacob Burns Film Center
URL:https://www.whattododigital.com/event/jacob-burns-film-center-wicked-for-good/
LOCATION:Jacob Burns Film Center
CATEGORIES:Kids,Movies
ATTACH;FMTTYPE=image/jpeg:https://www.whattododigital.com/wp-content/uploads/2025/10/Kahan_crystal-ball2_iStock-108272940.jpeg
END:VEVENT
BEGIN:VEVENT
DTSTART;VALUE=DATE:20251122
DTEND;VALUE=DATE:20251123
DTSTAMP:20260425T172232
CREATED:20251121T145840Z
LAST-MODIFIED:20251121T145840Z
UID:92121-1763769600-1763855999@www.whattododigital.com
SUMMARY:Jacob Burns Film Center: Wicked For Good
DESCRIPTION:Jacob Burns Film Center: Wicked For Good \nLast year’s global cinematic cultural sensation reaches its epic\, electrifying\, emotional conclusion in the final chapter of the untold story of the witches of Oz\, Wicked: For Good. \nJacob Burns Film Center
URL:https://www.whattododigital.com/event/jacob-burns-film-center-wicked-for-good-2/
LOCATION:Jacob Burns Film Center
CATEGORIES:Kids,Movies
ATTACH;FMTTYPE=image/jpeg:https://www.whattododigital.com/wp-content/uploads/2025/10/Kahan_crystal-ball2_iStock-108272940.jpeg
END:VEVENT
BEGIN:VEVENT
DTSTART;VALUE=DATE:20251123
DTEND;VALUE=DATE:20251124
DTSTAMP:20260425T172232
CREATED:20251121T150123Z
LAST-MODIFIED:20251121T150123Z
UID:92124-1763856000-1763942399@www.whattododigital.com
SUMMARY:Jacob Burns Film Center: Wicked For Good
DESCRIPTION:Jacob Burns Film Center: Wicked For Good \nLast year’s global cinematic cultural sensation reaches its epic\, electrifying\, emotional conclusion in the final chapter of the untold story of the witches of Oz\, Wicked: For Good. \nJacob Burns Film Center
URL:https://www.whattododigital.com/event/jacob-burns-film-center-wicked-for-good-3/
LOCATION:Jacob Burns Film Center
CATEGORIES:Kids,Movies
ATTACH;FMTTYPE=image/jpeg:https://www.whattododigital.com/wp-content/uploads/2025/10/Kahan_crystal-ball2_iStock-108272940.jpeg
END:VEVENT
BEGIN:VEVENT
DTSTART;VALUE=DATE:20251124
DTEND;VALUE=DATE:20251125
DTSTAMP:20260425T172232
CREATED:20251121T151731Z
LAST-MODIFIED:20251121T151731Z
UID:92127-1763942400-1764028799@www.whattododigital.com
SUMMARY:Jacob Burns Film Center: Wicked For Good
DESCRIPTION:Jacob Burns Film Center: Wicked For Good \nLast year’s global cinematic cultural sensation reaches its epic\, electrifying\, emotional conclusion in the final chapter of the untold story of the witches of Oz\, Wicked: For Good. \nJacob Burns Film Center
URL:https://www.whattododigital.com/event/jacob-burns-film-center-wicked-for-good-4/
LOCATION:Jacob Burns Film Center
CATEGORIES:Kids,Movies
ATTACH;FMTTYPE=image/jpeg:https://www.whattododigital.com/wp-content/uploads/2025/10/Kahan_crystal-ball2_iStock-108272940.jpeg
END:VEVENT
BEGIN:VEVENT
DTSTART;VALUE=DATE:20251125
DTEND;VALUE=DATE:20251126
DTSTAMP:20260425T172232
CREATED:20251121T151900Z
LAST-MODIFIED:20251121T151900Z
UID:92130-1764028800-1764115199@www.whattododigital.com
SUMMARY:Jacob Burns Film Center: Wicked For Good
DESCRIPTION:Jacob Burns Film Center: Wicked For Good \nLast year’s global cinematic cultural sensation reaches its epic\, electrifying\, emotional conclusion in the final chapter of the untold story of the witches of Oz\, Wicked: For Good. \nJacob Burns Film Center
URL:https://www.whattododigital.com/event/jacob-burns-film-center-wicked-for-good-5/
LOCATION:Jacob Burns Film Center
CATEGORIES:Kids,Movies
ATTACH;FMTTYPE=image/jpeg:https://www.whattododigital.com/wp-content/uploads/2025/10/Kahan_crystal-ball2_iStock-108272940.jpeg
END:VEVENT
BEGIN:VEVENT
DTSTART;VALUE=DATE:20251126
DTEND;VALUE=DATE:20251127
DTSTAMP:20260425T172232
CREATED:20251121T152026Z
LAST-MODIFIED:20251121T152026Z
UID:92133-1764115200-1764201599@www.whattododigital.com
SUMMARY:Jacob Burns Film Center: Wicked For Good
DESCRIPTION:Jacob Burns Film Center: Wicked For Good \nLast year’s global cinematic cultural sensation reaches its epic\, electrifying\, emotional conclusion in the final chapter of the untold story of the witches of Oz\, Wicked: For Good. \nJacob Burns Film Center
URL:https://www.whattododigital.com/event/jacob-burns-film-center-wicked-for-good-6/
LOCATION:Jacob Burns Film Center
CATEGORIES:Kids,Movies
ATTACH;FMTTYPE=image/jpeg:https://www.whattododigital.com/wp-content/uploads/2025/10/Kahan_crystal-ball2_iStock-108272940.jpeg
END:VEVENT
BEGIN:VEVENT
DTSTART;VALUE=DATE:20251127
DTEND;VALUE=DATE:20251128
DTSTAMP:20260425T172232
CREATED:20251121T152949Z
LAST-MODIFIED:20251121T152949Z
UID:92136-1764201600-1764287999@www.whattododigital.com
SUMMARY:Jacob Burns Film Center: Wicked For Good
DESCRIPTION:Jacob Burns Film Center: Wicked For Good \nLast year’s global cinematic cultural sensation reaches its epic\, electrifying\, emotional conclusion in the final chapter of the untold story of the witches of Oz\, Wicked: For Good. \nJacob Burns Film Center
URL:https://www.whattododigital.com/event/jacob-burns-film-center-wicked-for-good-7/
LOCATION:Jacob Burns Film Center
CATEGORIES:Kids,Movies
ATTACH;FMTTYPE=image/jpeg:https://www.whattododigital.com/wp-content/uploads/2025/10/Kahan_crystal-ball2_iStock-108272940.jpeg
END:VEVENT
BEGIN:VEVENT
DTSTART;VALUE=DATE:20251128
DTEND;VALUE=DATE:20251129
DTSTAMP:20260425T172232
CREATED:20251121T153129Z
LAST-MODIFIED:20251121T153129Z
UID:92139-1764288000-1764374399@www.whattododigital.com
SUMMARY:Jacob Burns Film Center: Wicked For Good
DESCRIPTION:Jacob Burns Film Center: Wicked For Good \nLast year’s global cinematic cultural sensation reaches its epic\, electrifying\, emotional conclusion in the final chapter of the untold story of the witches of Oz\, Wicked: For Good. \nJacob Burns Film Center
URL:https://www.whattododigital.com/event/jacob-burns-film-center-wicked-for-good-8/
LOCATION:Jacob Burns Film Center
CATEGORIES:Kids,Movies
ATTACH;FMTTYPE=image/jpeg:https://www.whattododigital.com/wp-content/uploads/2025/10/Kahan_crystal-ball2_iStock-108272940.jpeg
END:VEVENT
BEGIN:VEVENT
DTSTART;VALUE=DATE:20251129
DTEND;VALUE=DATE:20251130
DTSTAMP:20260425T172232
CREATED:20251121T153302Z
LAST-MODIFIED:20251121T153302Z
UID:92142-1764374400-1764460799@www.whattododigital.com
SUMMARY:Jacob Burns Film Center: Wicked For Good
DESCRIPTION:Jacob Burns Film Center: Wicked For Good \nLast year’s global cinematic cultural sensation reaches its epic\, electrifying\, emotional conclusion in the final chapter of the untold story of the witches of Oz\, Wicked: For Good. \nJacob Burns Film Center
URL:https://www.whattododigital.com/event/jacob-burns-film-center-wicked-for-good-9/
LOCATION:Jacob Burns Film Center
CATEGORIES:Kids,Movies
ATTACH;FMTTYPE=image/jpeg:https://www.whattododigital.com/wp-content/uploads/2025/10/Kahan_crystal-ball2_iStock-108272940.jpeg
END:VEVENT
BEGIN:VEVENT
DTSTART;VALUE=DATE:20251130
DTEND;VALUE=DATE:20251201
DTSTAMP:20260425T172232
CREATED:20251121T153425Z
LAST-MODIFIED:20251121T153425Z
UID:92145-1764460800-1764547199@www.whattododigital.com
SUMMARY:Jacob Burns Film Center: Wicked For Good
DESCRIPTION:Jacob Burns Film Center: Wicked For Good \nLast year’s global cinematic cultural sensation reaches its epic\, electrifying\, emotional conclusion in the final chapter of the untold story of the witches of Oz\, Wicked: For Good. \nJacob Burns Film Center
URL:https://www.whattododigital.com/event/jacob-burns-film-center-wicked-for-good-10/
LOCATION:Jacob Burns Film Center
CATEGORIES:Kids,Movies
ATTACH;FMTTYPE=image/jpeg:https://www.whattododigital.com/wp-content/uploads/2025/10/Kahan_crystal-ball2_iStock-108272940.jpeg
END:VEVENT
END:VCALENDAR