BEGIN:VCALENDAR
VERSION:2.0
PRODID:-//What To Do - ECPv6.15.20//NONSGML v1.0//EN
CALSCALE:GREGORIAN
METHOD:PUBLISH
X-ORIGINAL-URL:https://www.whattododigital.com
X-WR-CALDESC:Events for What To Do
REFRESH-INTERVAL;VALUE=DURATION:PT1H
X-Robots-Tag:noindex
X-PUBLISHED-TTL:PT1H
BEGIN:VTIMEZONE
TZID:America/New_York
BEGIN:DAYLIGHT
TZOFFSETFROM:-0500
TZOFFSETTO:-0400
TZNAME:EDT
DTSTART:20240310T070000
END:DAYLIGHT
BEGIN:STANDARD
TZOFFSETFROM:-0400
TZOFFSETTO:-0500
TZNAME:EST
DTSTART:20241103T060000
END:STANDARD
BEGIN:DAYLIGHT
TZOFFSETFROM:-0500
TZOFFSETTO:-0400
TZNAME:EDT
DTSTART:20250309T070000
END:DAYLIGHT
BEGIN:STANDARD
TZOFFSETFROM:-0400
TZOFFSETTO:-0500
TZNAME:EST
DTSTART:20251102T060000
END:STANDARD
BEGIN:DAYLIGHT
TZOFFSETFROM:-0500
TZOFFSETTO:-0400
TZNAME:EDT
DTSTART:20260308T070000
END:DAYLIGHT
BEGIN:STANDARD
TZOFFSETFROM:-0400
TZOFFSETTO:-0500
TZNAME:EST
DTSTART:20261101T060000
END:STANDARD
END:VTIMEZONE
BEGIN:VEVENT
DTSTART;TZID=America/New_York:20251220T130000
DTEND;TZID=America/New_York:20251220T130000
DTSTAMP:20260425T062000
CREATED:20251208T183813Z
LAST-MODIFIED:20251208T183813Z
UID:92816-1766235600-1766235600@www.whattododigital.com
SUMMARY:JBFC: Hot Chocolate & The Holidays: Holiday Drag Queen Story Time
DESCRIPTION:JBFC: Hot Chocolate & The Holidays: Holiday Drag Queen Story Time \nFrank Capra (Mr. Smith Goes to Washington\, Arsenic and Old Lace) directs this beloved story of desperate bank manager George Bailey (James Stewart) who contemplates jumping off a bridge on Christmas Eve. His bumbling guardian angel Clarence intervenes—showing George the good he has done in the world—and sets him on the right path. Audiences remember this timeless 1946 film mainly for Stewart’s touching performance\, but it also features great supporting turns from legendary Hollywood figures such as Lionel Barrymore\, Donna Reed\, and Gloria Grahame. \nJacob Burns Film Center
URL:https://www.whattododigital.com/event/jbfc-hot-chocolate-the-holidays-holiday-drag-queen-story-time/
LOCATION:Jacob Burns Film Center
CATEGORIES:Holidays
ATTACH;FMTTYPE=image/jpeg:https://www.whattododigital.com/wp-content/uploads/2025/12/JBFC_Holidays-collage-2025-1.jpeg
END:VEVENT
BEGIN:VEVENT
DTSTART;TZID=America/New_York:20251220T143000
DTEND;TZID=America/New_York:20251220T143000
DTSTAMP:20260425T062000
CREATED:20251208T182121Z
LAST-MODIFIED:20251208T182306Z
UID:92786-1766241000-1766241000@www.whattododigital.com
SUMMARY:JBFC: Hot Chocolate & The Holidays: The Nutcracker at Wethersfield
DESCRIPTION:JBFC: Hot Chocolate & The Holidays: The Nutcracker at Wethersfield \nSet on the grounds of a magical Hudson Valley estate\, choreographer Troy and his team face almost insurmountable challenges to create an unforgettable and immersive live experience between dancers and audience\, who arrive as guests at the ballet’s most famous party scene to witness The Nutcracker like never before. \nJacob Burns Film Center
URL:https://www.whattododigital.com/event/jbfc-hot-chocolate-the-holidays-the-nutcracker-at-wethersfield/
LOCATION:Jacob Burns Film Center
CATEGORIES:Holidays
ATTACH;FMTTYPE=image/jpeg:https://www.whattododigital.com/wp-content/uploads/2025/12/JBFC_Holidays-collage-2025-1.jpeg
END:VEVENT
BEGIN:VEVENT
DTSTART;TZID=America/New_York:20251221T110000
DTEND;TZID=America/New_York:20251221T110000
DTSTAMP:20260425T062000
CREATED:20251208T183112Z
LAST-MODIFIED:20251208T183112Z
UID:92804-1766314800-1766314800@www.whattododigital.com
SUMMARY:JBFC: Hot Chocolate & The Holidays: It's A Wonderful Life
DESCRIPTION:JBFC: Hot Chocolate & The Holidays: It’s A Wonderful Life \nFrank Capra (Mr. Smith Goes to Washington\, Arsenic and Old Lace) directs this beloved story of desperate bank manager George Bailey (James Stewart) who contemplates jumping off a bridge on Christmas Eve. His bumbling guardian angel Clarence intervenes—showing George the good he has done in the world—and sets him on the right path. Audiences remember this timeless 1946 film mainly for Stewart’s touching performance\, but it also features great supporting turns from legendary Hollywood figures such as Lionel Barrymore\, Donna Reed\, and Gloria Grahame. \nJacob Burns Film Center
URL:https://www.whattododigital.com/event/jbfc-hot-chocolate-the-holidays-its-a-wonderful-life/
LOCATION:Jacob Burns Film Center
CATEGORIES:Holidays
ATTACH;FMTTYPE=image/jpeg:https://www.whattododigital.com/wp-content/uploads/2025/12/JBFC_Holidays-collage-2025-1.jpeg
END:VEVENT
BEGIN:VEVENT
DTSTART;TZID=America/New_York:20251221T140000
DTEND;TZID=America/New_York:20251221T140000
DTSTAMP:20260425T062000
CREATED:20251208T183228Z
LAST-MODIFIED:20251208T183228Z
UID:92807-1766325600-1766325600@www.whattododigital.com
SUMMARY:JBFC: Hot Chocolate & The Holidays: It's A Wonderful Life
DESCRIPTION:JBFC: Hot Chocolate & The Holidays: It’s A Wonderful Life \nFrank Capra (Mr. Smith Goes to Washington\, Arsenic and Old Lace) directs this beloved story of desperate bank manager George Bailey (James Stewart) who contemplates jumping off a bridge on Christmas Eve. His bumbling guardian angel Clarence intervenes—showing George the good he has done in the world—and sets him on the right path. Audiences remember this timeless 1946 film mainly for Stewart’s touching performance\, but it also features great supporting turns from legendary Hollywood figures such as Lionel Barrymore\, Donna Reed\, and Gloria Grahame. \nJacob Burns Film Center
URL:https://www.whattododigital.com/event/jbfc-hot-chocolate-the-holidays-its-a-wonderful-life-2/
LOCATION:Jacob Burns Film Center
CATEGORIES:Holidays
ATTACH;FMTTYPE=image/jpeg:https://www.whattododigital.com/wp-content/uploads/2025/12/JBFC_Holidays-collage-2025-1.jpeg
END:VEVENT
BEGIN:VEVENT
DTSTART;TZID=America/New_York:20251221T170000
DTEND;TZID=America/New_York:20251221T170000
DTSTAMP:20260425T062000
CREATED:20251208T182526Z
LAST-MODIFIED:20251208T205541Z
UID:92795-1766336400-1766336400@www.whattododigital.com
SUMMARY:JBFC: Hot Chocolate & The Holidays: The Shop Around the Corner
DESCRIPTION:JBFC: Hot Chocolate & The Holidays: The Shop Around the Corner \nBy night Alfred and Klara are pen pals who have never met but who are deeply devoted to each other. By day\, Alfred and Klara are co-workers who\, just as deeply\, dislike each other. Academy Award winner Jimmy Stewart stars with Margaret Sullivan as Alfred and Klara in this classic romance directed by the great Ernst Lubitsch. This day/night—love/hate relationship cannot continue… but will it be loving or loathing when Alfred and Klara discover the identities of their cherished pen pals? \nJacob Burns Film Center
URL:https://www.whattododigital.com/event/jbfc-hot-chocolate-the-holidays-the-shop-around-the-corner/
LOCATION:Jacob Burns Film Center
ATTACH;FMTTYPE=image/jpeg:https://www.whattododigital.com/wp-content/uploads/2025/12/JBFC_Holidays-collage-2025-1.jpeg
END:VEVENT
BEGIN:VEVENT
DTSTART;TZID=America/New_York:20251222T190000
DTEND;TZID=America/New_York:20251222T190000
DTSTAMP:20260425T062000
CREATED:20251208T182659Z
LAST-MODIFIED:20251208T182659Z
UID:92798-1766430000-1766430000@www.whattododigital.com
SUMMARY:JBFC: Hot Chocolate & The Holidays: The Shop Around the Corner
DESCRIPTION:JBFC: Hot Chocolate & The Holidays: The Shop Around the Corner \nBy night Alfred and Klara are pen pals who have never met but who are deeply devoted to each other. By day\, Alfred and Klara are co-workers who\, just as deeply\, dislike each other. Academy Award winner Jimmy Stewart stars with Margaret Sullivan as Alfred and Klara in this classic romance directed by the great Ernst Lubitsch. This day/night—love/hate relationship cannot continue… but will it be loving or loathing when Alfred and Klara discover the identities of their cherished pen pals? \nJacob Burns Film Center
URL:https://www.whattododigital.com/event/jbfc-hot-chocolate-the-holidays-the-shop-around-the-corner-2/
LOCATION:Jacob Burns Film Center
CATEGORIES:Holidays
ATTACH;FMTTYPE=image/jpeg:https://www.whattododigital.com/wp-content/uploads/2025/12/JBFC_Holidays-collage-2025-1.jpeg
END:VEVENT
BEGIN:VEVENT
DTSTART;TZID=America/New_York:20251223T190000
DTEND;TZID=America/New_York:20251223T190000
DTSTAMP:20260425T062000
CREATED:20251208T183353Z
LAST-MODIFIED:20251208T183353Z
UID:92810-1766516400-1766516400@www.whattododigital.com
SUMMARY:JBFC: Hot Chocolate & The Holidays: It's A Wonderful Life
DESCRIPTION:JBFC: Hot Chocolate & The Holidays: It’s A Wonderful Life \nFrank Capra (Mr. Smith Goes to Washington\, Arsenic and Old Lace) directs this beloved story of desperate bank manager George Bailey (James Stewart) who contemplates jumping off a bridge on Christmas Eve. His bumbling guardian angel Clarence intervenes—showing George the good he has done in the world—and sets him on the right path. Audiences remember this timeless 1946 film mainly for Stewart’s touching performance\, but it also features great supporting turns from legendary Hollywood figures such as Lionel Barrymore\, Donna Reed\, and Gloria Grahame. \nJacob Burns Film Center
URL:https://www.whattododigital.com/event/jbfc-hot-chocolate-the-holidays-its-a-wonderful-life-3/
LOCATION:Jacob Burns Film Center
CATEGORIES:Holidays
ATTACH;FMTTYPE=image/jpeg:https://www.whattododigital.com/wp-content/uploads/2025/12/JBFC_Holidays-collage-2025-1.jpeg
END:VEVENT
BEGIN:VEVENT
DTSTART;TZID=America/New_York:20251224T130000
DTEND;TZID=America/New_York:20251224T130000
DTSTAMP:20260425T062000
CREATED:20251208T183538Z
LAST-MODIFIED:20251208T183538Z
UID:92813-1766581200-1766581200@www.whattododigital.com
SUMMARY:JBFC: Hot Chocolate & The Holidays: It's A Wonderful Life
DESCRIPTION:JBFC: Hot Chocolate & The Holidays: It’s A Wonderful Life \nFrank Capra (Mr. Smith Goes to Washington\, Arsenic and Old Lace) directs this beloved story of desperate bank manager George Bailey (James Stewart) who contemplates jumping off a bridge on Christmas Eve. His bumbling guardian angel Clarence intervenes—showing George the good he has done in the world—and sets him on the right path. Audiences remember this timeless 1946 film mainly for Stewart’s touching performance\, but it also features great supporting turns from legendary Hollywood figures such as Lionel Barrymore\, Donna Reed\, and Gloria Grahame. \nJacob Burns Film Center
URL:https://www.whattododigital.com/event/jbfc-hot-chocolate-the-holidays-its-a-wonderful-life-4/
LOCATION:Jacob Burns Film Center
CATEGORIES:Holidays
ATTACH;FMTTYPE=image/jpeg:https://www.whattododigital.com/wp-content/uploads/2025/12/JBFC_Holidays-collage-2025-1.jpeg
END:VEVENT
BEGIN:VEVENT
DTSTART;TZID=America/New_York:20251224T160000
DTEND;TZID=America/New_York:20251224T160000
DTSTAMP:20260425T062000
CREATED:20251208T182806Z
LAST-MODIFIED:20251208T182823Z
UID:92801-1766592000-1766592000@www.whattododigital.com
SUMMARY:JBFC: Hot Chocolate & The Holidays: The Shop Around the Corner
DESCRIPTION:JBFC: Hot Chocolate & The Holidays: The Shop Around the Corner \nBy night Alfred and Klara are pen pals who have never met but who are deeply devoted to each other. By day\, Alfred and Klara are co-workers who\, just as deeply\, dislike each other. Academy Award winner Jimmy Stewart stars with Margaret Sullivan as Alfred and Klara in this classic romance directed by the great Ernst Lubitsch. This day/night—love/hate relationship cannot continue… but will it be loving or loathing when Alfred and Klara discover the identities of their cherished pen pals? \nJacob Burns Film Center
URL:https://www.whattododigital.com/event/jbfc-hot-chocolate-the-holidays-the-shop-around-the-corner-3/
LOCATION:Jacob Burns Film Center
CATEGORIES:Holidays
ATTACH;FMTTYPE=image/jpeg:https://www.whattododigital.com/wp-content/uploads/2025/12/JBFC_Holidays-collage-2025-1.jpeg
END:VEVENT
END:VCALENDAR