BEGIN:VCALENDAR
VERSION:2.0
PRODID:-//What To Do - ECPv6.15.20//NONSGML v1.0//EN
CALSCALE:GREGORIAN
METHOD:PUBLISH
X-WR-CALNAME:What To Do
X-ORIGINAL-URL:https://www.whattododigital.com
X-WR-CALDESC:Events for What To Do
REFRESH-INTERVAL;VALUE=DURATION:PT1H
X-Robots-Tag:noindex
X-PUBLISHED-TTL:PT1H
BEGIN:VTIMEZONE
TZID:America/New_York
BEGIN:DAYLIGHT
TZOFFSETFROM:-0500
TZOFFSETTO:-0400
TZNAME:EDT
DTSTART:20250309T070000
END:DAYLIGHT
BEGIN:STANDARD
TZOFFSETFROM:-0400
TZOFFSETTO:-0500
TZNAME:EST
DTSTART:20251102T060000
END:STANDARD
BEGIN:DAYLIGHT
TZOFFSETFROM:-0500
TZOFFSETTO:-0400
TZNAME:EDT
DTSTART:20260308T070000
END:DAYLIGHT
BEGIN:STANDARD
TZOFFSETFROM:-0400
TZOFFSETTO:-0500
TZNAME:EST
DTSTART:20261101T060000
END:STANDARD
BEGIN:DAYLIGHT
TZOFFSETFROM:-0500
TZOFFSETTO:-0400
TZNAME:EDT
DTSTART:20270314T070000
END:DAYLIGHT
BEGIN:STANDARD
TZOFFSETFROM:-0400
TZOFFSETTO:-0500
TZNAME:EST
DTSTART:20271107T060000
END:STANDARD
END:VTIMEZONE
BEGIN:VEVENT
DTSTART;TZID=America/New_York:20260207T080000
DTEND;TZID=America/New_York:20260207T170000
DTSTAMP:20260425T173027
CREATED:20260106T200950Z
LAST-MODIFIED:20260106T200950Z
UID:93387-1770451200-1770483600@www.whattododigital.com
SUMMARY:New York Botanical Garden Orchid Show
DESCRIPTION:New York Botanical Garden Orchid Show: Mr Flower Fantastic’s Concrete Jungle \nAt The Orchid Show: Mr. Flower Fantastic’s Concrete Jungle\, orchids collide with concrete in a dazzling reimagining of the Big Apple\, from stoops and slice shops to the subway itself. Step into a breathtaking fusion of nature and cityscape artistry in the Enid A. Haupt Conservatory\, and experience the flair and style of New York transformed by thousands of flowers. \nOpens on Saturday February 7 and runs through Sunday April 26. \nThe Garden is open 10 a.m.–6 p.m.\, Tuesday–Sunday\, and Monday federal holidays. \nNew York Botanical Garden
URL:https://www.whattododigital.com/event/new-york-botanical-garden-orchid-show/
LOCATION:New York Botanical Garden\, 2900 Southern Blvd.\, Bronx\, NY\, 10458-5126\, United States
CATEGORIES:Arts
ATTACH;FMTTYPE=image/jpeg:https://www.whattododigital.com/wp-content/uploads/2026/01/NYBG_Orchid.jpeg
END:VEVENT
END:VCALENDAR