BEGIN:VCALENDAR
VERSION:2.0
PRODID:-//What To Do - ECPv6.15.20//NONSGML v1.0//EN
CALSCALE:GREGORIAN
METHOD:PUBLISH
X-ORIGINAL-URL:https://www.whattododigital.com
X-WR-CALDESC:Events for What To Do
REFRESH-INTERVAL;VALUE=DURATION:PT1H
X-Robots-Tag:noindex
X-PUBLISHED-TTL:PT1H
BEGIN:VTIMEZONE
TZID:America/New_York
BEGIN:DAYLIGHT
TZOFFSETFROM:-0500
TZOFFSETTO:-0400
TZNAME:EDT
DTSTART:20240310T070000
END:DAYLIGHT
BEGIN:STANDARD
TZOFFSETFROM:-0400
TZOFFSETTO:-0500
TZNAME:EST
DTSTART:20241103T060000
END:STANDARD
BEGIN:DAYLIGHT
TZOFFSETFROM:-0500
TZOFFSETTO:-0400
TZNAME:EDT
DTSTART:20250309T070000
END:DAYLIGHT
BEGIN:STANDARD
TZOFFSETFROM:-0400
TZOFFSETTO:-0500
TZNAME:EST
DTSTART:20251102T060000
END:STANDARD
BEGIN:DAYLIGHT
TZOFFSETFROM:-0500
TZOFFSETTO:-0400
TZNAME:EDT
DTSTART:20260308T070000
END:DAYLIGHT
BEGIN:STANDARD
TZOFFSETFROM:-0400
TZOFFSETTO:-0500
TZNAME:EST
DTSTART:20261101T060000
END:STANDARD
END:VTIMEZONE
BEGIN:VEVENT
DTSTART;TZID=America/New_York:20251206T180000
DTEND;TZID=America/New_York:20251206T193000
DTSTAMP:20260425T194116
CREATED:20251118T210900Z
LAST-MODIFIED:20251118T210900Z
UID:91983-1765044000-1765049400@www.whattododigital.com
SUMMARY:Bedford Historical Society Fezziwigs
DESCRIPTION:Bedford Historical Society Fezziwigs \nJoin the Bedford Historical Society they celebrate the kindness and generosity of  the Bedford community with refreshments\, snacks\, music and good cheer at the 1787 Court House. The Fezziwigs will be there… \nBedford Historical Society
URL:https://www.whattododigital.com/event/bedford-historical-society-fezziwigs/
LOCATION:Bedford Court House\, 615 OLd Post Rd.\, Bedford Village\, New York\, 10506\, United States
CATEGORIES:Grown Ups,Holidays
ATTACH;FMTTYPE=image/jpeg:https://www.whattododigital.com/wp-content/uploads/2025/11/Bedford-Court-House-Snow-copy.jpg
END:VEVENT
END:VCALENDAR