BEGIN:VCALENDAR
VERSION:2.0
PRODID:-//What To Do - ECPv6.15.20//NONSGML v1.0//EN
CALSCALE:GREGORIAN
METHOD:PUBLISH
X-WR-CALNAME:What To Do
X-ORIGINAL-URL:https://www.whattododigital.com
X-WR-CALDESC:Events for What To Do
REFRESH-INTERVAL;VALUE=DURATION:PT1H
X-Robots-Tag:noindex
X-PUBLISHED-TTL:PT1H
BEGIN:VTIMEZONE
TZID:America/New_York
BEGIN:DAYLIGHT
TZOFFSETFROM:-0500
TZOFFSETTO:-0400
TZNAME:EDT
DTSTART:20240310T070000
END:DAYLIGHT
BEGIN:STANDARD
TZOFFSETFROM:-0400
TZOFFSETTO:-0500
TZNAME:EST
DTSTART:20241103T060000
END:STANDARD
BEGIN:DAYLIGHT
TZOFFSETFROM:-0500
TZOFFSETTO:-0400
TZNAME:EDT
DTSTART:20250309T070000
END:DAYLIGHT
BEGIN:STANDARD
TZOFFSETFROM:-0400
TZOFFSETTO:-0500
TZNAME:EST
DTSTART:20251102T060000
END:STANDARD
BEGIN:DAYLIGHT
TZOFFSETFROM:-0500
TZOFFSETTO:-0400
TZNAME:EDT
DTSTART:20260308T070000
END:DAYLIGHT
BEGIN:STANDARD
TZOFFSETFROM:-0400
TZOFFSETTO:-0500
TZNAME:EST
DTSTART:20261101T060000
END:STANDARD
END:VTIMEZONE
BEGIN:VEVENT
DTSTART;TZID=America/New_York:20251206T203000
DTEND;TZID=America/New_York:20251206T203000
DTSTAMP:20260424T025932
CREATED:20251121T222134Z
LAST-MODIFIED:20251121T222253Z
UID:92511-1765053000-1765053000@www.whattododigital.com
SUMMARY:Candlelight Concerts Tribute to Queen
DESCRIPTION:Candlelight Concerts Tribute to Queen \nThe High Line Quartet performs the works o Queen on strings. The Program features “Somebody to Love\,” “Under Pressure\,” “Bohemian Rhapsody\,” “Crazy Little Thing Called Love\,” Fat Bottomed Girls\,” and more. \nCandlelight Concerts
URL:https://www.whattododigital.com/event/candlelight-concerts-tribute-to-queen-2/
LOCATION:St. Marks Episcopal Church\, 85 E Main St.\, Mount Kisco\, NY\, 10549\, United States
CATEGORIES:Music,Music Classical
ATTACH;FMTTYPE=image/jpeg:https://www.whattododigital.com/wp-content/uploads/2025/10/Candlelight_Queen.jpeg
END:VEVENT
END:VCALENDAR