BEGIN:VCALENDAR
VERSION:2.0
PRODID:-//What To Do - ECPv6.15.20//NONSGML v1.0//EN
CALSCALE:GREGORIAN
METHOD:PUBLISH
X-WR-CALNAME:What To Do
X-ORIGINAL-URL:https://www.whattododigital.com
X-WR-CALDESC:Events for What To Do
REFRESH-INTERVAL;VALUE=DURATION:PT1H
X-Robots-Tag:noindex
X-PUBLISHED-TTL:PT1H
BEGIN:VTIMEZONE
TZID:America/New_York
BEGIN:DAYLIGHT
TZOFFSETFROM:-0500
TZOFFSETTO:-0400
TZNAME:EDT
DTSTART:20250309T070000
END:DAYLIGHT
BEGIN:STANDARD
TZOFFSETFROM:-0400
TZOFFSETTO:-0500
TZNAME:EST
DTSTART:20251102T060000
END:STANDARD
BEGIN:DAYLIGHT
TZOFFSETFROM:-0500
TZOFFSETTO:-0400
TZNAME:EDT
DTSTART:20260308T070000
END:DAYLIGHT
BEGIN:STANDARD
TZOFFSETFROM:-0400
TZOFFSETTO:-0500
TZNAME:EST
DTSTART:20261101T060000
END:STANDARD
BEGIN:DAYLIGHT
TZOFFSETFROM:-0500
TZOFFSETTO:-0400
TZNAME:EDT
DTSTART:20270314T070000
END:DAYLIGHT
BEGIN:STANDARD
TZOFFSETFROM:-0400
TZOFFSETTO:-0500
TZNAME:EST
DTSTART:20271107T060000
END:STANDARD
END:VTIMEZONE
BEGIN:VEVENT
DTSTART;TZID=America/New_York:20260410T200000
DTEND;TZID=America/New_York:20260410T200000
DTSTAMP:20260423T041531
CREATED:20260302T200638Z
LAST-MODIFIED:20260302T200638Z
UID:93800-1775851200-1775851200@www.whattododigital.com
SUMMARY:Capitol Theatre: Gillian Welch & David Rawlings play Grateful Dead Acoustic Reckoning
DESCRIPTION:Capitol Theatre: Gillian Welch & David Rawlings play Grateful Dead Acoustic Reckoning \nHailed by Pitchfork as “modern masters of American folk” and “protectors of the American folk song” by Rolling Stone and the New York Times\, Gillian Welch & David Rawlings perform The Grateful Dead’s live acoustic double-album Reckoning on April 9\, 10 & 11. \nCapitol Theatre Port Chester
URL:https://www.whattododigital.com/event/capitol-theatre-gillian-welch-david-rawlings-play-grateful-dead-acoustic-reckoning-2/
LOCATION:The Capitol Theatre\, 149 Westchester Avenue\, Port Chester\, NY\, 10573\, United States
ATTACH;FMTTYPE=image/jpeg:https://www.whattododigital.com/wp-content/uploads/2026/03/Cap_welchRawlings-copy.jpg
END:VEVENT
END:VCALENDAR