BEGIN:VCALENDAR
VERSION:2.0
PRODID:-//What To Do - ECPv6.15.20//NONSGML v1.0//EN
CALSCALE:GREGORIAN
METHOD:PUBLISH
X-WR-CALNAME:What To Do
X-ORIGINAL-URL:https://www.whattododigital.com
X-WR-CALDESC:Events for What To Do
REFRESH-INTERVAL;VALUE=DURATION:PT1H
X-Robots-Tag:noindex
X-PUBLISHED-TTL:PT1H
BEGIN:VTIMEZONE
TZID:America/New_York
BEGIN:DAYLIGHT
TZOFFSETFROM:-0500
TZOFFSETTO:-0400
TZNAME:EDT
DTSTART:20250309T070000
END:DAYLIGHT
BEGIN:STANDARD
TZOFFSETFROM:-0400
TZOFFSETTO:-0500
TZNAME:EST
DTSTART:20251102T060000
END:STANDARD
BEGIN:DAYLIGHT
TZOFFSETFROM:-0500
TZOFFSETTO:-0400
TZNAME:EDT
DTSTART:20260308T070000
END:DAYLIGHT
BEGIN:STANDARD
TZOFFSETFROM:-0400
TZOFFSETTO:-0500
TZNAME:EST
DTSTART:20261101T060000
END:STANDARD
BEGIN:DAYLIGHT
TZOFFSETFROM:-0500
TZOFFSETTO:-0400
TZNAME:EDT
DTSTART:20270314T070000
END:DAYLIGHT
BEGIN:STANDARD
TZOFFSETFROM:-0400
TZOFFSETTO:-0500
TZNAME:EST
DTSTART:20271107T060000
END:STANDARD
END:VTIMEZONE
BEGIN:VEVENT
DTSTART;TZID=America/New_York:20260712T160000
DTEND;TZID=America/New_York:20260712T160000
DTSTAMP:20260423T172205
CREATED:20260316T205454Z
LAST-MODIFIED:20260316T205454Z
UID:94020-1783872000-1783872000@www.whattododigital.com
SUMMARY:Caramoor: Apollo's Fire
DESCRIPTION:Caramoor: Apollo’s Fire \nThe Grammy Award-winning Baroque orchestra Apollo’s Fire returns to the Venetian Theater with FENCING MATCH\, a high-energy program directed by the “charismatic and tireless” Jeannette Sorrell. These “Dueling Double Concertos” pit soloists against one another in a brilliant display of 18th-century virtuosity. \nCaramoor
URL:https://www.whattododigital.com/event/caramoor-apollos-fire/
LOCATION:Caramoor
CATEGORIES:Music Classical
ATTACH;FMTTYPE=image/jpeg:https://www.whattododigital.com/wp-content/uploads/2026/03/Caramoo_Apollo-copy.jpg
END:VEVENT
BEGIN:VEVENT
DTSTART;TZID=America/New_York:20260717T190000
DTEND;TZID=America/New_York:20260717T190000
DTSTAMP:20260423T172205
CREATED:20260316T204537Z
LAST-MODIFIED:20260316T204537Z
UID:94010-1784314800-1784314800@www.whattododigital.com
SUMMARY:Caramoor: Charpentier's Les Arts Florissants & La Descente d'Orphée aux enfers
DESCRIPTION:Caramoor: Charpentier’s Les Arts Florissants & La Descente d’Orphée aux enfers  \nFollowing the magical performance of Purcell’s The Fairy Queen at Caramoor in 2024\, pioneering conductor and harpsichordist William Christie returns to present the work that gave his renowned Baroque ensemble its name: Les Arts Florissants. In this double bill\, two miniature operatic gems by Marc-Antoine Charpentier shimmer with expressive choruses\, eloquent declamation\, courtly airs\, and vibrant instrumental colors\, revealing the French composer’s dramatic genius. The performance features soloists from Le Jardin des Voix\, the ensemble’s international academy for young singers. \nCaramoor
URL:https://www.whattododigital.com/event/caramoor-charpentiers-les-arts-florissants-la-descente-dorphee-aux-enfers/
LOCATION:Caramoor
CATEGORIES:Arts,Music Classical
ATTACH;FMTTYPE=image/jpeg:https://www.whattododigital.com/wp-content/uploads/2026/03/Caramoor_Opera.jpg
END:VEVENT
BEGIN:VEVENT
DTSTART;TZID=America/New_York:20260718T193000
DTEND;TZID=America/New_York:20260718T193000
DTSTAMP:20260423T172205
CREATED:20260316T202454Z
LAST-MODIFIED:20260316T202454Z
UID:93997-1784403000-1784403000@www.whattododigital.com
SUMMARY:Caramoor: Punch Brothers
DESCRIPTION:Caramoor: Punch Brothers \nKnown for pushing the boundaries of acoustic music\, the band has garnered critical acclaim\, including a Grammy for Best Folk Album for All Ashore (2018). The Washington Post applauded them for taking “bluegrass to its next evolutionary stage\,” and Rolling Stone praised their work as“wild virtuosity used for more than just virtuosity\,” cementing their reputation as trailblazers in contemporary acoustic music. \nCaramoor
URL:https://www.whattododigital.com/event/caramoor-punch-brothers/
LOCATION:Caramoor
CATEGORIES:Music
ATTACH;FMTTYPE=image/jpeg:https://www.whattododigital.com/wp-content/uploads/2026/03/Caramoor_Punch-Brothers.jpg
END:VEVENT
BEGIN:VEVENT
DTSTART;TZID=America/New_York:20260723T193000
DTEND;TZID=America/New_York:20260723T193000
DTSTAMP:20260423T172205
CREATED:20260316T195440Z
LAST-MODIFIED:20260316T195440Z
UID:93970-1784835000-1784835000@www.whattododigital.com
SUMMARY:Caramoor: Yuja Wang & People of Earth
DESCRIPTION:Caramoor: Yuja Wang & People of Earth \nOne of today’s most electrifying pianists\, Yuja Wang\, makes her Caramoor debut in a collaboration with NYC’s most exciting Latin music supergroup\, People of Earth\, for a vibrant journey through the sounds of the Caribbean – composed and music directed by Cuban piano phenom Ahmed Alom. \nCaramoor
URL:https://www.whattododigital.com/event/caramoor-yuja-wang-people-of-earth/
LOCATION:Caramoor
CATEGORIES:Music
ATTACH;FMTTYPE=image/jpeg:https://www.whattododigital.com/wp-content/uploads/2026/03/Caramoor_Juja-Wang.jpg
END:VEVENT
BEGIN:VEVENT
DTSTART;TZID=America/New_York:20260725T123000
DTEND;TZID=America/New_York:20260725T123000
DTSTAMP:20260423T172205
CREATED:20260316T195943Z
LAST-MODIFIED:20260316T195943Z
UID:93975-1784982600-1784982600@www.whattododigital.com
SUMMARY:Caramoor Jazz Festival: Emmet Cohen Trio
DESCRIPTION:Caramoor Jazz Festival: Emmet Cohen Trio \nThe Caramoor Jazz Festival fills the grounds with the spirit of jazz\, inviting audiences to wander\, listen\, and discover music unfolding across our gardens and open-air stages. Spend the day immersed in sound and shared experience\, then come together for an unforgettable evening performance by Caramoor favorite Emmet Cohen\, bringing the festival to a thrilling close. \nCaramoor
URL:https://www.whattododigital.com/event/caramoor-jazz-festival-emmet-cohen-trio/
LOCATION:Caramoor
CATEGORIES:Music
ATTACH;FMTTYPE=image/jpeg:https://www.whattododigital.com/wp-content/uploads/2026/03/SCaramoor-Jazz-Fest.jpg
END:VEVENT
BEGIN:VEVENT
DTSTART;TZID=America/New_York:20260726T160000
DTEND;TZID=America/New_York:20260726T160000
DTSTAMP:20260423T172205
CREATED:20260316T205010Z
LAST-MODIFIED:20260316T205010Z
UID:94015-1785081600-1785081600@www.whattododigital.com
SUMMARY:Caramoor: Handel's Tolomeo
DESCRIPTION:Caramoor: Handel’s Tolomeo \nThe Philharmonia Baroque Orchestra returns to the Venetian Theater for a semi-staged production of Handel’s masterpiece\, Tolomeo\, re d’Egitto. Led by their newly appointed Music Director\, Peter Whelan\, and directed by James Darrah Black\, the ensemble has previously brought memorable Handel productions of Atalanta and Acis and Galatea to Caramoor. With an elite cast of Baroque specialists\, this is a must-see for Baroque opera fans. \nCaramoor
URL:https://www.whattododigital.com/event/caramoor-handels-tolomeo/
LOCATION:Caramoor
CATEGORIES:Arts,Music Classical
ATTACH;FMTTYPE=image/jpeg:https://www.whattododigital.com/wp-content/uploads/2026/03/Caramoor_Tolomeo.jpg
END:VEVENT
BEGIN:VEVENT
DTSTART;TZID=America/New_York:20260730T193000
DTEND;TZID=America/New_York:20260730T193000
DTSTAMP:20260423T172205
CREATED:20260316T201927Z
LAST-MODIFIED:20260316T201927Z
UID:93992-1785439800-1785439800@www.whattododigital.com
SUMMARY:Caramoor: Mark Morris Dance Group
DESCRIPTION:Caramoor: Mark Morris Dance Group \nHailed as “the preeminent modern dance organization of our time” by none other than Yo-Yo Ma\, Mark Morris Dance Group returns to Caramoor with its signature blend of wit\, grace\, and profound musicality. Morris\, celebrated as the most musical of living choreographers\, treats the audience to a feast for eyes and ears. This performance captures the sheer joy and human authenticity that make this company an enduring treasure. \nCaramoor
URL:https://www.whattododigital.com/event/caramoor-mark-morris-dance-group/
LOCATION:Caramoor
CATEGORIES:Arts
ATTACH;FMTTYPE=image/jpeg:https://www.whattododigital.com/wp-content/uploads/2026/03/SCaramoor_Mark-Morris.jpg
END:VEVENT
END:VCALENDAR