BEGIN:VCALENDAR
VERSION:2.0
PRODID:-//What To Do - ECPv6.15.20//NONSGML v1.0//EN
CALSCALE:GREGORIAN
METHOD:PUBLISH
X-WR-CALNAME:What To Do
X-ORIGINAL-URL:https://www.whattododigital.com
X-WR-CALDESC:Events for What To Do
REFRESH-INTERVAL;VALUE=DURATION:PT1H
X-Robots-Tag:noindex
X-PUBLISHED-TTL:PT1H
BEGIN:VTIMEZONE
TZID:America/New_York
BEGIN:DAYLIGHT
TZOFFSETFROM:-0500
TZOFFSETTO:-0400
TZNAME:EDT
DTSTART:20240310T070000
END:DAYLIGHT
BEGIN:STANDARD
TZOFFSETFROM:-0400
TZOFFSETTO:-0500
TZNAME:EST
DTSTART:20241103T060000
END:STANDARD
BEGIN:DAYLIGHT
TZOFFSETFROM:-0500
TZOFFSETTO:-0400
TZNAME:EDT
DTSTART:20250309T070000
END:DAYLIGHT
BEGIN:STANDARD
TZOFFSETFROM:-0400
TZOFFSETTO:-0500
TZNAME:EST
DTSTART:20251102T060000
END:STANDARD
BEGIN:DAYLIGHT
TZOFFSETFROM:-0500
TZOFFSETTO:-0400
TZNAME:EDT
DTSTART:20260308T070000
END:DAYLIGHT
BEGIN:STANDARD
TZOFFSETFROM:-0400
TZOFFSETTO:-0500
TZNAME:EST
DTSTART:20261101T060000
END:STANDARD
END:VTIMEZONE
BEGIN:VEVENT
DTSTART;VALUE=DATE:20250919
DTEND;VALUE=DATE:20250920
DTSTAMP:20260424T075704
CREATED:20250903T143319Z
LAST-MODIFIED:20250903T143319Z
UID:88996-1758240000-1758326399@www.whattododigital.com
SUMMARY:Harvest Moon Farm & Orchard: Mystic Moon Spooktacular Experience
DESCRIPTION:Harvest Moon Farm & Orchard: Mystic Moon Spooktacular Experience \nUnlike traditional Halloween attractions\, Mystic Moon trades fright for wonder\, inviting guests into a world of moonlit magic. This 40-minute adventure is crafted for both children and adults\, weaving together an atmosphere that’s equally mystical and enchanting. \nAlong the way\, guests will encounter enchanting scenes\, countless photo ops\, and a touch of mystery among theatrical lighting to keep the experience magical. \nAfter the trail\, there’s festive drinks and seasonal treats under the orchard’s big tent. \nWeekends and Monday holidays from Friday\, September 19 to Saturday\, October 13. \nDaily from Thursday\, October 16 through Saturday\, November 1: Check times. \nHarvest Moon Farm & Orchard
URL:https://www.whattododigital.com/event/harvest-moon-farm-orchard-mystic-moon-spooktacular-experience/
LOCATION:Harvest Moon Farm & Orchard
CATEGORIES:Fairs and Festivals,Halloween,Outdoors
ATTACH;FMTTYPE=image/jpeg:https://www.whattododigital.com/wp-content/uploads/2025/09/Harvest-Moon_Mystic-Moon-copy.jpg
END:VEVENT
BEGIN:VEVENT
DTSTART;VALUE=DATE:20251121
DTEND;VALUE=DATE:20251122
DTSTAMP:20260424T075704
CREATED:20251121T153758Z
LAST-MODIFIED:20251121T155945Z
UID:92148-1763683200-1763769599@www.whattododigital.com
SUMMARY:Lumina Returns to Harvest Moon for the Holidays
DESCRIPTION:Lumina Returns to Harvest Moon for the Holidays \nA Magical Light Experience! \nImmerse yourself in the warmth and magic of Harvest Moon Farm & Orchard’s enchanting\, illuminated forest. Over half a million brilliant lights will create a cozy and inviting glow\, filling the air with holiday cheer. \nCheck times. \nHarvest Moon Farm & Orchard
URL:https://www.whattododigital.com/event/lumina-returns-to-harvest-moon-for-the-holidays/
LOCATION:Harvest Moon Farm & Orchard
CATEGORIES:Holidays,Kids
ATTACH;FMTTYPE=image/jpeg:https://www.whattododigital.com/wp-content/uploads/2025/11/Harvest-Moon_lumina-copy.jpg
END:VEVENT
BEGIN:VEVENT
DTSTART;VALUE=DATE:20251122
DTEND;VALUE=DATE:20251123
DTSTAMP:20260424T075704
CREATED:20251121T154018Z
LAST-MODIFIED:20251121T154018Z
UID:92151-1763769600-1763855999@www.whattododigital.com
SUMMARY:Lumina Returns to Harvest Moon for the Holidays
DESCRIPTION:Lumina Returns to Harvest Moon for the Holidays \nA Magical Light Experience! \nImmerse yourself in the warmth and magic of Harvest Moon Farm & Orchard’s enchanting\, illuminated forest. Over half a million brilliant lights will create a cozy and inviting glow\, filling the air with holiday cheer. \nCheck times. \nHarvest Moon Farm & Orchard
URL:https://www.whattododigital.com/event/lumina-returns-to-harvest-moon-for-the-holidays-2/
LOCATION:Harvest Moon Farm & Orchard
CATEGORIES:Holidays,Kids
ATTACH;FMTTYPE=image/jpeg:https://www.whattododigital.com/wp-content/uploads/2025/11/Harvest-Moon_lumina-copy.jpg
END:VEVENT
BEGIN:VEVENT
DTSTART;VALUE=DATE:20251126
DTEND;VALUE=DATE:20251127
DTSTAMP:20260424T075704
CREATED:20251121T154140Z
LAST-MODIFIED:20251121T154246Z
UID:92154-1764115200-1764201599@www.whattododigital.com
SUMMARY:Lumina Returns to Harvest Moon for the Holidays
DESCRIPTION:Lumina Returns to Harvest Moon for the Holidays \nA Magical Light Experience! \nImmerse yourself in the warmth and magic of Harvest Moon Farm & Orchard’s enchanting\, illuminated forest. Over half a million brilliant lights will create a cozy and inviting glow\, filling the air with holiday cheer. \nCheck times. \nHarvest Moon Farm & Orchard
URL:https://www.whattododigital.com/event/lumina-returns-to-harvest-moon-for-the-holidays-3/
LOCATION:Harvest Moon Farm & Orchard
CATEGORIES:Holidays,Kids
ATTACH;FMTTYPE=image/jpeg:https://www.whattododigital.com/wp-content/uploads/2025/11/Harvest-Moon_lumina-copy.jpg
END:VEVENT
BEGIN:VEVENT
DTSTART;VALUE=DATE:20251128
DTEND;VALUE=DATE:20251129
DTSTAMP:20260424T075704
CREATED:20251121T154429Z
LAST-MODIFIED:20251121T154429Z
UID:92157-1764288000-1764374399@www.whattododigital.com
SUMMARY:Lumina Returns to Harvest Moon for the Holidays
DESCRIPTION:Lumina Returns to Harvest Moon for the Holidays \nA Magical Light Experience! \nImmerse yourself in the warmth and magic of Harvest Moon Farm & Orchard’s enchanting\, illuminated forest. Over half a million brilliant lights will create a cozy and inviting glow\, filling the air with holiday cheer. \nCheck dates and times. \nHarvest Moon Farm & Orchard
URL:https://www.whattododigital.com/event/lumina-returns-to-harvest-moon-for-the-holidays-4/
LOCATION:Harvest Moon Farm & Orchard
CATEGORIES:Holidays,Kids
ATTACH;FMTTYPE=image/jpeg:https://www.whattododigital.com/wp-content/uploads/2025/11/Harvest-Moon_lumina-copy.jpg
END:VEVENT
BEGIN:VEVENT
DTSTART;TZID=America/New_York:20251129T080000
DTEND;TZID=America/New_York:20251129T170000
DTSTAMP:20260424T075704
CREATED:20251121T154612Z
LAST-MODIFIED:20251121T154612Z
UID:92160-1764403200-1764435600@www.whattododigital.com
SUMMARY:Lumina Returns to Harvest Moon for the Holidays
DESCRIPTION:Lumina Returns to Harvest Moon for the Holidays \nA Magical Light Experience! \nImmerse yourself in the warmth and magic of Harvest Moon Farm & Orchard’s enchanting\, illuminated forest. Over half a million brilliant lights will create a cozy and inviting glow\, filling the air with holiday cheer. \nCheck dates and times. \nHarvest Moon Farm & Orchard
URL:https://www.whattododigital.com/event/lumina-returns-to-harvest-moon-for-the-holidays-5/
LOCATION:Harvest Moon Farm & Orchard
CATEGORIES:Holidays,Kids
ATTACH;FMTTYPE=image/jpeg:https://www.whattododigital.com/wp-content/uploads/2025/11/Harvest-Moon_lumina-copy.jpg
END:VEVENT
BEGIN:VEVENT
DTSTART;VALUE=DATE:20251130
DTEND;VALUE=DATE:20251201
DTSTAMP:20260424T075704
CREATED:20251121T154722Z
LAST-MODIFIED:20251121T213212Z
UID:92163-1764460800-1764547199@www.whattododigital.com
SUMMARY:Lumina Returns to Harvest Moon for the Holidays
DESCRIPTION:Lumina Returns to Harvest Moon for the Holidays \nA Magical Light Experience! \nImmerse yourself in the warmth and magic of Harvest Moon Farm & Orchard’s enchanting\, illuminated forest. Over half a million brilliant lights will create a cozy and inviting glow\, filling the air with holiday cheer. \nCheck dates and times. \nHarvest Moon Farm & Orchard
URL:https://www.whattododigital.com/event/lumina-returns-to-harvest-moon-for-the-holidays-6/
LOCATION:Harvest Moon Farm & Orchard
CATEGORIES:Holidays,Kids
ATTACH;FMTTYPE=image/jpeg:https://www.whattododigital.com/wp-content/uploads/2025/11/Harvest-Moon_lumina-copy.jpg
END:VEVENT
END:VCALENDAR