BEGIN:VCALENDAR
VERSION:2.0
PRODID:-//What To Do - ECPv6.15.20//NONSGML v1.0//EN
CALSCALE:GREGORIAN
METHOD:PUBLISH
X-WR-CALNAME:What To Do
X-ORIGINAL-URL:https://www.whattododigital.com
X-WR-CALDESC:Events for What To Do
REFRESH-INTERVAL;VALUE=DURATION:PT1H
X-Robots-Tag:noindex
X-PUBLISHED-TTL:PT1H
BEGIN:VTIMEZONE
TZID:America/New_York
BEGIN:DAYLIGHT
TZOFFSETFROM:-0500
TZOFFSETTO:-0400
TZNAME:EDT
DTSTART:20250309T070000
END:DAYLIGHT
BEGIN:STANDARD
TZOFFSETFROM:-0400
TZOFFSETTO:-0500
TZNAME:EST
DTSTART:20251102T060000
END:STANDARD
BEGIN:DAYLIGHT
TZOFFSETFROM:-0500
TZOFFSETTO:-0400
TZNAME:EDT
DTSTART:20260308T070000
END:DAYLIGHT
BEGIN:STANDARD
TZOFFSETFROM:-0400
TZOFFSETTO:-0500
TZNAME:EST
DTSTART:20261101T060000
END:STANDARD
BEGIN:DAYLIGHT
TZOFFSETFROM:-0500
TZOFFSETTO:-0400
TZNAME:EDT
DTSTART:20270314T070000
END:DAYLIGHT
BEGIN:STANDARD
TZOFFSETFROM:-0400
TZOFFSETTO:-0500
TZNAME:EST
DTSTART:20271107T060000
END:STANDARD
END:VTIMEZONE
BEGIN:VEVENT
DTSTART;VALUE=DATE:20260227
DTEND;VALUE=DATE:20260228
DTSTAMP:20260423T214942
CREATED:20260217T222303Z
LAST-MODIFIED:20260217T222303Z
UID:93772-1772150400-1772236799@www.whattododigital.com
SUMMARY:Epic: Elvis Presley in Concert
DESCRIPTION:Epic: Elvis Presley in Concert \n\nDirected with Luhrmann’s signature stylistic flair\, EPiC features never-before-seen footage and recordings of Elvis Presley in concert at his Las Vegas residency during the later stage of his career. \n\n\nJacob Burns Film Center \nMore Dates & Times\n\n\nFriday\, Feb 27\n1:45 4:45 7:30\n\n\nSaturday\, Feb 28\n11:30 1:45 4:30 7:00\n\n\nSunday\, Mar 1\n11:30oc 1:45 4:30 7:00\n\n\nMonday\, Mar 2\n4:45oc 7:20oc\n\n\nTuesday\, Mar 3\n4:45 7:20\n\n\nWednesday\, Mar 4\n1:45oc 4:45 7:20\n\n\nThursday\, Mar 5\n4:45 7:20
URL:https://www.whattododigital.com/event/epic-elvis-presley-in-concert/
LOCATION:Jacob Burns Film Center
CATEGORIES:Movies
ATTACH;FMTTYPE=image/jpeg:https://www.whattododigital.com/wp-content/uploads/2026/02/JBFC_EPiC-Featured.jpeg
END:VEVENT
END:VCALENDAR