BEGIN:VCALENDAR
VERSION:2.0
PRODID:-//What To Do - ECPv6.15.20//NONSGML v1.0//EN
CALSCALE:GREGORIAN
METHOD:PUBLISH
X-WR-CALNAME:What To Do
X-ORIGINAL-URL:https://www.whattododigital.com
X-WR-CALDESC:Events for What To Do
REFRESH-INTERVAL;VALUE=DURATION:PT1H
X-Robots-Tag:noindex
X-PUBLISHED-TTL:PT1H
BEGIN:VTIMEZONE
TZID:America/New_York
BEGIN:DAYLIGHT
TZOFFSETFROM:-0500
TZOFFSETTO:-0400
TZNAME:EDT
DTSTART:20250309T070000
END:DAYLIGHT
BEGIN:STANDARD
TZOFFSETFROM:-0400
TZOFFSETTO:-0500
TZNAME:EST
DTSTART:20251102T060000
END:STANDARD
BEGIN:DAYLIGHT
TZOFFSETFROM:-0500
TZOFFSETTO:-0400
TZNAME:EDT
DTSTART:20260308T070000
END:DAYLIGHT
BEGIN:STANDARD
TZOFFSETFROM:-0400
TZOFFSETTO:-0500
TZNAME:EST
DTSTART:20261101T060000
END:STANDARD
BEGIN:DAYLIGHT
TZOFFSETFROM:-0500
TZOFFSETTO:-0400
TZNAME:EDT
DTSTART:20270314T070000
END:DAYLIGHT
BEGIN:STANDARD
TZOFFSETFROM:-0400
TZOFFSETTO:-0500
TZNAME:EST
DTSTART:20271107T060000
END:STANDARD
END:VTIMEZONE
BEGIN:VEVENT
DTSTART;TZID=America/New_York:20260423T160000
DTEND;TZID=America/New_York:20260423T160000
DTSTAMP:20260423T040952
CREATED:20260406T155521Z
LAST-MODIFIED:20260406T155521Z
UID:94285-1776960000-1776960000@www.whattododigital.com
SUMMARY:JBFC: Frederick Wiseman's America— Domestic Violence
DESCRIPTION:JBFC: Frederick Wiseman’s America— Domestic Violence \nDomestic Violence shows the police in Tampa\, Florida as they respond to domestic violence calls\, in addition to the work of The Spring\, the principal shelter in Tampa for women and children. Sequences with the police include police response\, intervention\, and attempted resolution of domestic violence calls. Sequences at the shelter include intake interviews\, individual counseling sessions\, anger management training\, group therapy\, conversations among clients and between clients and staff\, and staff meetings\, along with school activities\, therapy\, and counseling for children at the shelter. \nJacob Burns Film Center
URL:https://www.whattododigital.com/event/jbfc-frederick-wisemans-america-domestic-violence/
LOCATION:Jacob Burns Film Center
CATEGORIES:Movies
ATTACH;FMTTYPE=image/jpeg:https://www.whattododigital.com/wp-content/uploads/2026/04/JBFC_Wiseman_DomesticViolence.jpg
END:VEVENT
BEGIN:VEVENT
DTSTART;TZID=America/New_York:20260424T130000
DTEND;TZID=America/New_York:20260424T130000
DTSTAMP:20260423T040952
CREATED:20260406T160119Z
LAST-MODIFIED:20260420T192558Z
UID:94294-1777035600-1777035600@www.whattododigital.com
SUMMARY:JBFC: Frederick Wiseman's America: Belfast Maine
DESCRIPTION:JBFC: Frederick Wiseman’s America: Belfast Maine \nBelfast\, Maine is a film about ordinary experience in a beautiful old New England port city. It is a portrait of daily life with particular emphasis on the work and the cultural life of the community. Among the activities shown in the film are the work of lobstermen\, tug-boat operators\, factory workers\, shop owners\, city counselors\, doctors\, judges\, policemen\, teachers\, social workers\, nurses and ministers. Cultural activities include choir rehearsal\, dance class\, music lessons and theatre production. \nJacob Burns Film Center
URL:https://www.whattododigital.com/event/jbfc-fredeerick-wisemans-america-belfast-maine/
LOCATION:Jacob Burns Film Center
CATEGORIES:Movies
ATTACH;FMTTYPE=image/jpeg:https://www.whattododigital.com/wp-content/uploads/2026/04/JBFC_Wiseman_BelfastMaine.jpg
END:VEVENT
BEGIN:VEVENT
DTSTART;TZID=America/New_York:20260424T180000
DTEND;TZID=America/New_York:20260424T180000
DTSTAMP:20260423T040952
CREATED:20260406T160242Z
LAST-MODIFIED:20260406T160242Z
UID:94298-1777053600-1777053600@www.whattododigital.com
SUMMARY:JBFC: Frederick Wiseman's America: Belfast Maine
DESCRIPTION:JBFC: Frederick Wiseman’s America: Belfast Maine \nBelfast\, Maine is a film about ordinary experience in a beautiful old New England port city. It is a portrait of daily life with particular emphasis on the work and the cultural life of the community. Among the activities shown in the film are the work of lobstermen\, tug-boat operators\, factory workers\, shop owners\, city counselors\, doctors\, judges\, policemen\, teachers\, social workers\, nurses and ministers. Cultural activities include choir rehearsal\, dance class\, music lessons and theatre production. \nJacob Burns Film Center
URL:https://www.whattododigital.com/event/jbfc-frederick-wisemans-america-belfast-maine/
LOCATION:Jacob Burns Film Center
CATEGORIES:Movies
ATTACH;FMTTYPE=image/jpeg:https://www.whattododigital.com/wp-content/uploads/2026/04/JBFC_Wiseman_BelfastMaine.jpg
END:VEVENT
BEGIN:VEVENT
DTSTART;TZID=America/New_York:20260425T130000
DTEND;TZID=America/New_York:20260425T130000
DTSTAMP:20260423T040952
CREATED:20260406T155117Z
LAST-MODIFIED:20260406T155117Z
UID:94282-1777122000-1777122000@www.whattododigital.com
SUMMARY:JBFC: Frederick Wiseman's America— Public Housing
DESCRIPTION:JBFC: Frederick Wiseman’s America— Public Housing \nPublic Housing documents daily life at the Ida B. Wells public housing development in Chicago. The film illustrates some of the experiences of people living in conditions of extreme poverty. Events shown include the work of the tenants councils\, street life\, the role of police\, job training programs\, drug education\, teenage mothers\, dysfunctional families\, elderly residents\, nursery school\, and after school teenage programs\, along with the activities of the city\, state\, and federal governments in maintaining and changing public housing. \nJacob Burns Film Center
URL:https://www.whattododigital.com/event/jbfc-frederick-wisemans-america-public-housing-2/
LOCATION:Jacob Burns Film Center
CATEGORIES:Movies
ATTACH;FMTTYPE=image/jpeg:https://www.whattododigital.com/wp-content/uploads/2026/04/JBFC_Wiseman_PublicHousing.jpg
END:VEVENT
BEGIN:VEVENT
DTSTART;TZID=America/New_York:20260426T130000
DTEND;TZID=America/New_York:20260426T130000
DTSTAMP:20260423T040952
CREATED:20260406T155640Z
LAST-MODIFIED:20260406T155640Z
UID:94291-1777208400-1777208400@www.whattododigital.com
SUMMARY:JBFC: Frederick Wiseman's America— Domestic Violence
DESCRIPTION:JBFC: Frederick Wiseman’s America— Domestic Violence \nDomestic Violence shows the police in Tampa\, Florida as they respond to domestic violence calls\, in addition to the work of The Spring\, the principal shelter in Tampa for women and children. Sequences with the police include police response\, intervention\, and attempted resolution of domestic violence calls. Sequences at the shelter include intake interviews\, individual counseling sessions\, anger management training\, group therapy\, conversations among clients and between clients and staff\, and staff meetings\, along with school activities\, therapy\, and counseling for children at the shelter. \nJacob Burns Film Center
URL:https://www.whattododigital.com/event/jbfc-frederick-wisemans-america-domestic-violence-2/
LOCATION:Jacob Burns Film Center
CATEGORIES:Movies
ATTACH;FMTTYPE=image/jpeg:https://www.whattododigital.com/wp-content/uploads/2026/04/JBFC_Wiseman_DomesticViolence.jpg
END:VEVENT
BEGIN:VEVENT
DTSTART;TZID=America/New_York:20260428T183000
DTEND;TZID=America/New_York:20260428T183000
DTSTAMP:20260423T040952
CREATED:20260406T160645Z
LAST-MODIFIED:20260406T160645Z
UID:94301-1777401000-1777401000@www.whattododigital.com
SUMMARY:JBFC: Frederick Wiseman's America— In Jackson Heights
DESCRIPTION:JBFC: Frederick Wiseman’s America— In Jackson Heights \nSet in the neighborhood of Jackson Heights in Queens\, New York—one of the most racially and ethically diverse communities in the United States—In Jackson Heights centers on the daily lives of the people in this community: from their businesses\, community centers\, and religious spaces\, to their political\, cultural and\, social lives. The film also explores the conflict some residents of Jackson Heights feel between maintaining ties to the traditions of their countries of origin and the obligation they feel to learn and adapt to “American” ways and values. \nJacob Burns Film Center
URL:https://www.whattododigital.com/event/jbfc-frederick-wisemans-america-in-jackson-heights/
LOCATION:Jacob Burns Film Center
CATEGORIES:Movies
ATTACH;FMTTYPE=image/jpeg:https://www.whattododigital.com/wp-content/uploads/2026/04/JBFC_Wiseman_InJacksonHeights.jpg
END:VEVENT
BEGIN:VEVENT
DTSTART;TZID=America/New_York:20260430T183000
DTEND;TZID=America/New_York:20260430T183000
DTSTAMP:20260423T040952
CREATED:20260406T161233Z
LAST-MODIFIED:20260406T161233Z
UID:94309-1777573800-1777573800@www.whattododigital.com
SUMMARY:JBFC: Frederick Wiseman's America— Ex Libris: The New York Public Library
DESCRIPTION:JBFC: Frederick Wiseman’s America— Ex Libris: The New York Public Library \nEx Libris: The New York Public Library goes behind the scenes of one of the greatest knowledge institutions in the world and reveals it as a welcoming place of cultural exchange and learning. With 92 locations throughout Manhattan\, the Bronx\, and Staten Island\, the library is committed to being a resource for all the inhabitants of this multifaceted and cosmopolitan city. The New York Public Library exemplifies the deeply rooted American belief in the individual’s right to know and be informed. \nJacob Burns Film Center
URL:https://www.whattododigital.com/event/jbfc-frederick-wisemans-america-ex-libris-the-new-york-public-library/
LOCATION:Jacob Burns Film Center
CATEGORIES:Movies
ATTACH;FMTTYPE=image/jpeg:https://www.whattododigital.com/wp-content/uploads/2026/04/JBFC_Wiseman_ExLibris.jpg
END:VEVENT
END:VCALENDAR