BEGIN:VCALENDAR
VERSION:2.0
PRODID:-//What To Do - ECPv6.15.20//NONSGML v1.0//EN
CALSCALE:GREGORIAN
METHOD:PUBLISH
X-ORIGINAL-URL:https://www.whattododigital.com
X-WR-CALDESC:Events for What To Do
REFRESH-INTERVAL;VALUE=DURATION:PT1H
X-Robots-Tag:noindex
X-PUBLISHED-TTL:PT1H
BEGIN:VTIMEZONE
TZID:America/New_York
BEGIN:DAYLIGHT
TZOFFSETFROM:-0500
TZOFFSETTO:-0400
TZNAME:EDT
DTSTART:20240310T070000
END:DAYLIGHT
BEGIN:STANDARD
TZOFFSETFROM:-0400
TZOFFSETTO:-0500
TZNAME:EST
DTSTART:20241103T060000
END:STANDARD
BEGIN:DAYLIGHT
TZOFFSETFROM:-0500
TZOFFSETTO:-0400
TZNAME:EDT
DTSTART:20250309T070000
END:DAYLIGHT
BEGIN:STANDARD
TZOFFSETFROM:-0400
TZOFFSETTO:-0500
TZNAME:EST
DTSTART:20251102T060000
END:STANDARD
BEGIN:DAYLIGHT
TZOFFSETFROM:-0500
TZOFFSETTO:-0400
TZNAME:EDT
DTSTART:20260308T070000
END:DAYLIGHT
BEGIN:STANDARD
TZOFFSETFROM:-0400
TZOFFSETTO:-0500
TZNAME:EST
DTSTART:20261101T060000
END:STANDARD
END:VTIMEZONE
BEGIN:VEVENT
DTSTART;TZID=America/New_York:20250920T110000
DTEND;TZID=America/New_York:20250920T150000
DTSTAMP:20260424T093034
CREATED:20250825T150544Z
LAST-MODIFIED:20250825T150544Z
UID:88702-1758366000-1758380400@www.whattododigital.com
SUMMARY:Muscoot Farm Annual Scarecrow Making
DESCRIPTION:Muscoot Farm Annual Scarecrow Making \nJoin Muscoot Farm for their second annual scarecrow-making contest! \nAll scarecrows made during this event will be displayed around the farm during our pumpkin-picking weekend. The public will have the opportunity to vote for their favorite scarecrow. The top three scarecrows will receive a Muscoot Farm themed prize. We will supply the hay\, bamboo frame\, twine and burlap for the head\, and you bring everything you need to dress and decorate your scarecrow. \nPre-registration for either a morning or afternoon session is required! $10/family (scarecrow). Spots are limited! \nMuscoot Farm
URL:https://www.whattododigital.com/event/muscoot-farm-annual-scarecrow-making/
LOCATION:Muscoot Farm
CATEGORIES:Kids
ATTACH;FMTTYPE=image/jpeg:https://www.whattododigital.com/wp-content/uploads/2025/08/Muscoot-scarecrow.jpg
END:VEVENT
BEGIN:VEVENT
DTSTART;TZID=America/New_York:20250920T110000
DTEND;TZID=America/New_York:20250920T150000
DTSTAMP:20260424T093034
CREATED:20250825T150544Z
LAST-MODIFIED:20250825T150544Z
UID:88702-1758366000-1758380400@www.whattododigital.com
SUMMARY:Muscoot Farm Annual Scarecrow Making
DESCRIPTION:Muscoot Farm Annual Scarecrow Making \nJoin Muscoot Farm for their second annual scarecrow-making contest! \nAll scarecrows made during this event will be displayed around the farm during our pumpkin-picking weekend. The public will have the opportunity to vote for their favorite scarecrow. The top three scarecrows will receive a Muscoot Farm themed prize. We will supply the hay\, bamboo frame\, twine and burlap for the head\, and you bring everything you need to dress and decorate your scarecrow. \nPre-registration for either a morning or afternoon session is required! $10/family (scarecrow). Spots are limited! \nMuscoot Farm
URL:https://www.whattododigital.com/event/muscoot-farm-annual-scarecrow-making/
LOCATION:Muscoot Farm
CATEGORIES:Kids
ATTACH;FMTTYPE=image/jpeg:https://www.whattododigital.com/wp-content/uploads/2025/08/Muscoot-scarecrow.jpg
END:VEVENT
END:VCALENDAR