BEGIN:VCALENDAR
VERSION:2.0
PRODID:-//What To Do - ECPv6.15.20//NONSGML v1.0//EN
CALSCALE:GREGORIAN
METHOD:PUBLISH
X-ORIGINAL-URL:https://www.whattododigital.com
X-WR-CALDESC:Events for What To Do
REFRESH-INTERVAL;VALUE=DURATION:PT1H
X-Robots-Tag:noindex
X-PUBLISHED-TTL:PT1H
BEGIN:VTIMEZONE
TZID:America/New_York
BEGIN:DAYLIGHT
TZOFFSETFROM:-0500
TZOFFSETTO:-0400
TZNAME:EDT
DTSTART:20250309T070000
END:DAYLIGHT
BEGIN:STANDARD
TZOFFSETFROM:-0400
TZOFFSETTO:-0500
TZNAME:EST
DTSTART:20251102T060000
END:STANDARD
BEGIN:DAYLIGHT
TZOFFSETFROM:-0500
TZOFFSETTO:-0400
TZNAME:EDT
DTSTART:20260308T070000
END:DAYLIGHT
BEGIN:STANDARD
TZOFFSETFROM:-0400
TZOFFSETTO:-0500
TZNAME:EST
DTSTART:20261101T060000
END:STANDARD
BEGIN:DAYLIGHT
TZOFFSETFROM:-0500
TZOFFSETTO:-0400
TZNAME:EDT
DTSTART:20270314T070000
END:DAYLIGHT
BEGIN:STANDARD
TZOFFSETFROM:-0400
TZOFFSETTO:-0500
TZNAME:EST
DTSTART:20271107T060000
END:STANDARD
END:VTIMEZONE
BEGIN:VEVENT
DTSTART;TZID=America/New_York:20260412T110000
DTEND;TZID=America/New_York:20260412T120000
DTSTAMP:20260424T194340
CREATED:20260330T193416Z
LAST-MODIFIED:20260330T193416Z
UID:94168-1775991600-1775995200@www.whattododigital.com
SUMMARY:Muscoot Farm: Animal Interactions
DESCRIPTION:Muscoot Farm: Animal Interactions \nEnter one of Muscoot Farm’s enclosures where you will see\, touch\, and learn more about an animal of the farmer’s choice! Available only to those ages 8+ with pre-registration required online; tickets are $25 for a group of two (one adult\, one child as adult supervision is required\, or two adults). Please meet at the Reception Center upon arrival with sturdy\, closed-toe footwear. \nMuscoot Farm
URL:https://www.whattododigital.com/event/muscoot-farm-animal-interactions/
LOCATION:Muscoot Farm
ATTACH;FMTTYPE=image/jpeg:https://www.whattododigital.com/wp-content/uploads/2026/03/muscoot_animalinteractn.jpg
END:VEVENT
END:VCALENDAR