BEGIN:VCALENDAR
VERSION:2.0
PRODID:-//What To Do - ECPv6.15.20//NONSGML v1.0//EN
CALSCALE:GREGORIAN
METHOD:PUBLISH
X-ORIGINAL-URL:https://www.whattododigital.com
X-WR-CALDESC:Events for What To Do
REFRESH-INTERVAL;VALUE=DURATION:PT1H
X-Robots-Tag:noindex
X-PUBLISHED-TTL:PT1H
BEGIN:VTIMEZONE
TZID:America/New_York
BEGIN:DAYLIGHT
TZOFFSETFROM:-0500
TZOFFSETTO:-0400
TZNAME:EDT
DTSTART:20250309T070000
END:DAYLIGHT
BEGIN:STANDARD
TZOFFSETFROM:-0400
TZOFFSETTO:-0500
TZNAME:EST
DTSTART:20251102T060000
END:STANDARD
BEGIN:DAYLIGHT
TZOFFSETFROM:-0500
TZOFFSETTO:-0400
TZNAME:EDT
DTSTART:20260308T070000
END:DAYLIGHT
BEGIN:STANDARD
TZOFFSETFROM:-0400
TZOFFSETTO:-0500
TZNAME:EST
DTSTART:20261101T060000
END:STANDARD
BEGIN:DAYLIGHT
TZOFFSETFROM:-0500
TZOFFSETTO:-0400
TZNAME:EDT
DTSTART:20270314T070000
END:DAYLIGHT
BEGIN:STANDARD
TZOFFSETFROM:-0400
TZOFFSETTO:-0500
TZNAME:EST
DTSTART:20271107T060000
END:STANDARD
END:VTIMEZONE
BEGIN:VEVENT
DTSTART;TZID=America/New_York:20260417T193000
DTEND;TZID=America/New_York:20260417T193000
DTSTAMP:20260423T123321
CREATED:20260302T203332Z
LAST-MODIFIED:20260302T203332Z
UID:93826-1776454200-1776454200@www.whattododigital.com
SUMMARY:Palace Theatre: An Evening of Alton Brown
DESCRIPTION:Palace Theatre: An Evening of Alton Brown \nBest known for creating and hosting groundbreaking television such as Good Eats\, Iron Chef America\, Cutthroat Kitchen\, and Food Network Star\, Brown has also built one of the most successful culinary touring franchises ever\, performing live in more than 300 cities for well over half a million fans. With An Evening of Alton Brown\, he strips away the spectacle in favor of connection\, spontaneity\, and storytelling\, delivering a show that is equal parts humor\, science\, food\, and heart. \nPalace Theatre
URL:https://www.whattododigital.com/event/palace-theatre-an-evening-of-alton-brown/
LOCATION:The Palace Theatre
CATEGORIES:Arts
ATTACH;FMTTYPE=image/jpeg:https://www.whattododigital.com/wp-content/uploads/2026/03/Palace_Altonbrown.jpeg
END:VEVENT
END:VCALENDAR