BEGIN:VCALENDAR
VERSION:2.0
PRODID:-//What To Do - ECPv6.15.20//NONSGML v1.0//EN
CALSCALE:GREGORIAN
METHOD:PUBLISH
X-ORIGINAL-URL:https://www.whattododigital.com
X-WR-CALDESC:Events for What To Do
REFRESH-INTERVAL;VALUE=DURATION:PT1H
X-Robots-Tag:noindex
X-PUBLISHED-TTL:PT1H
BEGIN:VTIMEZONE
TZID:America/New_York
BEGIN:DAYLIGHT
TZOFFSETFROM:-0500
TZOFFSETTO:-0400
TZNAME:EDT
DTSTART:20240310T070000
END:DAYLIGHT
BEGIN:STANDARD
TZOFFSETFROM:-0400
TZOFFSETTO:-0500
TZNAME:EST
DTSTART:20241103T060000
END:STANDARD
BEGIN:DAYLIGHT
TZOFFSETFROM:-0500
TZOFFSETTO:-0400
TZNAME:EDT
DTSTART:20250309T070000
END:DAYLIGHT
BEGIN:STANDARD
TZOFFSETFROM:-0400
TZOFFSETTO:-0500
TZNAME:EST
DTSTART:20251102T060000
END:STANDARD
BEGIN:DAYLIGHT
TZOFFSETFROM:-0500
TZOFFSETTO:-0400
TZNAME:EDT
DTSTART:20260308T070000
END:DAYLIGHT
BEGIN:STANDARD
TZOFFSETFROM:-0400
TZOFFSETTO:-0500
TZNAME:EST
DTSTART:20261101T060000
END:STANDARD
END:VTIMEZONE
BEGIN:VEVENT
DTSTART;TZID=America/New_York:20251206T200000
DTEND;TZID=America/New_York:20251206T200000
DTSTAMP:20260424T121728
CREATED:20251118T221427Z
LAST-MODIFIED:20251118T221427Z
UID:92018-1765051200-1765051200@www.whattododigital.com
SUMMARY:Paramount Hudson Valley: Jane Lynch's A Swinging Christmas
DESCRIPTION:Paramount Hudson Valley: Jane Lynch’s A Swinging Christmas \nClassic holiday tunes come to life as Jane Lynch\, Kate Flannery\, Tim Davis\, and the Tony Guerrero Quintet take the stage in “A Swingin’ Little Christmas.” Their holiday album “A Swingin’ Little Christmas” hit Billboard’s Top 10 Adult Contemporary chart. Hollywood Digest calls the music “captivating\,” the comedy “spectacular” and the vibe “absolutely precious.” \nParamount Hudson Valley
URL:https://www.whattododigital.com/event/paramount-hudson-valley-jane-lynchs-a-swinging-christmas/
LOCATION:Paramount Hudson Valley
CATEGORIES:Holidays
ATTACH;FMTTYPE=image/jpeg:https://www.whattododigital.com/wp-content/uploads/2025/11/Paramount_Jane-Lynch-A-Swingin-Little-Christmas.jpeg
END:VEVENT
END:VCALENDAR