BEGIN:VCALENDAR
VERSION:2.0
PRODID:-//What To Do - ECPv6.15.20//NONSGML v1.0//EN
CALSCALE:GREGORIAN
METHOD:PUBLISH
X-ORIGINAL-URL:https://www.whattododigital.com
X-WR-CALDESC:Events for What To Do
REFRESH-INTERVAL;VALUE=DURATION:PT1H
X-Robots-Tag:noindex
X-PUBLISHED-TTL:PT1H
BEGIN:VTIMEZONE
TZID:America/New_York
BEGIN:DAYLIGHT
TZOFFSETFROM:-0500
TZOFFSETTO:-0400
TZNAME:EDT
DTSTART:20250309T070000
END:DAYLIGHT
BEGIN:STANDARD
TZOFFSETFROM:-0400
TZOFFSETTO:-0500
TZNAME:EST
DTSTART:20251102T060000
END:STANDARD
BEGIN:DAYLIGHT
TZOFFSETFROM:-0500
TZOFFSETTO:-0400
TZNAME:EDT
DTSTART:20260308T070000
END:DAYLIGHT
BEGIN:STANDARD
TZOFFSETFROM:-0400
TZOFFSETTO:-0500
TZNAME:EST
DTSTART:20261101T060000
END:STANDARD
BEGIN:DAYLIGHT
TZOFFSETFROM:-0500
TZOFFSETTO:-0400
TZNAME:EDT
DTSTART:20270314T070000
END:DAYLIGHT
BEGIN:STANDARD
TZOFFSETFROM:-0400
TZOFFSETTO:-0500
TZNAME:EST
DTSTART:20271107T060000
END:STANDARD
END:VTIMEZONE
BEGIN:VEVENT
DTSTART;TZID=America/New_York:20260418T200000
DTEND;TZID=America/New_York:20260418T200000
DTSTAMP:20260424T025935
CREATED:20260105T214205Z
LAST-MODIFIED:20260105T214205Z
UID:93196-1776542400-1776542400@www.whattododigital.com
SUMMARY:Paramount Hudson Valley: An Evening With Audra McDonald
DESCRIPTION:Paramount Hudson Valley: An Evening With Audra McDonald \nWith a record-breaking six Tony Awards\, two Grammys\, and an Emmy to her name\, McDonald’s artistry defies category—equally radiant in opera\, Broadway\, film\, and television. Her extraordinary vocal range and emotional depth have made her a defining voice of her generation\, both on stage and in the concert hall. \nParamount Hudson Valley
URL:https://www.whattododigital.com/event/paramount-hudson-valley-an-evening-with-audra-mcdonald/
LOCATION:Paramount Hudson Valley
CATEGORIES:Arts,Music
ATTACH;FMTTYPE=image/jpeg:https://www.whattododigital.com/wp-content/uploads/2026/01/Paramount_Audra-McDonald-copy.jpg
END:VEVENT
END:VCALENDAR