BEGIN:VCALENDAR
VERSION:2.0
PRODID:-//What To Do - ECPv6.15.20//NONSGML v1.0//EN
CALSCALE:GREGORIAN
METHOD:PUBLISH
X-ORIGINAL-URL:https://www.whattododigital.com
X-WR-CALDESC:Events for What To Do
REFRESH-INTERVAL;VALUE=DURATION:PT1H
X-Robots-Tag:noindex
X-PUBLISHED-TTL:PT1H
BEGIN:VTIMEZONE
TZID:America/New_York
BEGIN:DAYLIGHT
TZOFFSETFROM:-0500
TZOFFSETTO:-0400
TZNAME:EDT
DTSTART:20250309T070000
END:DAYLIGHT
BEGIN:STANDARD
TZOFFSETFROM:-0400
TZOFFSETTO:-0500
TZNAME:EST
DTSTART:20251102T060000
END:STANDARD
BEGIN:DAYLIGHT
TZOFFSETFROM:-0500
TZOFFSETTO:-0400
TZNAME:EDT
DTSTART:20260308T070000
END:DAYLIGHT
BEGIN:STANDARD
TZOFFSETFROM:-0400
TZOFFSETTO:-0500
TZNAME:EST
DTSTART:20261101T060000
END:STANDARD
BEGIN:DAYLIGHT
TZOFFSETFROM:-0500
TZOFFSETTO:-0400
TZNAME:EDT
DTSTART:20270314T070000
END:DAYLIGHT
BEGIN:STANDARD
TZOFFSETFROM:-0400
TZOFFSETTO:-0500
TZNAME:EST
DTSTART:20271107T060000
END:STANDARD
END:VTIMEZONE
BEGIN:VEVENT
DTSTART;TZID=America/New_York:20260424T200000
DTEND;TZID=America/New_York:20260424T200000
DTSTAMP:20260423T211759
CREATED:20260417T142910Z
LAST-MODIFIED:20260417T142910Z
UID:94396-1777060800-1777060800@www.whattododigital.com
SUMMARY:Paramount Hudson Valley: Best of The Eagles
DESCRIPTION:Paramount Hudson Valley: Best of The Eagles \nBest of the Eagles captures the essence of the Eagles’ timeless music. Each member of this extraordinary ensemble mirrors their counterpart in the Eagles both instrumentally and vocally\, delivering an authentic and unforgettable experience. \nParamount Hudson Valley
URL:https://www.whattododigital.com/event/paramount-hudson-valley-best-of-the-eagles/
LOCATION:Paramount Hudson Valley
CATEGORIES:Music
ATTACH;FMTTYPE=image/jpeg:https://www.whattododigital.com/wp-content/uploads/2026/04/Paramount_Best-of-the-Eagles-copy.jpg
END:VEVENT
BEGIN:VEVENT
DTSTART;TZID=America/New_York:20260430T200000
DTEND;TZID=America/New_York:20260430T200000
DTSTAMP:20260423T211759
CREATED:20260417T143727Z
LAST-MODIFIED:20260417T143727Z
UID:94402-1777579200-1777579200@www.whattododigital.com
SUMMARY:Paramount Hudson Valley: Adam Ray: Who Is Me Tour
DESCRIPTION:Paramount Hudson Valley: Adam Ray: Who Is Me Tour \nAdam Ray’s portfolio includes notable roles in Curb Your Enthusiasm\, and The Barbie Movie. His debut Netflix special\, Dr. Phil UNLEASHED climbed to #3 on Netflix’s Top 10. In the digital space\, his portrayal of Joe Biden on Kill Tony has amassed over 30 million views. \nParamount Hudson Valley
URL:https://www.whattododigital.com/event/paramount-hudson-valley-adam-ray-who-is-me-tour/
LOCATION:Paramount Hudson Valley
CATEGORIES:Arts
ATTACH;FMTTYPE=image/jpeg:https://www.whattododigital.com/wp-content/uploads/2026/04/Paramount-_damray-copy.jpg
END:VEVENT
END:VCALENDAR