BEGIN:VCALENDAR
VERSION:2.0
PRODID:-//What To Do - ECPv6.15.20//NONSGML v1.0//EN
CALSCALE:GREGORIAN
METHOD:PUBLISH
X-ORIGINAL-URL:https://www.whattododigital.com
X-WR-CALDESC:Events for What To Do
REFRESH-INTERVAL;VALUE=DURATION:PT1H
X-Robots-Tag:noindex
X-PUBLISHED-TTL:PT1H
BEGIN:VTIMEZONE
TZID:America/New_York
BEGIN:DAYLIGHT
TZOFFSETFROM:-0500
TZOFFSETTO:-0400
TZNAME:EDT
DTSTART:20250309T070000
END:DAYLIGHT
BEGIN:STANDARD
TZOFFSETFROM:-0400
TZOFFSETTO:-0500
TZNAME:EST
DTSTART:20251102T060000
END:STANDARD
BEGIN:DAYLIGHT
TZOFFSETFROM:-0500
TZOFFSETTO:-0400
TZNAME:EDT
DTSTART:20260308T070000
END:DAYLIGHT
BEGIN:STANDARD
TZOFFSETFROM:-0400
TZOFFSETTO:-0500
TZNAME:EST
DTSTART:20261101T060000
END:STANDARD
BEGIN:DAYLIGHT
TZOFFSETFROM:-0500
TZOFFSETTO:-0400
TZNAME:EDT
DTSTART:20270314T070000
END:DAYLIGHT
BEGIN:STANDARD
TZOFFSETFROM:-0400
TZOFFSETTO:-0500
TZNAME:EST
DTSTART:20271107T060000
END:STANDARD
END:VTIMEZONE
BEGIN:VEVENT
DTSTART;TZID=America/New_York:20260418T193000
DTEND;TZID=America/New_York:20260418T193000
DTSTAMP:20260423T040442
CREATED:20260102T181107Z
LAST-MODIFIED:20260102T181107Z
UID:92963-1776540600-1776540600@www.whattododigital.com
SUMMARY:Performing Arts Center Purchase: Michael Feinstein and the Carnegie Hall Ensemble
DESCRIPTION:Performing Arts Center Purchase: Michael Feinstein and the Carnegie Hall Ensemble \nWith the greatest contemporary jazz musicians\, Michael Feinstein swings the songbook into the 21st century. Featuring music from quintessential shows such as Cabaret\, Hello Dolly\, and Fiddler on the Roof to Into the Woods\, and Chicago\, Big Band Broadway delivers modern and classic showtunes with the timeless tradition of Carnegie Hall in a way that only Michael Feinstein can do. \nPerforming Arts Center Purchase
URL:https://www.whattododigital.com/event/performing-arts-center-purchase-michael-feinstein-and-the-carnegie-hall-ensemble/
LOCATION:The Performing Arts Center Purchase College\, 735 Anderson Hill Rd.\, Purchase\, Purchase\, NY\, 10577\, United States
CATEGORIES:Music
ATTACH;FMTTYPE=image/jpeg:https://www.whattododigital.com/wp-content/uploads/2026/01/PAC_MichaelFeinstein.jpg
END:VEVENT
END:VCALENDAR