BEGIN:VCALENDAR
VERSION:2.0
PRODID:-//What To Do - ECPv6.15.20//NONSGML v1.0//EN
CALSCALE:GREGORIAN
METHOD:PUBLISH
X-WR-CALNAME:What To Do
X-ORIGINAL-URL:https://www.whattododigital.com
X-WR-CALDESC:Events for What To Do
REFRESH-INTERVAL;VALUE=DURATION:PT1H
X-Robots-Tag:noindex
X-PUBLISHED-TTL:PT1H
BEGIN:VTIMEZONE
TZID:America/New_York
BEGIN:DAYLIGHT
TZOFFSETFROM:-0500
TZOFFSETTO:-0400
TZNAME:EDT
DTSTART:20240310T070000
END:DAYLIGHT
BEGIN:STANDARD
TZOFFSETFROM:-0400
TZOFFSETTO:-0500
TZNAME:EST
DTSTART:20241103T060000
END:STANDARD
BEGIN:DAYLIGHT
TZOFFSETFROM:-0500
TZOFFSETTO:-0400
TZNAME:EDT
DTSTART:20250309T070000
END:DAYLIGHT
BEGIN:STANDARD
TZOFFSETFROM:-0400
TZOFFSETTO:-0500
TZNAME:EST
DTSTART:20251102T060000
END:STANDARD
BEGIN:DAYLIGHT
TZOFFSETFROM:-0500
TZOFFSETTO:-0400
TZNAME:EDT
DTSTART:20260308T070000
END:DAYLIGHT
BEGIN:STANDARD
TZOFFSETFROM:-0400
TZOFFSETTO:-0500
TZNAME:EST
DTSTART:20261101T060000
END:STANDARD
END:VTIMEZONE
BEGIN:VEVENT
DTSTART;TZID=America/New_York:20251114T193000
DTEND;TZID=America/New_York:20251114T193000
DTSTAMP:20260425T173137
CREATED:20250630T194704Z
LAST-MODIFIED:20250630T194704Z
UID:87520-1763148600-1763148600@www.whattododigital.com
SUMMARY:The Purchase PAC: Branford Marsalis Quartet
DESCRIPTION:The Purchase PAC: Branford Marsalis Quartet \nA must-see performance for jazz lovers\, and an excellent introduction to the form for the jazz-curious. \nOne of the most influential and revered figures in contemporary music for over four decades\, three-time Grammy Award-winning saxophonist Branford Marsalis returns to The Purchase PAC with the Branford Marsalis Quartet. \nThe Purchase PAC
URL:https://www.whattododigital.com/event/the-purchase-pac-branford-marsalis-quartet/
LOCATION:Performing Arts Center Purchase\, 735 Anderson Hill Rd.\, Purchase\, NY\, 10577\, United States
CATEGORIES:Music
ATTACH;FMTTYPE=image/jpeg:https://www.whattododigital.com/wp-content/uploads/2025/06/PAC_BMQ_12_.jpg
END:VEVENT
END:VCALENDAR