BEGIN:VCALENDAR
VERSION:2.0
PRODID:-//What To Do - ECPv6.15.20//NONSGML v1.0//EN
CALSCALE:GREGORIAN
METHOD:PUBLISH
X-WR-CALNAME:What To Do
X-ORIGINAL-URL:https://www.whattododigital.com
X-WR-CALDESC:Events for What To Do
REFRESH-INTERVAL;VALUE=DURATION:PT1H
X-Robots-Tag:noindex
X-PUBLISHED-TTL:PT1H
BEGIN:VTIMEZONE
TZID:America/New_York
BEGIN:DAYLIGHT
TZOFFSETFROM:-0500
TZOFFSETTO:-0400
TZNAME:EDT
DTSTART:20240310T070000
END:DAYLIGHT
BEGIN:STANDARD
TZOFFSETFROM:-0400
TZOFFSETTO:-0500
TZNAME:EST
DTSTART:20241103T060000
END:STANDARD
BEGIN:DAYLIGHT
TZOFFSETFROM:-0500
TZOFFSETTO:-0400
TZNAME:EDT
DTSTART:20250309T070000
END:DAYLIGHT
BEGIN:STANDARD
TZOFFSETFROM:-0400
TZOFFSETTO:-0500
TZNAME:EST
DTSTART:20251102T060000
END:STANDARD
BEGIN:DAYLIGHT
TZOFFSETFROM:-0500
TZOFFSETTO:-0400
TZNAME:EDT
DTSTART:20260308T070000
END:DAYLIGHT
BEGIN:STANDARD
TZOFFSETFROM:-0400
TZOFFSETTO:-0500
TZNAME:EST
DTSTART:20261101T060000
END:STANDARD
END:VTIMEZONE
BEGIN:VEVENT
DTSTART;TZID=America/New_York:20251004T130000
DTEND;TZID=America/New_York:20251004T180000
DTSTAMP:20260424T094350
CREATED:20250827T161620Z
LAST-MODIFIED:20250827T161620Z
UID:88872-1759582800-1759600800@www.whattododigital.com
SUMMARY:Pound Ridge Harvest Festival
DESCRIPTION:Pound Ridge Harvest Festival \nThe Grammy-nominated blues rock band from L.A.\, The Record Company headlines the music acts at this year’s Oktoberfest style Pound Ridge Harvest Festival. TRC has released six singles that reached the Top 25 on the Adult Alternative and two on the Billboard US Rock Charts. More musical acts include The Soul Rebels and John Praino. \nPound Ridge Harvest Festival
URL:https://www.whattododigital.com/event/pound-ridge-harvest-festival-5/
LOCATION:Pound Ridge Town Park\, Westchester Ave.\, Pound Ridge\, New York\, 10576\, United States
CATEGORIES:Fairs and Festivals
ATTACH;FMTTYPE=image/jpeg:https://www.whattododigital.com/wp-content/uploads/2025/08/POUND-Ridge-Harvest-Fest-copy.jpg
END:VEVENT
END:VCALENDAR