BEGIN:VCALENDAR
VERSION:2.0
PRODID:-//What To Do - ECPv6.15.20//NONSGML v1.0//EN
CALSCALE:GREGORIAN
METHOD:PUBLISH
X-WR-CALNAME:What To Do
X-ORIGINAL-URL:https://www.whattododigital.com
X-WR-CALDESC:Events for What To Do
REFRESH-INTERVAL;VALUE=DURATION:PT1H
X-Robots-Tag:noindex
X-PUBLISHED-TTL:PT1H
BEGIN:VTIMEZONE
TZID:America/New_York
BEGIN:DAYLIGHT
TZOFFSETFROM:-0500
TZOFFSETTO:-0400
TZNAME:EDT
DTSTART:20240310T070000
END:DAYLIGHT
BEGIN:STANDARD
TZOFFSETFROM:-0400
TZOFFSETTO:-0500
TZNAME:EST
DTSTART:20241103T060000
END:STANDARD
BEGIN:DAYLIGHT
TZOFFSETFROM:-0500
TZOFFSETTO:-0400
TZNAME:EDT
DTSTART:20250309T070000
END:DAYLIGHT
BEGIN:STANDARD
TZOFFSETFROM:-0400
TZOFFSETTO:-0500
TZNAME:EST
DTSTART:20251102T060000
END:STANDARD
BEGIN:DAYLIGHT
TZOFFSETFROM:-0500
TZOFFSETTO:-0400
TZNAME:EDT
DTSTART:20260308T070000
END:DAYLIGHT
BEGIN:STANDARD
TZOFFSETFROM:-0400
TZOFFSETTO:-0500
TZNAME:EST
DTSTART:20261101T060000
END:STANDARD
END:VTIMEZONE
BEGIN:VEVENT
DTSTART;TZID=America/New_York:20251109T090000
DTEND;TZID=America/New_York:20251109T090000
DTSTAMP:20260424T184418
CREATED:20251020T163025Z
LAST-MODIFIED:20251020T163025Z
UID:91545-1762678800-1762678800@www.whattododigital.com
SUMMARY:Raven Rocks Run
DESCRIPTION:Raven Rocks Run \nThe Raven Rocks Run is the first new race at Ward Pound Ridge Reservation in nearly 20 years. The race will return for its TENTH running on Sunday\, November 9\, 2025. \nThe race is run on a challenging course with great views\, rocky climbs\, ridgeline trails\, hilly meadows\, ravines\, and the site of the former fire tower. \nRaven Rocks
URL:https://www.whattododigital.com/event/raven-rocks-run/
LOCATION:Ward Pound Ridge Reservation\, Reservation Road\, Cross River\, NY\, 10518\, United States
CATEGORIES:Road Races & Charity Walks
ATTACH;FMTTYPE=image/jpeg:https://www.whattododigital.com/wp-content/uploads/2025/10/Raven-Rocks-2020.jpg
END:VEVENT
END:VCALENDAR