BEGIN:VCALENDAR
VERSION:2.0
PRODID:-//What To Do - ECPv6.15.20//NONSGML v1.0//EN
CALSCALE:GREGORIAN
METHOD:PUBLISH
X-ORIGINAL-URL:https://www.whattododigital.com
X-WR-CALDESC:Events for What To Do
REFRESH-INTERVAL;VALUE=DURATION:PT1H
X-Robots-Tag:noindex
X-PUBLISHED-TTL:PT1H
BEGIN:VTIMEZONE
TZID:America/New_York
BEGIN:DAYLIGHT
TZOFFSETFROM:-0500
TZOFFSETTO:-0400
TZNAME:EDT
DTSTART:20250309T070000
END:DAYLIGHT
BEGIN:STANDARD
TZOFFSETFROM:-0400
TZOFFSETTO:-0500
TZNAME:EST
DTSTART:20251102T060000
END:STANDARD
BEGIN:DAYLIGHT
TZOFFSETFROM:-0500
TZOFFSETTO:-0400
TZNAME:EDT
DTSTART:20260308T070000
END:DAYLIGHT
BEGIN:STANDARD
TZOFFSETFROM:-0400
TZOFFSETTO:-0500
TZNAME:EST
DTSTART:20261101T060000
END:STANDARD
BEGIN:DAYLIGHT
TZOFFSETFROM:-0500
TZOFFSETTO:-0400
TZNAME:EDT
DTSTART:20270314T070000
END:DAYLIGHT
BEGIN:STANDARD
TZOFFSETFROM:-0400
TZOFFSETTO:-0500
TZNAME:EST
DTSTART:20271107T060000
END:STANDARD
END:VTIMEZONE
BEGIN:VEVENT
DTSTART;TZID=America/New_York:20260424T183000
DTEND;TZID=America/New_York:20260424T183000
DTSTAMP:20260423T064620
CREATED:20260330T202938Z
LAST-MODIFIED:20260330T202938Z
UID:94207-1777055400-1777055400@www.whattododigital.com
SUMMARY:Candlelight Concerts: Best of Bridgerton
DESCRIPTION:Candlelight Concerts: Best of Bridgerton on Strings \nCandlelight concerts bring the magic of a live\, multi-sensory musical experience to Westchester County. \nHigh Line String Quarter performs Best of Bridgerton on Strings in Mount Kisco. Surrounded by the soft glow of candlelight\, listen to your favorite melodies from Shondaland’s ‘Bridgerton’ series on Netflix\, reimagined by a talented string ensemble. \nSt. Marks Episcopal Church
URL:https://www.whattododigital.com/event/candlelight-concerts-best-of-bridgerton/
LOCATION:St. Marks Episcopal Church\, 85 E Main St.\, Mount Kisco\, NY\, 10549\, United States
CATEGORIES:Music,Music Classical
ATTACH;FMTTYPE=image/jpeg:https://www.whattododigital.com/wp-content/uploads/2025/10/Candlelight-Concerts-e1760991215468.jpg
END:VEVENT
BEGIN:VEVENT
DTSTART;TZID=America/New_York:20260424T210000
DTEND;TZID=America/New_York:20260424T210000
DTSTAMP:20260423T064620
CREATED:20260330T203308Z
LAST-MODIFIED:20260330T203308Z
UID:94210-1777064400-1777064400@www.whattododigital.com
SUMMARY:Candlelight Concerts: 90's Unplugged
DESCRIPTION:Candlelight Concerts: 90’s Unplugged \nCandlelight concerts bring the magic of a live\, multi-sensory musical experience to Westchester County. \nHigh Line String Quarter performs surrounded by the soft glow of candlelight: \nTentative Program \n\nEverlong – Foo Fighters\nDon’t Speak – No Doubt\nZombie – The Cranberries\nIronic – Alanis Morrissette\nWonderwall – Oasis\nHigh and Dry – Radiohead\nEnter Sandman – Metallica\nUnder the Bridge – Red Hot Chili Peppers\nFly Away – Lenny Kravitz\nHallelujah – Jeff Buckley\nTears in Heaven – Eric Clapton\nSmells Like Teen Spirit – Nirvana\n\nSt. Marks Episcopal Church
URL:https://www.whattododigital.com/event/candlelight-concerts-90s-unplugged/
LOCATION:St. Marks Episcopal Church\, 85 E Main St.\, Mount Kisco\, NY\, 10549\, United States
CATEGORIES:Music,Music Classical
ATTACH;FMTTYPE=image/jpeg:https://www.whattododigital.com/wp-content/uploads/2025/10/Candlelight-Concerts-e1760991215468.jpg
END:VEVENT
END:VCALENDAR