BEGIN:VCALENDAR
VERSION:2.0
PRODID:-//What To Do - ECPv6.15.20//NONSGML v1.0//EN
CALSCALE:GREGORIAN
METHOD:PUBLISH
X-ORIGINAL-URL:https://www.whattododigital.com
X-WR-CALDESC:Events for What To Do
REFRESH-INTERVAL;VALUE=DURATION:PT1H
X-Robots-Tag:noindex
X-PUBLISHED-TTL:PT1H
BEGIN:VTIMEZONE
TZID:America/New_York
BEGIN:DAYLIGHT
TZOFFSETFROM:-0500
TZOFFSETTO:-0400
TZNAME:EDT
DTSTART:20240310T070000
END:DAYLIGHT
BEGIN:STANDARD
TZOFFSETFROM:-0400
TZOFFSETTO:-0500
TZNAME:EST
DTSTART:20241103T060000
END:STANDARD
BEGIN:DAYLIGHT
TZOFFSETFROM:-0500
TZOFFSETTO:-0400
TZNAME:EDT
DTSTART:20250309T070000
END:DAYLIGHT
BEGIN:STANDARD
TZOFFSETFROM:-0400
TZOFFSETTO:-0500
TZNAME:EST
DTSTART:20251102T060000
END:STANDARD
BEGIN:DAYLIGHT
TZOFFSETFROM:-0500
TZOFFSETTO:-0400
TZNAME:EDT
DTSTART:20260308T070000
END:DAYLIGHT
BEGIN:STANDARD
TZOFFSETFROM:-0400
TZOFFSETTO:-0500
TZNAME:EST
DTSTART:20261101T060000
END:STANDARD
END:VTIMEZONE
BEGIN:VEVENT
DTSTART;TZID=America/New_York:20251010T200000
DTEND;TZID=America/New_York:20251010T200000
DTSTAMP:20260424T031615
CREATED:20250825T182507Z
LAST-MODIFIED:20250825T182507Z
UID:88732-1760126400-1760126400@www.whattododigital.com
SUMMARY:Tarrytown Music Hall: The Fab Four
DESCRIPTION:Tarrytown Music Hall: The Fab Four \nThe Emmy Award Winning Fab Four is noted for  their precise attention to detail and note-for-note live renditions of Beatles’ classics such as “Can’t Buy Me Love\,” “Yesterday\,” “A Day In The Life\,” “Twist And Shout\,” “Here Comes The Sun\,” and “Hey Jude.” \nTheir stage performances include three costume changes representing every era of the Beatles ever-changing career. \nTarrytown Music Hall
URL:https://www.whattododigital.com/event/tarrytown-music-hall-the-fab-four/
LOCATION:Tarrytown Music Hall
CATEGORIES:Music
ATTACH;FMTTYPE=image/jpeg:https://www.whattododigital.com/wp-content/uploads/2025/08/TMH_FabFour.jpeg
END:VEVENT
END:VCALENDAR