BEGIN:VCALENDAR
VERSION:2.0
PRODID:-//What To Do - ECPv6.15.20//NONSGML v1.0//EN
CALSCALE:GREGORIAN
METHOD:PUBLISH
X-WR-CALNAME:What To Do
X-ORIGINAL-URL:https://www.whattododigital.com
X-WR-CALDESC:Events for What To Do
REFRESH-INTERVAL;VALUE=DURATION:PT1H
X-Robots-Tag:noindex
X-PUBLISHED-TTL:PT1H
BEGIN:VTIMEZONE
TZID:America/New_York
BEGIN:DAYLIGHT
TZOFFSETFROM:-0500
TZOFFSETTO:-0400
TZNAME:EDT
DTSTART:20240310T070000
END:DAYLIGHT
BEGIN:STANDARD
TZOFFSETFROM:-0400
TZOFFSETTO:-0500
TZNAME:EST
DTSTART:20241103T060000
END:STANDARD
BEGIN:DAYLIGHT
TZOFFSETFROM:-0500
TZOFFSETTO:-0400
TZNAME:EDT
DTSTART:20250309T070000
END:DAYLIGHT
BEGIN:STANDARD
TZOFFSETFROM:-0400
TZOFFSETTO:-0500
TZNAME:EST
DTSTART:20251102T060000
END:STANDARD
BEGIN:DAYLIGHT
TZOFFSETFROM:-0500
TZOFFSETTO:-0400
TZNAME:EDT
DTSTART:20260308T070000
END:DAYLIGHT
BEGIN:STANDARD
TZOFFSETFROM:-0400
TZOFFSETTO:-0500
TZNAME:EST
DTSTART:20261101T060000
END:STANDARD
END:VTIMEZONE
BEGIN:VEVENT
DTSTART;TZID=America/New_York:20251017T200000
DTEND;TZID=America/New_York:20251017T200000
DTSTAMP:20260424T031238
CREATED:20250825T185435Z
LAST-MODIFIED:20250825T185435Z
UID:88740-1760731200-1760731200@www.whattododigital.com
SUMMARY:Tarrytown Music Hall: Marty Stuart and His Famous Superlatives
DESCRIPTION:Tarrytown Music Hall: Marty Stuart and His Famous Superlatives with Special Guest Richard Shindell \nMarty Stuar\, who was featured in Ken Burns’ 13-hour Country Music documentary\, got his start when he was invited to tour with Lester Flatt at the age of 14.  He then toured with Johnny Cash’s road band before beginning work as a solo artist in the early 1980s. A five-time Grammy Award-winner\, Stuart has recorded over 20 studio albums\, and has charted over 30 times on the Billboard Hot Country Songs charts. His highest chart entry is “The Whiskey Ain’t Workin'”\, a duet with Travis Tritt. \nTarrytown Music Hall
URL:https://www.whattododigital.com/event/tarrytown-music-hall-marty-stuart-and-his-famous-superlatives/
CATEGORIES:Music
ATTACH;FMTTYPE=image/jpeg:https://www.whattododigital.com/wp-content/uploads/2025/08/TMH_MartyStuart.jpeg
END:VEVENT
END:VCALENDAR