BEGIN:VCALENDAR
VERSION:2.0
PRODID:-//What To Do - ECPv6.15.20//NONSGML v1.0//EN
CALSCALE:GREGORIAN
METHOD:PUBLISH
X-ORIGINAL-URL:https://www.whattododigital.com
X-WR-CALDESC:Events for What To Do
REFRESH-INTERVAL;VALUE=DURATION:PT1H
X-Robots-Tag:noindex
X-PUBLISHED-TTL:PT1H
BEGIN:VTIMEZONE
TZID:America/New_York
BEGIN:DAYLIGHT
TZOFFSETFROM:-0500
TZOFFSETTO:-0400
TZNAME:EDT
DTSTART:20240310T070000
END:DAYLIGHT
BEGIN:STANDARD
TZOFFSETFROM:-0400
TZOFFSETTO:-0500
TZNAME:EST
DTSTART:20241103T060000
END:STANDARD
BEGIN:DAYLIGHT
TZOFFSETFROM:-0500
TZOFFSETTO:-0400
TZNAME:EDT
DTSTART:20250309T070000
END:DAYLIGHT
BEGIN:STANDARD
TZOFFSETFROM:-0400
TZOFFSETTO:-0500
TZNAME:EST
DTSTART:20251102T060000
END:STANDARD
BEGIN:DAYLIGHT
TZOFFSETFROM:-0500
TZOFFSETTO:-0400
TZNAME:EDT
DTSTART:20260308T070000
END:DAYLIGHT
BEGIN:STANDARD
TZOFFSETFROM:-0400
TZOFFSETTO:-0500
TZNAME:EST
DTSTART:20261101T060000
END:STANDARD
END:VTIMEZONE
BEGIN:VEVENT
DTSTART;TZID=America/New_York:20251024T200000
DTEND;TZID=America/New_York:20251024T200000
DTSTAMP:20260424T031615
CREATED:20250624T204602Z
LAST-MODIFIED:20250624T204602Z
UID:87434-1761336000-1761336000@www.whattododigital.com
SUMMARY:Tarrytown Music Hall: Tommy Emmanuel CGP
DESCRIPTION:Tarrytown Music Hall: Tommy Emmanuel CGP \nWorld renowned guitar player Tommy Emmanuel has a Grammy Award\, multiple ARIA Awards and countless accolades\, but nothing means more to Tommy than the three letters Chet Atkins designated at the end of Tommy’s name: C.G.P. The title of Certified Guitar Player. \nTarrytown Music Hall
URL:https://www.whattododigital.com/event/tarrytown-music-hall-tommy-emmanuel-2/
CATEGORIES:Music
ATTACH;FMTTYPE=image/jpeg:https://www.whattododigital.com/wp-content/uploads/2025/06/TMH_Tommy-Emmanuel.jpg
END:VEVENT
END:VCALENDAR