BEGIN:VCALENDAR
VERSION:2.0
PRODID:-//What To Do - ECPv6.15.20//NONSGML v1.0//EN
CALSCALE:GREGORIAN
METHOD:PUBLISH
X-ORIGINAL-URL:https://www.whattododigital.com
X-WR-CALDESC:Events for What To Do
REFRESH-INTERVAL;VALUE=DURATION:PT1H
X-Robots-Tag:noindex
X-PUBLISHED-TTL:PT1H
BEGIN:VTIMEZONE
TZID:America/New_York
BEGIN:DAYLIGHT
TZOFFSETFROM:-0500
TZOFFSETTO:-0400
TZNAME:EDT
DTSTART:20240310T070000
END:DAYLIGHT
BEGIN:STANDARD
TZOFFSETFROM:-0400
TZOFFSETTO:-0500
TZNAME:EST
DTSTART:20241103T060000
END:STANDARD
BEGIN:DAYLIGHT
TZOFFSETFROM:-0500
TZOFFSETTO:-0400
TZNAME:EDT
DTSTART:20250309T070000
END:DAYLIGHT
BEGIN:STANDARD
TZOFFSETFROM:-0400
TZOFFSETTO:-0500
TZNAME:EST
DTSTART:20251102T060000
END:STANDARD
BEGIN:DAYLIGHT
TZOFFSETFROM:-0500
TZOFFSETTO:-0400
TZNAME:EDT
DTSTART:20260308T070000
END:DAYLIGHT
BEGIN:STANDARD
TZOFFSETFROM:-0400
TZOFFSETTO:-0500
TZNAME:EST
DTSTART:20261101T060000
END:STANDARD
END:VTIMEZONE
BEGIN:VEVENT
DTSTART;TZID=America/New_York:20251031T200000
DTEND;TZID=America/New_York:20251031T200000
DTSTAMP:20260424T031614
CREATED:20250624T204027Z
LAST-MODIFIED:20250624T204027Z
UID:87427-1761940800-1761940800@www.whattododigital.com
SUMMARY:Tarrytown Music Hall: The Mavericks
DESCRIPTION:Tarrytown Music Hall: The Mavericks \nThe Mavericks have defined the own genre of Multi-cultural Americana rock with Tex-Mex twang\, Cuban rhythms\, Jamaican ska\, and other Latin influences. \nTarrytown Music Hall
URL:https://www.whattododigital.com/event/tarrytown-music-hall-the-mavericks-2/
LOCATION:Tarrytown Music Hall
CATEGORIES:Music
ATTACH;FMTTYPE=image/jpeg:https://www.whattododigital.com/wp-content/uploads/2025/06/TMH_Mavericks.jpeg
END:VEVENT
BEGIN:VEVENT
DTSTART;TZID=America/New_York:20251031T200000
DTEND;TZID=America/New_York:20251031T200000
DTSTAMP:20260424T031614
CREATED:20250807T151729Z
LAST-MODIFIED:20250807T151729Z
UID:88119-1761940800-1761940800@www.whattododigital.com
SUMMARY:Tarrytown Music Hall: The Mavericks
DESCRIPTION:Tarrytown Music Hall: The Mavericks \nThe world’s greatest Tex-Mex/Cuban Rock/Country/RB dance band returns to The Tarrytwon Music Hall for two nights of “DAnce the Night Away\,” “All You Ever Do is Let Me Down\,” and “Back in Your Arms Again.” \nTarrytown Music Hall
URL:https://www.whattododigital.com/event/tarrytown-music-hall-the-mavericks-3/
LOCATION:Tarrytown Music Hall
CATEGORIES:Music
END:VEVENT
END:VCALENDAR