BEGIN:VCALENDAR
VERSION:2.0
PRODID:-//What To Do - ECPv6.15.20//NONSGML v1.0//EN
CALSCALE:GREGORIAN
METHOD:PUBLISH
X-ORIGINAL-URL:https://www.whattododigital.com
X-WR-CALDESC:Events for What To Do
REFRESH-INTERVAL;VALUE=DURATION:PT1H
X-Robots-Tag:noindex
X-PUBLISHED-TTL:PT1H
BEGIN:VTIMEZONE
TZID:America/New_York
BEGIN:DAYLIGHT
TZOFFSETFROM:-0500
TZOFFSETTO:-0400
TZNAME:EDT
DTSTART:20240310T070000
END:DAYLIGHT
BEGIN:STANDARD
TZOFFSETFROM:-0400
TZOFFSETTO:-0500
TZNAME:EST
DTSTART:20241103T060000
END:STANDARD
BEGIN:DAYLIGHT
TZOFFSETFROM:-0500
TZOFFSETTO:-0400
TZNAME:EDT
DTSTART:20250309T070000
END:DAYLIGHT
BEGIN:STANDARD
TZOFFSETFROM:-0400
TZOFFSETTO:-0500
TZNAME:EST
DTSTART:20251102T060000
END:STANDARD
BEGIN:DAYLIGHT
TZOFFSETFROM:-0500
TZOFFSETTO:-0400
TZNAME:EDT
DTSTART:20260308T070000
END:DAYLIGHT
BEGIN:STANDARD
TZOFFSETFROM:-0400
TZOFFSETTO:-0500
TZNAME:EST
DTSTART:20261101T060000
END:STANDARD
END:VTIMEZONE
BEGIN:VEVENT
DTSTART;TZID=America/New_York:20251109T150000
DTEND;TZID=America/New_York:20251109T150000
DTSTAMP:20260423T234055
CREATED:20251027T192915Z
LAST-MODIFIED:20251027T192915Z
UID:91781-1762700400-1762700400@www.whattododigital.com
SUMMARY:Tarrytown Music Hall: Westchester Symphonic Winds
DESCRIPTION:Tarrytown Music Hall: Westchester Symphonic Winds: Sonic Journeys \nWestchester’s Symphonic Winds new season of music for wind ensemble kicks off with a grand tour of Italy in their concert\, “Sonic Journeys.” \nThe program will begin with the captivating Intrada by Steve Cohen and will also feature the majestic tone poem The Pines of Rome by Ottorino Respighi. \nThis concert will feature Schilke Trumpet Performing Artist\, Morris Northcutt. \nTarrytown Music Hall
URL:https://www.whattododigital.com/event/tarrytown-music-hall-westchester-symphonic-winds/
LOCATION:Tarrytown Music Hall
CATEGORIES:Music Classical
ATTACH;FMTTYPE=image/jpeg:https://www.whattododigital.com/wp-content/uploads/2025/10/WSWSonicJourneys_960x400.jpeg
END:VEVENT
END:VCALENDAR