BEGIN:VCALENDAR
VERSION:2.0
PRODID:-//What To Do - ECPv6.15.20//NONSGML v1.0//EN
CALSCALE:GREGORIAN
METHOD:PUBLISH
X-WR-CALNAME:What To Do
X-ORIGINAL-URL:https://www.whattododigital.com
X-WR-CALDESC:Events for What To Do
REFRESH-INTERVAL;VALUE=DURATION:PT1H
X-Robots-Tag:noindex
X-PUBLISHED-TTL:PT1H
BEGIN:VTIMEZONE
TZID:America/New_York
BEGIN:DAYLIGHT
TZOFFSETFROM:-0500
TZOFFSETTO:-0400
TZNAME:EDT
DTSTART:20250309T070000
END:DAYLIGHT
BEGIN:STANDARD
TZOFFSETFROM:-0400
TZOFFSETTO:-0500
TZNAME:EST
DTSTART:20251102T060000
END:STANDARD
BEGIN:DAYLIGHT
TZOFFSETFROM:-0500
TZOFFSETTO:-0400
TZNAME:EDT
DTSTART:20260308T070000
END:DAYLIGHT
BEGIN:STANDARD
TZOFFSETFROM:-0400
TZOFFSETTO:-0500
TZNAME:EST
DTSTART:20261101T060000
END:STANDARD
BEGIN:DAYLIGHT
TZOFFSETFROM:-0500
TZOFFSETTO:-0400
TZNAME:EDT
DTSTART:20270314T070000
END:DAYLIGHT
BEGIN:STANDARD
TZOFFSETFROM:-0400
TZOFFSETTO:-0500
TZNAME:EST
DTSTART:20271107T060000
END:STANDARD
END:VTIMEZONE
BEGIN:VEVENT
DTSTART;TZID=America/New_York:20260207T130000
DTEND;TZID=America/New_York:20260207T130000
DTSTAMP:20260423T131931
CREATED:20260108T163326Z
LAST-MODIFIED:20260108T163326Z
UID:93436-1770469200-1770469200@www.whattododigital.com
SUMMARY:Tarrytown Music Hall: Curious George: The Golden Meatball
DESCRIPTION:Tarrytown Music Hall: Curious George: The Golden Meatball \nJoin Curious George\, the inquisitive\, engaging monkey-star of books\, movies and the award-winning PBS television show in a brand new musical. Curious George: The Golden Meatball TYA is a loveable adventure\, specifically designed for young audiences\, that is sure to leave your audiences singing and swinging down the aisles. \nTarrytown Music Hall
URL:https://www.whattododigital.com/event/tarrytown-music-hall-curious-george-the-golden-meatball/
CATEGORIES:Kids
ATTACH;FMTTYPE=image/jpeg:https://www.whattododigital.com/wp-content/uploads/2026/01/TMH_CuriousGeorge25fb.jpeg
END:VEVENT
END:VCALENDAR