BEGIN:VCALENDAR
VERSION:2.0
PRODID:-//What To Do - ECPv6.15.20//NONSGML v1.0//EN
CALSCALE:GREGORIAN
METHOD:PUBLISH
X-WR-CALNAME:What To Do
X-ORIGINAL-URL:https://www.whattododigital.com
X-WR-CALDESC:Events for What To Do
REFRESH-INTERVAL;VALUE=DURATION:PT1H
X-Robots-Tag:noindex
X-PUBLISHED-TTL:PT1H
BEGIN:VTIMEZONE
TZID:America/New_York
BEGIN:DAYLIGHT
TZOFFSETFROM:-0500
TZOFFSETTO:-0400
TZNAME:EDT
DTSTART:20240310T070000
END:DAYLIGHT
BEGIN:STANDARD
TZOFFSETFROM:-0400
TZOFFSETTO:-0500
TZNAME:EST
DTSTART:20241103T060000
END:STANDARD
BEGIN:DAYLIGHT
TZOFFSETFROM:-0500
TZOFFSETTO:-0400
TZNAME:EDT
DTSTART:20250309T070000
END:DAYLIGHT
BEGIN:STANDARD
TZOFFSETFROM:-0400
TZOFFSETTO:-0500
TZNAME:EST
DTSTART:20251102T060000
END:STANDARD
BEGIN:DAYLIGHT
TZOFFSETFROM:-0500
TZOFFSETTO:-0400
TZNAME:EDT
DTSTART:20260308T070000
END:DAYLIGHT
BEGIN:STANDARD
TZOFFSETFROM:-0400
TZOFFSETTO:-0500
TZNAME:EST
DTSTART:20261101T060000
END:STANDARD
END:VTIMEZONE
BEGIN:VEVENT
DTSTART;TZID=America/New_York:20250929T070000
DTEND;TZID=America/New_York:20250929T190000
DTSTAMP:20260424T081606
CREATED:20250929T202206Z
LAST-MODIFIED:20250929T202206Z
UID:91295-1759129200-1759172400@www.whattododigital.com
SUMMARY:The Great Jack-O-Lantern Blaze
DESCRIPTION:The Great Jack-O-Lantern Blaze \nMeander through an 18th-century landscape and discover a breathtaking display of more than 7\,000 illuminated jack o’ lanterns—all designed and hand-carved on site. Complete with synchronized lighting and an original soundtrack\, this immersive\, one-of-a-kind event is not to be missed! \nThis event is held on select nights from September 121 to November 16. \nIncluding: seven nights a week from September 29 to November 2. \nThe Great Jack-O-Lantern Blaze \n  \n 
URL:https://www.whattododigital.com/event/the-great-jack-o-lantern-blaze/
LOCATION:Van Cortland Manor\, 525 S Riverside\, Croton On Hudson\, NY\, 10520\, United States
CATEGORIES:Halloween
ATTACH;FMTTYPE=image/jpeg:https://www.whattododigital.com/wp-content/uploads/2023/09/Blaze.jpg
END:VEVENT
END:VCALENDAR